Workbook
Name adfadf: '[1]4.1. táj.'!#REF!
Name beruh: '[1]4.1. táj.'!#REF!
Name beruh: '[1]4.1. táj.'!#REF!
Name beruh: '[1]4.1. táj.'!#REF!
Name beruh: '[1]4.1. táj.'!#REF!
Name beruh: '[1]4.1. táj.'!#REF!
Name beruh: '[1]4.1. táj.'!#REF!
Name beruh: '[1]4.1. táj.'!#REF!
Name beruh: '[1]4.1. táj.'!#REF!
Name beruh: '[1]4.1. táj.'!#REF!
Name beruh: '[1]4.1. táj.'!#REF!
Name intézmények: '[2]4.1. táj.'!#REF!
Name intézmények: '[2]4.1. táj.'!#REF!
Name intézmények: '[2]4.1. táj.'!#REF!
Name intézmények: '[2]4.1. táj.'!#REF!
Name intézmények: '[2]4.1. táj.'!#REF!
Name intézmények: '[2]4.1. táj.'!#REF!
Name intézmények: '[2]4.1. táj.'!#REF!
Name intézmények: '[2]4.1. táj.'!#REF!
Name intézmények: '[2]4.1. táj.'!#REF!
Name intézmények: '[2]4.1. táj.'!#REF!
Name qewrqewr: '[1]4.1. táj.'!#REF!
Name qewrqewr: '[1]4.1. táj.'!#REF!
Name qewrqewr: '[1]4.1. táj.'!#REF!
Name qewrqewr: '[1]4.1. táj.'!#REF!
Name qewrqewr: '[1]4.1. táj.'!#REF!
Name qewrqewr: '[1]4.1. táj.'!#REF!
Name qewrqewr: '[1]4.1. táj.'!#REF!

Sheet 1.Bev-kiad.
F1: 1. melléklet
F2: a 12/2026.(X.2.) önkormányzati rendelethez
F3: 1. melléklet az 5/2026.(II.23.) önkormányzati rendelethez
A5: Balatonföldvár Város Önkormányzatának
A6: 2026. évi összevont mérlege
F7: ezer Ft-ban
A8: Rovat | B8: Önkormányzati bevételek - kiadások | C8: 2025. évi teljesítés | D8: 2026. évi eredeti előirányzat | E8: előirányzat változás | F8: Módosított előirányzat 2026.10.havi | G8: előirányzat változás | I8: előirányzat változás | K8: előirányzat változás
A9: B1-7 | B9: A. K ö l t s é g v e t é s i b e v é t e l e k | C9: =SUM(C10:C51) -> 1995619 | D9: =SUM(D10:D51) -> 2584205 | E9: =F9-D9 -> -80594 | F9: =SUM(F10:F51) -> 2503611 | G9: =H9-F9 -> -2503611 | H9: =SUM(H10:H51) -> 0 | I9: =J9-H9 -> 0 | J9: =SUM(J10:J51) -> 0 | K9: =L9-J9 -> 0 | L9: =SUM(L10:L51) -> 0 | M9: =SUM(M10:M51) -> 0
A10: B1 | B10: I. Működési célú támogatások államháztartáson belülről | C10: =SUM('2.működés'!C9) -> 769186 | D10: =SUM('2.működés'!D9) -> 895072 | E10: =F10-D10 -> 9087 | F10: =SUM('2.működés'!F9) -> 904159 | G10: =H10-F10 -> -904159 | H10: =SUM('2.működés'!H9) -> 0 | I10: =J10-H10 -> 0 | J10: =SUM('2.működés'!J9) -> 0 | K10: =L10-J10 -> 0 | L10: =SUM('2.működés'!L9) -> 0 | M10: =SUM('2.működés'!M9) -> 0
A11: B11 | B11: 1.1. Önkormányzatok működési támogatásai | E11: =F11-D11 -> 0 | G11: =H11-F11 -> 0 | I11: =J11-H11 -> 0 | K11: =L11-J11 -> 0
A12: B12-16 | B12: 1.2. Egyéb működési célú támogatások | E12: =F12-D12 -> 0 | G12: =H12-F12 -> 0 | I12: =J12-H12 -> 0 | K12: =L12-J12 -> 0
A13: B13 | B13: 1.3. Működési és garancia- és kezességvállalásból származó bevételek | E13: =F13-D13 -> 0 | G13: =H13-F13 -> 0 | I13: =J13-H13 -> 0 | K13: =L13-J13 -> 0
A14: B14 | B14: 1.4. Működési célú visszatérítendő támogatások, kölcsönök visszatérülése | E14: =F14-D14 -> 0 | G14: =H14-F14 -> 0 | I14: =J14-H14 -> 0 | K14: =L14-J14 -> 0
A15: B15 | B15: 1.5. Működési célú visszatérítendő támogatások, kölcsönök igénybevétele | E15: =F15-D15 -> 0 | G15: =H15-F15 -> 0 | I15: =J15-H15 -> 0 | K15: =L15-J15 -> 0
A16: B16 | B16: 1.6. Egyéb működési célú támogatások | E16: =F16-D16 -> 0 | G16: =H16-F16 -> 0 | I16: =J16-H16 -> 0 | K16: =L16-J16 -> 0
A17: B2 | B17: II. Felhalmozási célú támogatások államháztartáson belülről | C17: =SUM('3.felh'!C13) -> 394384 | D17: =SUM('3.felh'!D13) -> 526642 | E17: =F17-D17 -> 22225 | F17: =SUM('3.felh'!F13) -> 548867 | G17: =H17-F17 -> -548867 | H17: =SUM('3.felh'!H13) -> 0 | I17: =J17-H17 -> 0 | J17: =SUM('3.felh'!J13) -> 0 | K17: =L17-J17 -> 0 | L17: =SUM('3.felh'!L13) -> 0 | M17: =SUM('3.felh'!M13) -> 0
A18: B21 | B18: 2.1. Felhalmozási célú önkormányzati támogatások | E18: =F18-D18 -> 0 | G18: =H18-F18 -> 0 | I18: =J18-H18 -> 0 | K18: =L18-J18 -> 0
A19: B22-25 | B19: 2.2. Egyéb felhalmozási célú támogatások | E19: =F19-D19 -> 0 | G19: =H19-F19 -> 0 | I19: =J19-H19 -> 0 | K19: =L19-J19 -> 0
A20: B23 | B20: 2.3. Felhalmozási célú visszatérítendő támogatások, kölcsönök visszatérülése | E20: =F20-D20 -> 0 | G20: =H20-F20 -> 0 | I20: =J20-H20 -> 0 | K20: =L20-J20 -> 0
A21: B24 | B21: 2.4. Felhalmozási célú visszatérítendő támogatások, kölcsönök igénybevétele | E21: =F21-D21 -> 0 | G21: =H21-F21 -> 0 | I21: =J21-H21 -> 0 | K21: =L21-J21 -> 0
A22: B25 | B22: 2.5. Egyéb felhalmozási célú támogatások | E22: =F22-D22 -> 0 | G22: =H22-F22 -> 0 | I22: =J22-H22 -> 0 | K22: =L22-J22 -> 0
A23: B3 | B23: III. Közhatalmi bevételek | C23: =SUM('2.működés'!C76) -> 738279 | D23: =SUM('2.működés'!D76) -> 875000 | E23: =F23-D23 -> 0 | F23: =SUM('2.működés'!F76) -> 875000 | G23: =H23-F23 -> -875000 | H23: =SUM('2.működés'!H76) -> 0 | I23: =J23-H23 -> 0 | J23: =SUM('2.működés'!J76) -> 0 | K23: =L23-J23 -> 0 | L23: =SUM('2.működés'!L76) -> 0 | M23: =SUM('2.működés'!M76) -> 0
A24: B31 | B24: 3.1. Jövedelemadók | E24: =F24-D24 -> 0 | G24: =H24-F24 -> 0 | I24: =J24-H24 -> 0 | K24: =L24-J24 -> 0
A25: B32 | B25: 3.2. Szociális hozzájárulási adók és járulékok | E25: =F25-D25 -> 0 | G25: =H25-F25 -> 0 | I25: =J25-H25 -> 0 | K25: =L25-J25 -> 0
A26: B33 | B26: 3.3. Bérhez és foglalkoztatáshoz kapcsolódó adók | E26: =F26-D26 -> 0 | G26: =H26-F26 -> 0 | I26: =J26-H26 -> 0 | K26: =L26-J26 -> 0
A27: B34 | B27: 3.4. Vagyoni típusú adók (építményadó, telekadó) | E27: =F27-D27 -> 0 | G27: =H27-F27 -> 0 | I27: =J27-H27 -> 0 | K27: =L27-J27 -> 0
A28: B35 | B28: 3.5. Termékek és szolgáltatások adói (iparűzési adó, gépjárműadó) | E28: =F28-D28 -> 0 | G28: =H28-F28 -> 0 | I28: =J28-H28 -> 0 | K28: =L28-J28 -> 0
A29: B36 | B29: 3.6. Egyéb közhatalmi bevételek | E29: =F29-D29 -> 0 | G29: =H29-F29 -> 0 | I29: =J29-H29 -> 0 | K29: =L29-J29 -> 0
A30: B4 | B30: IV. Működési bevételek | C30: =SUM('2.működés'!C93) -> 52464 | D30: =SUM('2.működés'!D93) -> 217196 | E30: =F30-D30 -> -141387 | F30: =SUM('2.működés'!F93) -> 75809 | G30: =H30-F30 -> -75809 | H30: =SUM('2.működés'!H93) -> 0 | I30: =J30-H30 -> 0 | J30: =SUM('2.működés'!J93) -> 0 | K30: =L30-J30 -> 0 | L30: =SUM('2.működés'!L93) -> 0 | M30: =SUM('2.működés'!M93) -> 0
A31: B401 | B31: 4.1. Készletértékesítés ellenértéke | E31: =F31-D31 -> 0 | G31: =H31-F31 -> 0 | I31: =J31-H31 -> 0 | K31: =L31-J31 -> 0
A32: B402 | B32: 4.2. Szolgáltatások ellenértéke | E32: =F32-D32 -> 0 | G32: =H32-F32 -> 0 | I32: =J32-H32 -> 0 | K32: =L32-J32 -> 0
A33: B403 | B33: 4.3. Közvetített szolgáltatások ellenértéke | E33: =F33-D33 -> 0 | G33: =H33-F33 -> 0 | I33: =J33-H33 -> 0 | K33: =L33-J33 -> 0
A34: B404 | B34: 4.4. Tulajdonosi bevételek | E34: =F34-D34 -> 0 | G34: =H34-F34 -> 0 | I34: =J34-H34 -> 0 | K34: =L34-J34 -> 0
A35: B405 | B35: 4.5. Ellátási díjak | E35: =F35-D35 -> 0 | G35: =H35-F35 -> 0 | I35: =J35-H35 -> 0 | K35: =L35-J35 -> 0
A36: B406 | B36: 4.6. Kiszámlázott ÁFA | E36: =F36-D36 -> 0 | G36: =H36-F36 -> 0 | I36: =J36-H36 -> 0 | K36: =L36-J36 -> 0
A37: B407 | B37: 4.7. ÁFA visszatérítése | E37: =F37-D37 -> 0 | G37: =H37-F37 -> 0 | I37: =J37-H37 -> 0 | K37: =L37-J37 -> 0
A38: B408 | B38: 4.8. Kamatbevételek | E38: =F38-D38 -> 0 | G38: =H38-F38 -> 0 | I38: =J38-H38 -> 0 | K38: =L38-J38 -> 0
A39: B409 | B39: 4.9. Egyéb pénzügyi műveletek bevételei | E39: =F39-D39 -> 0 | G39: =H39-F39 -> 0 | I39: =J39-H39 -> 0 | K39: =L39-J39 -> 0
A40: B410 | B40: 4.10. Egyéb működési bevételek | E40: =F40-D40 -> 0 | G40: =H40-F40 -> 0 | I40: =J40-H40 -> 0 | K40: =L40-J40 -> 0
A41: B5 | B41: V. Felhalmozási bevételek | C41: =SUM('3.felh'!C28) -> 400 | D41: =SUM('3.felh'!D28) -> 30000 | E41: =F41-D41 -> 29481 | F41: =SUM('3.felh'!F28) -> 59481 | G41: =H41-F41 -> -59481 | H41: =SUM('3.felh'!H28) -> 0 | I41: =J41-H41 -> 0 | J41: =SUM('3.felh'!J28) -> 0 | K41: =L41-J41 -> 0 | L41: =SUM('3.felh'!L28) -> 0 | M41: =SUM('3.felh'!M28) -> 0
...

Sheet 2.működés
F1: 2. melléklet
F2: ='1.Bev-kiad.'!F2 -> a 12/2026.(X.2.) önkormányzati rendelethez
F3: 2. melléklet az 5/2026.(II.23.) önkormányzati rendelethez
A4: Balatonföldvár Város Önkormányzatának
A5: 2026. évi működési célú bevételei, kiadásai
F6: ezer Ft-ban
A7: Rovat | B7: Működési bevételek - kiadások | C7: ='1.Bev-kiad.'!C8 -> 2025. évi teljesítés | D7: ='1.Bev-kiad.'!D8 -> 2026. évi eredeti előirányzat | E7: előirányzat változás | F7: ='1.Bev-kiad.'!F8 -> Módosított előirányzat 2026.10.havi | G7: előirányzat változás | H7: ='1.Bev-kiad.'!H8 -> 0 | I7: előirányzat változás | J7: ='1.Bev-kiad.'!J8 -> 0 | K7: előirányzat változás | L7: ='1.Bev-kiad.'!L8 -> 0 | M7: ='1.Bev-kiad.'!M8 -> 0
A8: B1-7 | B8: A. K ö l t s é g v e t é s i b e v é t e l e k | C8: =SUM(C9+C76+C93+C105) -> 1589734 | D8: =SUM(D9+D76+D93+D105) -> 2017268 | E8: =F8-D8 -> -132300 | F8: =SUM(F9+F76+F93+F105) -> 1884968 | G8: =H8-F8 -> -1884968 | H8: =SUM(H9+H76+H93+H105) -> 0 | I8: =J8-H8 -> 0 | J8: =SUM(J9+J76+J93+J105) -> 0 | K8: =L8-J8 -> 0 | L8: =SUM(L9+L76+L93+L105) -> 0 | M8: =SUM(M9+M76+M93+M105) -> 0
A9: B1 | B9: I. Működési célú támogatások államháztartáson belülről | C9: =C10+C62 -> 769186 | D9: =D10+D62 -> 895072 | E9: =F9-D9 -> 9087 | F9: =F10+F62 -> 904159 | G9: =H9-F9 -> -904159 | H9: =H10+H62 -> 0 | I9: =J9-H9 -> 0 | J9: =J10+J62 -> 0 | K9: =L9-J9 -> 0 | L9: =L10+L62 -> 0 | M9: =M10+M62 -> 0 | R9: =R10+R62 -> 902833000
A10: B11 | B10: 1. A helyi önkormányzatok általános működésének és ágazati feladatainak támogatása | C10: =C11+C25+C26+C37+C43+C47+C61 -> 716735 | D10: =D11+D25+D26+D37+D43+D47+D61 -> 825291 | E10: =F10-D10 -> 9106 | F10: =F11+F25+F26+F37+F43+F47+F61 -> 834397 | G10: =H10-F10 -> -834397 | H10: =H11+H25+H26+H37+H43+H47+H61 -> 0 | I10: =J10-H10 -> 0 | J10: =J11+J25+J26+J37+J43+J47+J61 -> 0 | K10: =L10-J10 -> 0 | L10: =L11+L25+L26+L37+L43+L47+L61 -> 0 | M10: =M11+M25+M26+M37+M43+M47+M61 -> 0 | R10: =R11+R25+R26+R37+R43+R47+R61 -> 831499478
A11: B111 | B11: 1.1. A települési önkormányzatok működésének általános támogatása | C11: =C12+C21+C22+C24+C23 -> 253473 | D11: =D12+D21+D22+D24+D23 -> 285807 | E11: =F11-D11 -> 13589 | F11: =F12+F21+F22+F24+F23 -> 299396 | G11: =H11-F11 -> -299396 | H11: =H12+H21+H22+H24+H23 -> 0 | I11: =J11-H11 -> 0 | J11: =J12+J21+J22+J24+J23 -> 0 | K11: =L11-J11 -> 0 | L11: =L12+L21+L22+L24+L23 -> 0 | M11: =M12+M21+M22+M24+M23 -> 0 | R11: =R12+R21+R22+R24+R23 -> 299396837
B12: 1.1.1. A települési önkormányzatok működésének támogatása | C12: =SUM(C13:C20) -> 238794 | D12: =SUM(D13:D20) -> 285807 | E12: =F12-D12 -> 0 | F12: =SUM(F13:F20) -> 285807 | G12: =H12-F12 -> -285807 | H12: =SUM(H13:H20) -> 0 | I12: =J12-H12 -> 0 | J12: =SUM(J13:J20) -> 0 | K12: =L12-J12 -> 0 | L12: =SUM(L13:L20) -> 0 | M12: =SUM(M13:M20) -> 0 | R12: =SUM(R13:R20) -> 285807229
B13: 1.1.1.1. Önkormányzati hivatal működésének támogatása | C13: =152912+1860+11783 -> 166555 | D13: 217134 | E13: =F13-D13 -> 0 | F13: 217134 | G13: =H13-F13 -> -217134 | I13: =J13-H13 -> 0 | K13: =L13-J13 -> 0 | R13: 217133934
B14: 1.1.1.2. Településüzemeltetés - zöldterület-gazdálkodás támogatása (Nonprofit Kft.) | C14: =8988 -> 8988 | D14: =8988 -> 8988 | E14: =F14-D14 -> 0 | F14: =8988 -> 8988 | G14: =H14-F14 -> -8988 | I14: =J14-H14 -> 0 | K14: =L14-J14 -> 0 | R14: 8988200
B15: 1.1.1.3.1 Településüzemeltetés - közvilágítás támogatása | C15: 24120 | D15: 44944 | E15: =F15-D15 -> 0 | F15: 44944 | G15: =H15-F15 -> -44944 | I15: =J15-H15 -> 0 | K15: =L15-J15 -> 0 | R15: 44944000
B16: 1.1.1.3.2 Településüzemeltetés - közvilágítás üzemeltetési támogatása | C16: 24480 | D16: 0 | E16: =F16-D16 -> 0 | F16: 0 | G16: =H16-F16 -> 0 | I16: =J16-H16 -> 0 | K16: =L16-J16 -> 0
B17: 1.1.1.4. Településüzemeltetés - köztemető támogatása (Nonprofit Kft.) | C17: =100 -> 100 | D17: =100 -> 100 | E17: =F17-D17 -> 0 | F17: =100 -> 100 | G17: =H17-F17 -> -100 | I17: =J17-H17 -> 0 | K17: =L17-J17 -> 0 | R17: 100000
B18: 1.1.1.5. Településüzemeltetés - közutak támogatása (Nonprofit Kft.) | C18: 8058 | D18: 8058 | E18: =F18-D18 -> 0 | F18: 8058 | G18: =H18-F18 -> -8058 | I18: =J18-H18 -> 0 | K18: =L18-J18 -> 0 | R18: 8058295
B19: 1.1.1.6. Egyéb önkormányzati feladatok támogatása | C19: 6493 | D19: 6583 | E19: =F19-D19 -> 0 | F19: 6583 | G19: =H19-F19 -> -6583 | I19: =J19-H19 -> 0 | K19: =L19-J19 -> 0 | R19: 6582800
B20: 1.1.1.7. Lakott külterülettel kapcsolatos feladatok támogatása | C20: 0 | D20: 0 | E20: =F20-D20 -> 0 | F20: 0 | G20: =H20-F20 -> 0 | H20: 0 | I20: =J20-H20 -> 0 | J20: 0 | K20: =L20-J20 -> 0 | L20: 0 | M20: 0
B21: 1.1.2. Nem közművel összegyűjtött háztartási szennyvíz ártalmatlanítása | C21: 0 | D21: 0 | E21: =F21-D21 -> 0 | F21: 0 | G21: =H21-F21 -> 0 | H21: 0 | I21: =J21-H21 -> 0 | J21: 0 | K21: =L21-J21 -> 0 | L21: 0 | M21: 0
B22: 1.1.3. Határátkelőhelyek fenntartásának támogatása | C22: 0 | D22: 0 | E22: =F22-D22 -> 0 | F22: 0 | G22: =H22-F22 -> 0 | H22: 0 | I22: =J22-H22 -> 0 | J22: 0 | K22: =L22-J22 -> 0 | L22: 0 | M22: 0
B23: 1.1.4. Polgármesteri illetményhez és költségtérítéshez nyújtott támogatás | C23: 14679 | D23: 0 | E23: =F23-D23 -> 13589 | F23: 13589 | G23: =H23-F23 -> -13589 | H23: 0 | I23: =J23-H23 -> 0 | J23: 0 | K23: =L23-J23 -> 0 | L23: 0 | M23: 0 | R23: 13589608
B24: 1.1.5. Közvilágítás kiegészítő támogatása | C24: 0 | D24: 0 | E24: =F24-D24 -> 0 | F24: 0 | G24: =H24-F24 -> 0 | H24: 0 | I24: =J24-H24 -> 0 | J24: 0 | K24: =L24-J24 -> 0 | L24: 0 | M24: 0
A25: B112 | B25: 1.2. A települési önk.-ok egyes köznevelési feladatainak támogatása (TKT) | C25: 160596 | D25: 168962 | E25: =F25-D25 -> 6502 | F25: =168962+841+404+5257 -> 175464 | G25: =H25-F25 -> -175464 | H25: 0 | I25: =J25-H25 -> 0 | J25: 0 | K25: =L25-J25 -> 0 | L25: 0 | M25: 0 | R25: =168961710+841200+404000+5257000 -> 175463910
A26: B113 | B26: 1.3. A települési önk.-ok egyes szoc.és gyermekjóléti fel.nak tám. | C26: =C27+C28+C35+C36 -> 191133 | D26: =D27+D28+D35+D36 -> 193749 | E26: =F26-D26 -> 34719 | F26: =F27+F28+F35+F36 -> 228468 | G26: =H26-F26 -> -228468 | H26: =H27+H28+H35+H36 -> 0 | I26: =J26-H26 -> 0 | J26: =J27+J28+J35+J36 -> 0 | K26: =L26-J26 -> 0 | L26: =L27+L28+L35+L36 -> 0 | M26: =M27+M28+M35+M36 -> 0 | R26: =R27+R28+R35+R36 -> 228468440
B27: 1.3.1. A települési önkormányzatok szociális és gyermekjóléti feladatainak egyéb támogatása | C27: 0 | D27: 0 | E27: =F27-D27 -> 0 | F27: 0 | G27: =H27-F27 -> 0 | H27: 0 | I27: =J27-H27 -> 0 | J27: 0 | K27: =L27-J27 -> 0 | L27: 0 | M27: 0 | R27: 0
B28: 1.3.2. Egyes szociális és gyermekjóléti feladatok támogatása | C28: =C29+C30+C32+C34 -> 139897 | D28: =D29+D30+D32+D34 -> 153837 | E28: =F28-D28 -> 6125 | F28: =F29+F30+F32+F34 -> 159962 | G28: =H28-F28 -> -159962 | H28: =H29+H30+H32+H34 -> 0 | I28: =J28-H28 -> 0 | J28: =J29+J30+J32+J34 -> 0 | K28: =L28-J28 -> 0 | L28: =L29+L30+L32+L34 -> 0 | M28: =M29+M30+M32+M34 -> 0 | R28: =R29+R30+R32+R34 -> 159962040
B29: 1.3.2.1. Család- és gyermekjóléti szolgálatt (TKT) | C29: 28560 | D29: 31420 | E29: =F29-D29 -> 0 | F29: 31420 | G29: =H29-F29 -> -31420 | H29: 0 | I29: =J29-H29 -> 0 | J29: 0 | K29: =L29-J29 -> 0 | L29: 0 | M29: 0 | R29: 31420000
B30: 1.3.2.3. Szociális étkeztetés | C30: =C31 -> 9382 | D30: =D31 -> 10017 | E30: =F30-D30 -> -378 | F30: =F31 -> 9639 | G30: =H30-F30 -> -9639 | H30: =H31 -> 0 | I30: =J30-H30 -> 0 | J30: =J31 -> 0 | K30: =L30-J30 -> 0 | L30: =L31 -> 0 | M30: =M31 -> 0 | R30: =R31 -> 9639000
B31: 1.3.2.3.1. Szociális étkeztetés - önálló feladatellátás | C31: 9382 | D31: 10017 | E31: =F31-D31 -> -378 | F31: =10017-378 -> 9639 | G31: =H31-F31 -> -9639 | H31: 0 | I31: =J31-H31 -> 0 | J31: 0 | K31: =L31-J31 -> 0 | L31: 0 | M31: 0 | R31: =10017000-378000 -> 9639000
B32: 1.3.2.4. Házi segítségnyújtás | C32: =C33 -> 101955 | D32: =D33 -> 112400 | E32: =F32-D32 -> 6503 | F32: =F33 -> 118903 | G32: =H32-F32 -> -118903 | H32: =H33 -> 0 | I32: =J32-H32 -> 0 | J32: =J33 -> 0 | K32: =L32-J32 -> 0 | L32: =L33 -> 0 | M32: =M33 -> 0 | R32: =R33 -> 118903040
B33: 1.3.2.4.3. Személyi gondozás - társulás által történő feladatellátás (TKT) | C33: 101955 | D33: 112400 | E33: =F33-D33 -> 6503 | F33: =112400+6503 -> 118903 | G33: =H33-F33 -> -118903 | H33: 0 | I33: =J33-H33 -> 0 | J33: 0 | K33: =L33-J33 -> 0 | L33: 0 | M33: 0 | R33: =112400530+6502510 -> 118903040
B34: 1.3.2.5. Falugondnoki vagy tanyagondnoki szolgáltatás | C34: 0 | D34: 0 | E34: =F34-D34 -> 0 | F34: 0 | G34: =H34-F34 -> 0 | H34: 0 | I34: =J34-H34 -> 0 | J34: 0 | K34: =L34-J34 -> 0 | L34: 0 | M34: 0
B35: 1.3.3. Bölcsőde, mini bölcsőde támogatása (TKT) | C35: 34834 | D35: 39912 | E35: =F35-D35 -> 111 | F35: =39912-61+172 -> 40023 | G35: =H35-F35 -> -40023 | H35: 0 | I35: =J35-H35 -> 0 | J35: 0 | K35: =L35-J35 -> 0 | L35: 0 | M35: 0 | R35: =(11312000+40000)+25614000+(2986000-100800)+172200 -> 40023400
B36: Szociális ágazati és kiegészítő szociális pótlék (TKT) | C36: 16402 | D36: 0 | E36: =F36-D36 -> 28483 | F36: 28483 | G36: =H36-F36 -> -28483 | H36: 0 | I36: =J36-H36 -> 0 | J36: 0 | K36: =L36-J36 -> 0 | L36: 0 | M36: 0 | R36: 28483000
B37: 1.4. A települési önkormányzatok gyermekétkeztetési feladatainak támogatása | C37: =C38+C41+C42 -> 72913 | D37: =D38+D41+D42 -> 85244 | E37: =F37-D37 -> 0 | F37: =F38+F41+F42 -> 85244 | G37: =H37-F37 -> -85244 | H37: =H38+H41+H42 -> 0 | I37: =J37-H37 -> 0 | J37: =J38+J41+J42 -> 0 | K37: =L37-J37 -> 0 | L37: =L38+L41+L42 -> 0 | M37: =M38+M41+M42 -> 0 | R37: =R38+R41+R42 -> 85243702
B38: 1.4.1. Intézményi gyermekétkeztetés támogatása | C38: =C39+C40 -> 72913 | D38: =D39+D40 -> 85244 | E38: =F38-D38 -> 0 | F38: =F39+F40 -> 85244 | G38: =H38-F38 -> -85244 | H38: =H39+H40 -> 0 | I38: =J38-H38 -> 0 | J38: =J39+J40 -> 0 | K38: =L38-J38 -> 0 | L38: =L39+L40 -> 0 | M38: =M39+M40 -> 0 | R38: =R39+R40 -> 85243702
B39: 1.4.1.1. Intézményi gyermekétkeztetés - bértámogatás (TKT) | C39: 43360 | D39: 50512 | E39: =F39-D39 -> 0 | F39: 50512 | G39: =H39-F39 -> -50512 | H39: 0 | I39: =J39-H39 -> 0 | J39: 0 | K39: =L39-J39 -> 0 | L39: 0 | M39: 0 | R39: 50512000
B40: 1.4.1.2. Intézményi gyermekétkeztetés - üzemeltetési támogatás (TKT) | C40: 29553 | D40: 34732 | E40: =F40-D40 -> 0 | F40: 34732 | G40: =H40-F40 -> -34732 | H40: 0 | I40: =J40-H40 -> 0 | J40: 0 | K40: =L40-J40 -> 0 | L40: 0 | M40: 0 | R40: 34731702
...

Sheet Munka1
E1: 11. melléklet
A4: Balatonföldvár Város Önkormányzatának
A5: 2025. évi maradványkimutatása
B7: Maradványkimutatás | C7: Önkormányzat | D7: Közös Hivatal | E7: Összesen
A8: 01 | B8: 01 Alaptevékenység költségvetési bevételei | C8: 1942805 | D8: 52814 | E8: =SUM(C8:D8) -> 1995619
A9: 02 | B9: 02 Alaptevékenység költségvetési kiadásai | C9: 1485533 | D9: 286828 | E9: =SUM(C9:D9) -> 1772361 | G9: 77513685 | H9: 77514
A10: 03 | B10: I Alaptevékenység költségvetési egyenlege (=01-02) | C10: =C8-C9 -> 457272 | D10: =D8-D9 -> -234014 | E10: =E8-E9 -> 223258 | G10: 8688546 | H10: 8688
A11: 04 | B11: 03 Alaptevékenység finanszírozási bevételei | C11: 386182 | D11: 242114 | E11: =SUM(C11:D11) -> 628296 | G11: 322778632 | H11: 322779 | J11: 322781
A12: 05 | B12: 04 Alaptevékenység finanszírozási kiadásai | C12: 355941 | D12: 0 | E12: =SUM(C12:D12) -> 355941 | G12: 6186500 | H12: 6186
A13: 06 | B13: II Alaptevékenység finanszírozási egyenlege (=03-04) | C13: =C11-C12 -> 30241 | D13: =D11-D12 -> 242114 | E13: =E11-E12 -> 272355 | G13: 707463978 | H13: 707464
A14: 07 | B14: A) Alaptevékenység maradványa (=±I±II) | C14: =C10+C13 -> 487513 | D14: =D10+D13 -> 8100 | E14: =E10+E13 -> 495613
A15: 15 | B15: C) Összes maradvány (=A+B) | C15: =C14 -> 487513 | D15: =D14 -> 8100 | E15: =E14 -> 495613 | G15: 188134197 | H15: 188134
A16: 09 | B16: D) Alaptevékenység kötelezettségvállalással terhelt maradványa | C16: 0 | D16: 0 | E16: =SUM(C16:D16) -> 0
A17: 17 | B17: E) Alaptevékenység szabad maradványa (=A-D) | C17: =C14-C16 -> 487513 | D17: =D14-D16 -> 8100 | E17: =E14-E16 -> 495613 | G17: 172659030 | H17: 172659
G18: =SUM(G9:G17) -> 1483424568 | H18: =SUM(H9:H17) -> 1483424
B19: Maradványkimutatás | C19: Önkormányzat | D19: Közös Hivatal | E19: Összesen
A20: 01 | B20: 01 Alaptevékenység költségvetési bevételei | C20: =1942804751+20 -> 1942804771 | D20: =4504+1280000+51529739 -> 52814243 | E20: =SUM(C20:D20) -> 1995619014 | G20: =C9+C12-240067 -> 1601407 | H20: =G20+D9 -> 1888235
A21: 02 | B21: 02 Alaptevékenység költségvetési kiadásai | C21: 1485533444 | D21: 286827934 | E21: =SUM(C21:D21) -> 1772361378
A22: 03 | B22: I Alaptevékenység költségvetési egyenlege (=01-02) | C22: =C20-C21 -> 457271327 | D22: =D20-D21 -> -234013691 | E22: =E20-E21 -> 223257636 | G22: =E8+E11 -> 2623915
A23: 04 | B23: 03 Alaptevékenység finanszírozási bevételei | C23: 386181798 | D23: 242114011 | E23: =SUM(C23:D23) -> 628295809 | G23: =G22-240067 -> 2383848 | H23: =G23-H20 -> 495613
A24: 05 | B24: 04 Alaptevékenység finanszírozási kiadásai | C24: 355940508 | D24: 0 | E24: =SUM(C24:D24) -> 355940508
A25: 06 | B25: II Alaptevékenység finanszírozási egyenlege (=03-04) | C25: =C23-C24 -> 30241290 | D25: =D23-D24 -> 242114011 | E25: =E23-E24 -> 272355301
A26: 07 | B26: A) Alaptevékenység maradványa (=±I±II) | C26: =C22+C25 -> 487512617 | D26: =D22+D25 -> 8100320 | E26: =E22+E25 -> 495612937
A27: 15 | B27: C) Összes maradvány (=A+B) | C27: =C26 -> 487512617 | D27: =D26 -> 8100320 | E27: =E26 -> 495612937
A28: 09 | B28: D) Alaptevékenység kötelezettségvállalással terhelt maradványa | C28: 0 | D28: 0 | E28: =SUM(C28:D28) -> 0
A29: 17 | B29: E) Alaptevékenység szabad maradványa (=A-D) | C29: =C26-C28 -> 487512617 | D29: =D26-D28 -> 8100320 | E29: =E26-E28 -> 495612937

Sheet 3.felh
F1: 3. melléklet
F2: ='1.Bev-kiad.'!F2 -> a 12/2026.(X.2.) önkormányzati rendelethez
F3: 3. melléklet az 5/2026.(II.23.) önkormányzati rendelethez
A4: Balatonföldvár Város Önkormányzatának
A5: 2026. évi felhalmozási bevételei, kiadásai
F6: ezer Ft-ban
A7: Rovat | B7: Felhalmozási bevételek - kiadások | C7: ='1.Bev-kiad.'!C8 -> 2025. évi teljesítés | D7: ='1.Bev-kiad.'!D8 -> 2026. évi eredeti előirányzat | E7: ei. változás | F7: ='1.Bev-kiad.'!F8 -> Módosított előirányzat 2026.10.havi | G7: ei. változás | H7: ='1.Bev-kiad.'!H8 -> 0 | I7: ei. változás | J7: ='1.Bev-kiad.'!J8 -> 0 | K7: ei. változás | L7: ='1.Bev-kiad.'!L8 -> 0 | M7: ='1.Bev-kiad.'!M8 -> 0
A8: B1-B7 | B8: A. K ö l t s é g v e t é s i b e v é t e l e k | C8: =SUM(C13+C28+C34) -> 405885 | D8: =SUM(D13+D28+D34) -> 566937 | E8: =F8-D8 -> 51706 | F8: =SUM(F13+F28+F34) -> 618643 | G8: =H8-F8 -> -618643 | H8: =SUM(H13+H28+H34) -> 0 | I8: =J8-H8 -> 0 | J8: =SUM(J13+J28+J34) -> 0 | K8: =L8-J8 -> 0 | L8: =SUM(L13+L28+L34) -> 0 | M8: =SUM(M13+M28+M34) -> 0
A9: B13 | B9: 1.3. Működési és garancia- és kezességvállalásból származó bevételek | E9: =F9-D9 -> 0 | G9: =H9-F9 -> 0 | I9: =J9-H9 -> 0 | K9: =L9-J9 -> 0
A10: B14 | B10: 1.4. Működési célú visszatérítendő támogatások, kölcsönök visszatérülése | E10: =F10-D10 -> 0 | G10: =H10-F10 -> 0 | I10: =J10-H10 -> 0 | K10: =L10-J10 -> 0
A11: B15 | B11: 1.5. Működési célú visszatérítendő támogatások, kölcsönök igénybevétele | E11: =F11-D11 -> 0 | G11: =H11-F11 -> 0 | I11: =J11-H11 -> 0 | K11: =L11-J11 -> 0
A12: B16 | B12: 1.6. Egyéb működési célú támogatások | E12: =F12-D12 -> 0 | G12: =H12-F12 -> 0 | I12: =J12-H12 -> 0 | K12: =L12-J12 -> 0
A13: B2 | B13: I. Felhalmozási célú támogatások államháztartáson belülről | C13: =C14+C23 -> 394384 | D13: =D14+D23 -> 526642 | E13: =F13-D13 -> 22225 | F13: =F14+F23 -> 548867 | G13: =H13-F13 -> -548867 | H13: =H14+H23 -> 0 | I13: =J13-H13 -> 0 | J13: =J14+J23 -> 0 | K13: =L13-J13 -> 0 | L13: =L14+L23 -> 0 | M13: =M14+M23 -> 0
B14: 1. Hazai forrásból származó bevételek | C14: 50000 | D14: =SUM(D15:D22) -> 25000 | E14: =F14-D14 -> 0 | F14: =SUM(F15:F22) -> 25000 | G14: =H14-F14 -> -25000 | H14: =SUM(H15:H22) -> 0 | I14: =J14-H14 -> 0 | J14: =SUM(J15:J22) -> 0 | K14: =L14-J14 -> 0 | L14: =SUM(L15:L22) -> 0 | M14: =SUM(M15:M22) -> 0
B15: Közösségi Sportpálya-felújítási Program 2026 támogatás | C15: 0 | D15: 25000 | E15: =F15-D15 -> 0 | F15: 25000 | G15: =H15-F15 -> -25000 | H15: 0 | I15: =J15-H15 -> 0 | J15: 0 | K15: =L15-J15 -> 0 | L15: 0 | M15: 0
D17: 0 | F17: 0 | G17: =H17-F17 -> 0 | H17: 0 | I17: =J17-H17 -> 0 | J17: 0 | K17: =L17-J17 -> 0 | L17: 0 | M17: 0
D18: 0 | F18: 0 | G18: =H18-F18 -> 0 | H18: 0 | I18: =J18-H18 -> 0 | J18: 0 | K18: =L18-J18 -> 0 | L18: 0 | M18: 0
D19: 0 | F19: 0 | G19: =H19-F19 -> 0 | H19: 0 | I19: =J19-H19 -> 0 | J19: 0 | K19: =L19-J19 -> 0 | L19: 0 | M19: 0
D20: 0 | F20: 0 | G20: =H20-F20 -> 0 | H20: 0 | I20: =J20-H20 -> 0 | J20: 0 | K20: =L20-J20 -> 0 | L20: 0 | M20: 0
G21: =H21-F21 -> 0 | I21: =J21-H21 -> 0 | K21: =L21-J21 -> 0
G22: =H22-F22 -> 0 | I22: =J22-H22 -> 0 | K22: =L22-J22 -> 0
B23: 2. Európai Uniós forrásból származó bevételek | C23: 344384 | D23: =SUM(D24:D27) -> 501642 | E23: =F23-D23 -> 22225 | F23: =SUM(F24:F27) -> 523867 | G23: =H23-F23 -> -523867 | H23: =SUM(H24:H27) -> 0 | I23: =J23-H23 -> 0 | J23: =SUM(J24:J27) -> 0 | K23: =L23-J23 -> 0 | L23: =SUM(L24:L27) -> 0 | M23: =SUM(M24:M27) -> 0
B24: TOP-PLUSZ-6.1.4-23-SO1-2024-00001 Kishajós megállópontok fejlesztése a Balaton körül - Dél-Balatoni vízi kör ismételt támogatás lehívása | D24: 0 | E24: =F24-D24 -> 22225 | F24: 22225 | G24: =H24-F24 -> -22225 | H24: 0 | I24: =J24-H24 -> 0 | J24: 0 | K24: =L24-J24 -> 0 | L24: 0 | M24: 0
B25: Boldog Békeidők Nyarai ismételt támogatás lehívás | D25: 501642 | E25: =F25-D25 -> 0 | F25: 501642 | G25: =H25-F25 -> -501642 | H25: 0 | I25: =J25-H25 -> 0 | J25: 0 | K25: =L25-J25 -> 0 | L25: 0 | M25: 0 | P25: =626867319-25984200-99241390
B26: TOP-PLUSZ-6.1.4-23-SO1-2024-00001 Kishajós megállópontok fejlesztése a Balaton körül - Dél-Balatoni vízi kör támogatása | D26: 0 | F26: 0 | G26: =H26-F26 -> 0 | H26: 0 | I26: =J26-H26 -> 0 | J26: 0 | K26: =L26-J26 -> 0 | L26: 0 | M26: 0 | P26: =626867319-25984200-99241390 -> 501641729
A28: B5 | B28: II. Felhalmozási bevételek | C28: =SUM(C29:C33) -> 400 | D28: =SUM(D29:D33) -> 30000 | E28: =F28-D28 -> 29481 | F28: =SUM(F29:F33) -> 59481 | G28: =H28-F28 -> -59481 | H28: =SUM(H29:H33) -> 0 | I28: =J28-H28 -> 0 | J28: =SUM(J29:J33) -> 0 | K28: =L28-J28 -> 0 | L28: =SUM(L29:L33) -> 0 | M28: =SUM(M29:M33) -> 0
A29: B51 | B29: 1. Immateriális javak értékesítése | C29: 0 | D29: 0 | E29: =F29-D29 -> 0 | F29: 0 | G29: =H29-F29 -> 0 | H29: 0 | I29: =J29-H29 -> 0 | J29: 0 | K29: =L29-J29 -> 0 | L29: 0 | M29: 0
A30: B52 | B30: 2. Ingatlanok értékesítése, lakásrészletek befizetései (82/2026.(VI.26.), 93/2026.(VII.7.), 94/2026.(VII.7.)) | C30: 0 | D30: 30000 | E30: =F30-D30 -> 29481 | F30: =30000+5000+24481 -> 59481 | G30: =H30-F30 -> -59481 | H30: 0 | I30: =J30-H30 -> 0 | J30: 0 | K30: =L30-J30 -> 0 | L30: 0 | M30: 0
A31: B53 | B31: 3. Egyéb tárgyi eszközök értékesítése | C31: 400 | D31: 0 | E31: =F31-D31 -> 0 | F31: 0 | G31: =H31-F31 -> 0 | H31: 0 | I31: =J31-H31 -> 0 | J31: 0 | K31: =L31-J31 -> 0 | L31: 0 | M31: 0
A32: B54 | B32: 4. Részesedések értékesítése | C32: 0 | D32: 0 | E32: =F32-D32 -> 0 | F32: 0 | G32: =H32-F32 -> 0 | H32: 0 | I32: =J32-H32 -> 0 | J32: 0 | K32: =L32-J32 -> 0 | L32: 0 | M32: 0
A33: B55 | B33: 5. Részesedések megszűnéséhez kapcsolódó bevételek | C33: 0 | D33: 0 | E33: =F33-D33 -> 0 | F33: 0 | G33: =H33-F33 -> 0 | H33: 0 | I33: =J33-H33 -> 0 | J33: 0 | K33: =L33-J33 -> 0 | L33: 0 | M33: 0
A34: B7 | B34: III. Felhalmozási célú átvett pénzeszközök | C34: 11101 | D34: =D36+D37 -> 10295 | E34: =F34-D34 -> 0 | F34: =F36+F37 -> 10295 | G34: =H34-F34 -> -10295 | H34: =H36+H37 -> 0 | I34: =J34-H34 -> 0 | J34: =J36+J37 -> 0 | K34: =L34-J34 -> 0 | L34: =L36+L37 -> 0 | M34: =M36+M37 -> 0
A35: B7 | B35: 7.1. Felhalmozási célú visszatérítendő támogatások, kölcsönök visszatérülése ÁH-n kívülről | E35: =F35-D35 -> 0 | G35: =H35-F35 -> 0 | I35: =J35-H35 -> 0 | K35: =L35-J35 -> 0
A36: B75 | B36: Felhalmozási célú átvett pénzeszközök (Nonprofit Kft. hiteltörlesztés) | C36: 10293 | D36: 10295 | E36: =F36-D36 -> 0 | F36: 10295 | G36: =H36-F36 -> -10295 | H36: 0 | I36: =J36-H36 -> 0 | J36: 0 | K36: =L36-J36 -> 0 | L36: 0 | M36: 0
A37: B75 | B37: Műfüves pálya pályázat felújítás önrész különbözet visszautalása | C37: 808 | D37: 0 | E37: =F37-D37 -> 0 | F37: 0 | G37: =H37-F37 -> 0 | H37: 0 | I37: =J37-H37 -> 0 | J37: 0 | K37: =L37-J37 -> 0 | L37: 0 | M37: 0
B38: B. F i n a n s z í r o z á s i b e v é t e l e k | C38: =SUM(C39+C43)+C44 -> 38889 | D38: =SUM(D39+D43)+D44 -> 298423 | E38: =F38-D38 -> 0 | F38: =SUM(F39+F43) -> 298423 | G38: =H38-F38 -> -298423 | H38: =SUM(H39+H43) -> 0 | I38: =J38-H38 -> 0 | J38: =SUM(J39+J43) -> 0 | K38: =L38-J38 -> 0 | L38: =SUM(L39+L43) -> 0 | M38: =SUM(M39+M43) -> 0
B39: ='2.működés'!B113 -> 1. Belföldi finanszírozás bevételei | C39: =C40 -> 38889 | D39: =D40 -> 298423 | E39: =F39-D39 -> 0 | F39: =F40 -> 298423 | G39: =H39-F39 -> -298423 | H39: =H40 -> 0 | I39: =J39-H39 -> 0 | J39: =J40 -> 0 | K39: =L39-J39 -> 0 | L39: =L40 -> 0 | M39: =M40 -> 0 | P39: MÁK | T39: ktgvetési
B40: 1.1. Előző évi felhalmozási célú maradvány igénybevétele | C40: 38889 | D40: =84375+22225+(50000-27171)+84864+84130 -> 298423 | E40: =F40-D40 -> 0 | F40: =84375+22225+(50000-27171)+84864+84130 -> 298423 | G40: =H40-F40 -> -298423 | H40: 0 | I40: =J40-H40 -> 0 | J40: 0 | K40: =L40-J40 -> 0 | L40: 0 | M40: 0 | P40: bb:84375126 | Q40: isk:84864387 | R40: hajós:22225000 | T40: VKJ: 22828996 | V40: zv:84130
B41: Zöld Város projekt | D41: =(632574-19378-10058-5652) -> 597486 | E41: =F41-D41 -> 0 | F41: =(632574-19378-10058-5652) -> 597486 | G41: =H41-F41 -> 0 | H41: =(632574-19378-10058-5652) -> 597486 | I41: =J41-H41 -> 0 | J41: =(632574-19378-10058-5652) -> 597486 | K41: =L41-J41 -> 0 | L41: =(632574-19378-10058-5652) -> 597486 | M41: =(632574-19378-10058-5652) -> 597486
B42: Hivatal energetikai felújítása | D42: =(226930-68956-3881-1049-246-686) -> 152112 | E42: =F42-D42 -> 0 | F42: =(226930-68956-3881-1049-246-686) -> 152112 | G42: =H42-F42 -> 0 | H42: =(226930-68956-3881-1049-246-686) -> 152112 | I42: =J42-H42 -> 0 | J42: =(226930-68956-3881-1049-246-686) -> 152112 | K42: =L42-J42 -> 0 | L42: =(226930-68956-3881-1049-246-686) -> 152112 | M42: =(226930-68956-3881-1049-246-686) -> 152112
...

Sheet 4. Átadott p.eszk.
E1: 4. melléklet
E2: ='1.Bev-kiad.'!F2 -> a 12/2026.(X.2.) önkormányzati rendelethez
E3: 4. melléklet az 5/2026.(II.23.) önkormányzati rendelethez
A4: Balatonföldvár Város Önkormányzata
A5: 2026. évi működési célú támogatásai, pénzeszközátadásai, közvetett támogatásai
E7: ezer Ft-ban
A8: Működési célú támogatások, pénzeszközátadások | B8: ='1.Bev-kiad.'!C8 -> 2025. évi teljesítés | C8: ='1.Bev-kiad.'!D8 -> 2026. évi eredeti előirányzat | D8: ei. változás | E8: ='1.Bev-kiad.'!F8 -> Módosított előirányzat 2026.10.havi | F8: ei. változás | G8: ='1.Bev-kiad.'!H8 -> 0 | H8: ei. változás | I8: ='1.Bev-kiad.'!J8 -> 0 | J8: ei. változás | K8: ='1.Bev-kiad.'!L8 -> 0 | L8: ='1.Bev-kiad.'!M8 -> 0
A9: I. Egyéb működési célú támogatások államháztartáson belülre (K506) | B9: =SUM(B10+B33) -> 433383 | C9: =SUM(C10+C33) -> 493839 | D9: =E9-C9 -> 7859 | E9: =SUM(E10+E33) -> 501698 | F9: =G9-E9 -> -501698 | G9: =SUM(G10+G33) -> 0 | H9: =I9-G9 -> 0 | I9: =SUM(I10+I33) -> 0 | J9: =K9-I9 -> 0 | K9: =SUM(K10+K33) -> 0 | L9: =SUM(L10+L33) -> 0
A10: 1. Többcélú kistérségi társulásnak és költségvetési szerveinek | B10: =SUM(B11+B18) -> 433383 | C10: =SUM(C11+C18) -> 493639 | D10: =E10-C10 -> 7859 | E10: =SUM(E11+E18) -> 501498 | F10: =G10-E10 -> -501498 | G10: =SUM(G11+G18) -> 0 | H10: =I10-G10 -> 0 | I10: =SUM(I11+I18) -> 0 | J10: =K10-I10 -> 0 | K10: =SUM(K11+K18) -> 0 | L10: =SUM(L11+L18) -> 0
A11: 1.1. Önkormányzat által igényelt állami támogatás továbbadása Többcélú Társulásnak | B11: =SUM(B12:B17) -> 415477 | C11: =SUM(C12:C17) -> 473974 | D11: =E11-C11 -> 7859 | E11: =SUM(E12:E17) -> 481833 | F11: =G11-E11 -> -481833 | G11: =SUM(G12:G17) -> 0 | H11: =I11-G11 -> 0 | I11: =SUM(I12:I17) -> 0 | J11: =K11-I11 -> 0 | K11: =SUM(K12:K17) -> 0 | L11: =SUM(L12:L17) -> 0
A12: Óvodai nevelés | B12: 160596 | C12: =SUM('2.működés'!D25)+'2.működés'!D54 -> 174219 | D12: =E12-C12 -> 1245 | E12: =SUM('2.működés'!F25) -> 175464 | F12: =G12-E12 -> -175464 | G12: =SUM('2.működés'!H25) -> 0 | H12: =I12-G12 -> 0 | I12: =SUM('2.működés'!J25) -> 0 | J12: =K12-I12 -> 0 | K12: =SUM('2.működés'!L25) -> 0 | L12: =SUM('2.működés'!M25) -> 0
A13: Bölcsődei nevelés | B13: 34834 | C13: ='2.működés'!D35 -> 39912 | D13: =E13-C13 -> 111 | E13: ='2.működés'!F35 -> 40023 | F13: =G13-E13 -> -40023 | G13: ='2.működés'!H35 -> 0 | H13: =I13-G13 -> 0 | I13: ='2.működés'!J35 -> 0 | J13: =K13-I13 -> 0 | K13: ='2.működés'!L35 -> 0 | L13: ='2.működés'!M35 -> 0
A14: Gyermekétkeztetési feladatok támogatása | B14: 72913 | C14: =SUM('2.működés'!D38) -> 85244 | D14: =E14-C14 -> 0 | E14: =SUM('2.működés'!F38) -> 85244 | F14: =G14-E14 -> -85244 | G14: =SUM('2.működés'!H38) -> 0 | H14: =I14-G14 -> 0 | I14: =SUM('2.működés'!J38) -> 0 | J14: =K14-I14 -> 0 | K14: =SUM('2.működés'!L38) -> 0 | L14: =SUM('2.működés'!M38) -> 0
A15: Család és gyermekjóléti feladatok, házi segítségnyújtás támogatása | B15: 130515 | C15: =SUM('2.működés'!D29+'2.működés'!D32+1) -> 143821 | D15: =E15-C15 -> 6503 | E15: =SUM('2.működés'!F29+'2.működés'!F32+1) -> 150324 | F15: =G15-E15 -> -150324 | G15: =SUM('2.működés'!H29+'2.működés'!H32) -> 0 | H15: =I15-G15 -> 0 | I15: =SUM('2.működés'!J29+'2.működés'!J32) -> 0 | J15: =K15-I15 -> 0 | K15: =SUM('2.működés'!L29+'2.működés'!L32) -> 0 | L15: =SUM('2.működés'!M29+'2.működés'!M32) -> 0
A16: Ágazati pótlék átadás | B16: 16402 | C16: ='2.működés'!D57 -> 28483 | D16: =E16-C16 -> 0 | E16: ='2.működés'!F36 -> 28483 | F16: =G16-E16 -> -28483 | G16: ='2.működés'!H36 -> 0 | H16: =I16-G16 -> 0 | I16: ='2.működés'!J36 -> 0 | J16: =K16-I16 -> 0 | K16: ='2.működés'!L36 -> 0 | L16: ='2.működés'!M36 -> 0
A17: Előző évi normatíva elszámolásból adódó többlettámogatás átadása | B17: 217 | C17: 2295 | D17: =E17-C17 -> 0 | E17: 2295 | F17: =G17-E17 -> -2295 | G17: 0 | H17: =I17-G17 -> 0 | I17: 0 | J17: =K17-I17 -> 0 | K17: 0 | L17: 0
A18: 1.2. Pénzeszközátadás társulásban közösen ellátott feladatokra (TKT felosztás külön táblán bemutatva) | B18: =SUM(B19+B30+B31+B32) -> 17906 | C18: =SUM(C19+C30+C31+C32) -> 19665 | D18: =E18-C18 -> 0 | E18: =SUM(E19+E30+E31+E32) -> 19665 | F18: =G18-E18 -> -19665 | G18: =SUM(G19+G30+G31+G32) -> 0 | H18: =I18-G18 -> 0 | I18: =SUM(I19+I30+I31+I32) -> 0 | J18: =K18-I18 -> 0 | K18: =SUM(K19+K30+K31+K32) -> 0 | L18: =SUM(L19+L30+L31+L32) -> 0
A19: Óvodai, bölcsődei nevelés | B19: 17306 | C19: 19098 | D19: =E19-C19 -> 0 | E19: 19098 | F19: =G19-E19 -> -19098 | G19: 0 | H19: =I19-G19 -> 0 | I19: 0 | J19: =K19-I19 -> 0 | K19: 0 | L19: 0
A20: Családsegítés, gyermekjóléti feladatok | F20: =G20-E20 -> 0 | H20: =I20-G20 -> 0 | J20: =K20-I20 -> 0
A21: Házi segítségnyújtás | F21: =G21-E21 -> 0 | H21: =I21-G21 -> 0 | J21: =K21-I21 -> 0
A22: Jelzőrendszeres házi segítésnyújtás | F22: =G22-E22 -> 0 | H22: =I22-G22 -> 0 | J22: =K22-I22 -> 0
A23: Pénzügyi Gondnokság konyha működtetés, karbantartás (intézményi étkeztetés) | F23: =G23-E23 -> 0 | H23: =I23-G23 -> 0 | J23: =K23-I23 -> 0
A24: Pénzügyi Gondnokság iroda működtetés | F24: =G24-E24 -> 0 | H24: =I24-G24 -> 0 | J24: =K24-I24 -> 0
A25: Háziorvosi ügyeleti ellátás | F25: =G25-E25 -> 0 | H25: =I25-G25 -> 0 | J25: =K25-I25 -> 0
A26: Egészségügyi laboratóriumi szolgáltatás | F26: =G26-E26 -> 0 | H26: =I26-G26 -> 0 | J26: =K26-I26 -> 0
A27: Kistérségi TV működtetés | F27: =G27-E27 -> 0 | H27: =I27-G27 -> 0 | J27: =K27-I27 -> 0
A28: Kistérségi Társulás tagdíj (500 Ft/fő) | F28: =G28-E28 -> 0 | H28: =I28-G28 -> 0 | J28: =K28-I28 -> 0
A29: Működési hozzájárulás (EFI iroda állami támogatás csökkentés miatt) | C29: 0 | E29: 0 | F29: =G29-E29 -> 0 | G29: 0 | H29: =I29-G29 -> 0 | I29: 0 | J29: =K29-I29 -> 0 | K29: 0 | L29: 0
A30: Szennyvíztársulás működési hozzájárulás | C30: 0 | E30: 0 | F30: =G30-E30 -> 0 | G30: 0 | H30: =I30-G30 -> 0 | I30: 0 | J30: =K30-I30 -> 0 | K30: 0 | L30: 0
A31: Dél-Balatoni Regionális Hulladékgazdálkodási Önkormányzati Társulás 2026. évi működési hozzájárulása | B31: 600 | C31: 567 | D31: =E31-C31 -> 0 | E31: 567 | F31: =G31-E31 -> -567 | G31: 0 | H31: =I31-G31 -> 0 | I31: 0 | J31: =K31-I31 -> 0 | K31: 0 | L31: 0
D32: =E32-C32 -> 0 | F32: =G32-E32 -> 0 | H32: =I32-G32 -> 0 | J32: =K32-I32 -> 0
A33: 2. Egyéb működési célú pénzeszközátadás | B33: =B34 -> 0 | C33: =C34 -> 200 | D33: =E33-C33 -> 0 | E33: =E34 -> 200 | F33: =G33-E33 -> -200 | G33: =G34 -> 0 | H33: =I33-G33 -> 0 | I33: =I34 -> 0 | J33: =K33-I33 -> 0 | K33: =K34 -> 0 | L33: =L34 -> 0
A34: Emberi Erőforrás Támogatáskezelő (BURSA) | B34: 0 | C34: 200 | D34: =E34-C34 -> 0 | E34: 200 | F34: =G34-E34 -> -200 | G34: 0 | H34: =I34-G34 -> 0 | I34: 0 | J34: =K34-I34 -> 0 | K34: 0 | L34: 0
A35: II. Működési célú garancia- és kezességvállalásból származó kifizetés államházt.-on kívülre (K507) | B35: 0 | C35: 0 | D35: =E35-C35 -> 0 | E35: 0 | F35: =G35-E35 -> 0 | G35: 0 | H35: =I35-G35 -> 0 | I35: 0 | J35: =K35-I35 -> 0 | K35: 0 | L35: 0
A36: III. Egyéb működési célú támogatások államháztartáson kívülre (K512) | B36: =SUM(B37+B55+B57) -> 256050 | C36: =SUM(C37+C55+C57) -> 240650 | D36: =E36-C36 -> 4871 | E36: =SUM(E37+E55+E57) -> 245521 | F36: =G36-E36 -> -245521 | G36: =SUM(G37+G55+G57) -> 0 | H36: =I36-G36 -> 0 | I36: =SUM(I37+I55+I57) -> 0 | J36: =K36-I36 -> 0 | K36: =SUM(K37+K55+K57) -> 0 | L36: =SUM(L37+L55+L57) -> 0
A37: 1. Vállalkozásoknak | B37: =SUM(B39+B38+B47+B51+B52)+B54+B50+B46 -> 209122 | C37: =SUM(C39+C38+C47+C51+C53)+C54+C50+C46 -> 194637 | D37: =E37-C37 -> 3970 | E37: =SUM(E39+E38+E47+E51+E53)+E54+E50+E46 -> 198607 | F37: =G37-E37 -> -198607 | G37: =SUM(G39+G38+G47+G51+G53)+G54+G50+G46 -> 0 | H37: =I37-G37 -> 0 | I37: =SUM(I39+I38+I47+I51+I53)+I54+I50+I46 -> 0 | J37: =K37-I37 -> 0 | K37: =SUM(K39+K38+K47+K51+K53)+K54+K50+K46 -> 0 | L37: =SUM(L39+L38+L47+L51+L53)+L54+L50+L46 -> 0
A38: Balatonföldvári Nonprofit Kft. működési támogatás (saját) (70/2026.(V.28.)) | B38: 80000 | C38: 95000 | D38: =E38-C38 -> 3970 | E38: =95000+3970 -> 98970 | F38: =G38-E38 -> -98970 | G38: 0 | H38: =I38-G38 -> 0 | I38: 0 | J38: =K38-I38 -> 0 | K38: 0 | L38: 0
A39: Balatonföldvári Nonprofit Kft. működési támogatás (állami) | B39: =SUM(+B43) -> 17146 | C39: =SUM(+C43)+C44 -> 20637 | D39: =E39-C39 -> 0 | E39: =SUM(+E43)+E44 -> 20637 | F39: =SUM(+F43)+F44 -> -20637 | G39: =SUM(+G43)+G44 -> 0 | H39: =SUM(+H43)+H44 -> 0 | I39: =SUM(+I43)+I44 -> 0 | J39: =SUM(+J43)+J44 -> 0 | K39: =SUM(+K43)+K44 -> 0 | L39: =SUM(+L43)+L44 -> 0
A40: Kilátó | B40: 0 | C40: 0 | D40: =E40-C40 -> 0 | E40: 0 | F40: =G40-E40 -> 0 | G40: 0 | H40: =I40-G40 -> 0 | I40: 0 | J40: =K40-I40 -> 0 | K40: 0 | L40: 0
A41: Közösségi ház + Kulipintyó: állami támogatás továbbadása (kulturális feladatok) | B41: 0 | C41: 0 | D41: =E41-C41 -> 0 | E41: 0 | F41: =G41-E41 -> 0 | G41: 0 | H41: =I41-G41 -> 0 | I41: 0 | J41: =K41-I41 -> 0 | K41: 0 | L41: 0
...

Sheet 5.Bev.össz
A1: 5. melléklet
M2: ='1.Bev-kiad.'!F2 -> a 12/2026.(X.2.) önkormányzati rendelethez
M3: 5. melléklet az 5/2026.(II.23.) önkormányzati rendelethez
A5: Balatonföldvár Város Önkormányzatának 2026. évi bevételei kiemelt előirányzatonként, feladatonként
M6: ezer Ft-ban
B7: Működési célú bevételek | E7: Felhalmozási célú bevételek | I7: Költségvetési kiadások összesen | J7: Finanszírozási bevételek | M7: Bevételek mindösszesen
B8: Működési célú bevételek/közhatalmi bevételek | C8: Működési célú átvett pénzeszközök | D8: Működési célú bevételek összesen | E8: Felh. célú támogatások áht-n belülről | F8: Felhalmozási bevételek, átvett pénzeszközök | G8: Felhalmozási célú hitel | H8: Felhalmozási célú bevételek összesen | J8: Előző év költségvetési maradványának igénybevétele | K8: Finanszíroási bevétel (hitelek) | L8: Finanszírozási bevétel (intézményi)
C9: Egyéb átvett pénzeszköz
A10: Önkormányzat: Teljesítés 2025.12.31. | B10: =B18+B27 -> 1507115 | C10: =C18+C27 -> 29805 | D10: =D18+D27 -> 1536920 | E10: =E18+E27 -> 394384 | F10: =F18+F27 -> 11501 | G10: =G18+G27 -> 0 | H10: =H18+H27 -> 405885 | I10: =D10+F10 -> 1548421 | J10: =319717+38889 -> 358606 | K10: =K18+K27 -> 0 | L10: =L18+L27 -> 27576 | M10: =I10+J10+K10+L10 -> 1934603
A11: Önkormányzat (eredeti előirányzat 2026. év) | B11: =B19+B28 -> 1927458 | C11: =C19+C28 -> 30000 | D11: =D19+D28 -> 1957458 | E11: =E19+E28 -> 526642 | F11: =F19+F28 -> 40295 | G11: =G19+G28 -> 0 | H11: =H19+H28 -> 566937 | I11: =D11+H11 -> 2524395 | J11: =J19+J28 -> 487513 | K11: 0 | L11: =L19+L28 -> 0 | M11: =D11+H11+J11+K11+L11 -> 3011908
A12: Önkormányzat (módosított előirányzat 2026.10.havi) | B12: =B20+B29 -> 1796705 | C12: =C20+C29 -> 30000 | D12: =D20+D29 -> 1826705 | E12: =E20+E29 -> 548867 | F12: =F20+F29 -> 69776 | G12: =G20+G29 -> 0 | H12: =H20+H29 -> 618643 | I12: =D12+H12 -> 2445348 | J12: =J20+J29 -> 487513 | K12: =K20+K29 -> 7455 | L12: =L20+L29 -> 0 | M12: =D12+H12+J12+K12+L12 -> 2940316
A13: Önkormányzat (módosított előirányzat 2025.09.havi) | B13: =B21+B30 -> #REF! | C13: =C21+C30 -> 0 | D13: =D21+D30 -> #REF! | E13: =E21+E30 -> 0 | F13: =F21+F30 -> 0 | G13: =G21+G30 -> 0 | H13: =H21+H30 -> 0 | L13: =L21+L30 -> 0 | M13: =SUM(H13,D13) -> #REF!
A14: Önkormányzat (módosított előirányzat 2025.12.havi) | B14: =B22+B31 -> -3550 | C14: =C22+C31 -> 0 | D14: =D22+D31 -> -3550 | E14: =E22+E31 -> 0 | F14: =F22+F31 -> 0 | G14: =G22+G31 -> 0 | H14: =H22+H31 -> 0 | L14: =L22+L31 -> 0 | M14: =SUM(H14,D14) -> -3550
A15: Önkormányzat (módosított előirányzat 2025.12.31) | B15: =B23+B32 -> -3550 | C15: =C23+C32 -> 0 | D15: =D23+D32 -> -3550 | E15: =E23+E32 -> 0 | F15: =F23+F32 -> 0 | G15: =G23+G32 -> 0 | H15: =H23+H32 -> 0 | L15: =L23+L32 -> 0 | M15: =SUM(H15,D15) -> -3550
B16: =B24+B33 -> 0 | C16: =C24+C33 -> 0 | D16: =D24+D33 -> 0 | E16: =E24+E33 -> 0 | F16: =F24+F33 -> 10295 | G16: =G24+G33 -> 0 | H16: =H24+H33 -> 10295 | L16: =L24+L33 -> 0 | M16: =SUM(H16,D16) -> 10295
A17: Önkormányzat: Teljesítés 2025.12.31. | B17: =B25+B34 -> -52814 | C17: =C25+C34 -> 0 | D17: =D25+D34 -> -52814 | E17: =E25+E34 -> 0 | F17: =F25+F34 -> 0 | G17: =G25+G34 -> 0 | H17: =H25+H34 -> 0 | L17: =L25+L34 -> 0 | M17: =SUM(H17,D17) -> -52814
A18: Kötelező teljesítés 2025.12.31. | B18: 1507115 | C18: 29805 | D18: =SUM(B18:C18) -> 1536920 | E18: 394384 | F18: 11101 | G18: 0 | H18: =SUM(E18:G18) -> 405485 | I18: =D18+H18 -> 1942405 | J18: =319717+38889 -> 358606 | K18: 0 | L18: 27576 | M18: =D18+H18+J18+K18+L18 -> 2328587
A19: Kötelező (eredeti előirányzat 2026. év) | B19: =SUM('7.finanszírozás.'!C10)-'2.működés'!D105 -> 1927458 | C19: ='2.működés'!D105 -> 30000 | D19: =SUM(B19:C19) -> 1957458 | E19: ='3.felh'!D13 -> 526642 | F19: ='3.felh'!D34+'3.felh'!D28 -> 40295 | G19: 0 | H19: =SUM(E19:G19) -> 566937 | I19: =D19+H19 -> 2524395 | J19: ='7.finanszírozás.'!C37 -> 487513 | K19: 0 | M19: =D19+H19+J19+K19+L19 -> 3011908
A20: Kötelező (módosított előirányzat 2026.10. havi) | B20: =SUM('7.finanszírozás.'!C11-'2.működés'!F105) -> 1796705 | C20: =SUM('2.működés'!F105) -> 30000 | D20: =SUM(B20:C20) -> 1826705 | E20: ='3.felh'!F13 -> 548867 | F20: ='3.felh'!F34+'3.felh'!F28 -> 69776 | G20: 0 | H20: =SUM(E20:G20) -> 618643 | I20: =D20+H20 -> 2445348 | J20: ='7.finanszírozás.'!C38 -> 487513 | K20: ='1.Bev-kiad.'!F61 -> 7455 | M20: =D20+H20+J20+K20+L20 -> 2940316
A21: Kötelező (módosított előirányzat 2025.09.havi) | B21: =SUM('7.finanszírozás.'!C12-'2.működés'!H105) -> #REF! | C21: =SUM('2.működés'!H105) -> 0 | D21: =SUM(B21:C21) -> #REF! | E21: ='3.felh'!H13 -> 0 | F21: ='3.felh'!H34 -> 0 | H21: =SUM(E21:G21) -> 0 | M21: =SUM(H21,D21) -> #REF!
A22: Kötelező (módosított előirányzat 2025.12.havi) | B22: =SUM('7.finanszírozás.'!C13-'2.működés'!J105) -> -3550 | C22: =SUM('2.működés'!J105) -> 0 | D22: =SUM(B22:C22) -> -3550 | E22: ='3.felh'!J13 -> 0 | F22: ='3.felh'!J34 -> 0 | H22: =SUM(E22:G22) -> 0 | L22: ='2.működés'!T119 -> 0 | M22: =SUM(H22,D22) -> -3550
A23: Kötelező (módosított előirányzat 2025.12.31) | B23: =SUM('7.finanszírozás.'!C14-'2.működés'!L105) -> -3550 | C23: =SUM('2.működés'!L105) -> 0 | D23: =SUM(B23:C23) -> -3550 | E23: ='3.felh'!L13 -> 0 | F23: ='3.felh'!L34 -> 0 | H23: =SUM(E23:G23) -> 0 | L23: ='2.működés'!V119 -> 0 | M23: =SUM(H23,D23) -> -3550
D24: =SUM(B24:C24) -> 0 | H24: =SUM(E24:G24) -> 0 | M24: =SUM(H24,D24) -> 0
A25: Teljesítés 2025.12.31. | B25: =SUM('7.finanszírozás.'!C16-'2.működés'!M109) -> -52814 | C25: =SUM('2.működés'!M109) -> 0 | D25: =SUM(B25:C25) -> -52814 | H25: =SUM(E25:G25) -> 0 | L25: ='2.működés'!W119 -> 0 | M25: =SUM(H25,D25) -> -52814
D26: =SUM(B26:C26) -> 0 | H26: =SUM(E26:G26) -> 0 | M26: =SUM(H26,D26) -> 0
A27: Önként vállalt teljesítés 2025.12.31. | D27: 0 | F27: 400 | H27: =SUM(E27:G27) -> 400 | I27: =D27+H27 -> 400 | M27: =D27+H27 -> 400
A28: Önként vállalt (eredeti előirányzat 2026. év) | D28: =SUM(B28:C28) -> 0 | F28: ='3.felh'!D31 -> 0 | H28: =SUM(E28:G28) -> 0 | I28: 0 | M28: =SUM(H28,D28) -> 0
A29: Önként vállalt (módosított előirányzat 2026.10. havi) | D29: =SUM(B29:C29) -> 0 | F29: ='3.felh'!F31 -> 0 | H29: =SUM(E29:G29) -> 0 | I29: 0 | M29: =SUM(H29,D29) -> 0
A30: Önként vállalt (módosított előirányzat 2025.09.havi) | D30: =SUM(B30:C30) -> 0 | F30: ='3.felh'!H31 -> 0 | H30: =SUM(E30:G30) -> 0 | M30: =SUM(H30,D30) -> 0
A31: Önként vállalt (módosított előirányzat 2025.12.havi) | D31: =SUM(B31:C31) -> 0 | F31: ='3.felh'!J31 -> 0 | H31: =SUM(E31:G31) -> 0 | M31: =SUM(H31,D31) -> 0
A32: Önként vállalt (módosított előirányzat 2025.12.31) | D32: =SUM(B32:C32) -> 0 | F32: ='3.felh'!L31 -> 0 | H32: =SUM(E32:G32) -> 0 | M32: =SUM(H32,D32) -> 0
D33: =SUM(B33:C33) -> 0 | F33: ='3.felh'!F34 -> 10295 | H33: =SUM(E33:G33) -> 10295 | M33: =SUM(H33,D33) -> 10295
A34: =A25 -> Teljesítés 2025.12.31. | D34: =SUM(B34:C34) -> 0 | E34: ='3.felh'!M13 -> 0 | F34: ='3.felh'!F35 -> 0 | G34: =SUM('3.felh'!M43) -> 0 | H34: =SUM(E34:G34) -> 0 | M34: =SUM(H34,D33) -> 0
A35: =A53 -> Államigazgatási feladatok (eredeti előirányzat 2026. év) | D35: =SUM(B35:C35) -> 0 | F35: 0 | H35: =SUM(E35:G35) -> 0 | I35: 0 | M35: =SUM(H35,D35) -> 0
A36: KÖH: Teljesítés 2025.12.31. | B36: =B44 -> 52814 | C36: =C44 -> 0 | D36: =D44 -> 52814 | E36: =E44 -> 0 | F36: =F44 -> 0 | G36: =G44 -> 0 | H36: =H44 -> 0 | I36: =D36+H36 -> 52814 | J36: =J44 -> 2047 | K36: =K44 -> 0 | L36: =L44 -> 240067 | M36: =I36+L36+J36+K36 -> 294928
A37: KÖH (eredeti előirányzat 2026. év) | B37: =SUM(B45) -> 59810 | C37: =SUM(C47) -> 0 | D37: =SUM(D45) -> 59810 | H37: 0 | I37: =D37+H37 -> 59810 | J37: =SUM(J45) -> 8100 | K37: =SUM(K45) -> 0 | L37: =SUM(L45) -> 303813 | M37: =D37+H37+J37+K37+L37 -> 371723
A38: KÖH (módosított előirányzat 2026.10. havi) | B38: =SUM(B46) -> 58263 | C38: =SUM(C48) -> 0 | D38: =SUM(D46) -> 58263 | H38: 0 | I38: =D38+H38 -> 58263 | J38: =SUM(J46) -> 8100 | K38: =SUM(K46) -> 0 | L38: =SUM(L46) -> 303813 | M38: =D38+H38+J38+K38+L38 -> 370176
A39: KÖH (módosított előirányzat 2025.09. havi) | B39: =SUM(B47) -> #REF! | C39: =SUM(C50) -> 0 | D39: =SUM(D47) -> #REF! | J39: =SUM(J47) -> 0 | K39: =SUM(K47) -> 0 | L39: =SUM(L47) -> 0 | M39: =SUM(D39) -> #REF!
A40: KÖH (módosított előirányzat 2025.12. havi) | B40: =SUM(B48) -> 3550 | C40: =SUM(C51) -> 0 | D40: =SUM(D48) -> 3550 | J40: =SUM(J48) -> 0 | K40: =SUM(K48) -> 0 | L40: =SUM(L48) -> 0 | M40: =SUM(D40) -> 3550
A41: KÖH (módosított előirányzat 2025.12.31) | B41: =SUM(B49) -> 3550 | C41: =SUM(C52) -> 0 | D41: =SUM(D49) -> 3550 | J41: =SUM(J49) -> 0 | K41: =SUM(K49) -> 0 | L41: =SUM(L49) -> 0 | M41: =SUM(D41) -> 3550
...

Sheet 5.Bev.össz_
A1: 5. melléklet
M2: ='1.Bev-kiad.'!F2 -> a 12/2026.(X.2.) önkormányzati rendelethez
M3: 5. melléklet az 5/2026.(II.23.) önkormányzati rendelethez
A5: Balatonföldvár Város Önkormányzatának 2026. évi bevételei kiemelt előirányzatonként, feladatonként
M6: ezer Ft-ban
B7: Működési célú bevételek | H7: Felhalmozási célú bevételek | M7: Bevételek mindösszesen
B8: Működési célú bevételek/közhatalmi bevételek | C8: Működési célú átvett pénzeszközök | E8: Finanszírozási bevétel (intézményi) | F8: Működési célú maradvány | G8: Működési célú bevételek összesen | H8: Felh. célú támogatások áht-n belülről | I8: Felhalmozási bevételek, átvett pénzeszközök | J8: Felhalmozási célú maradvány | K8: Felhalmozási célú hitel | L8: Felhalmozási célú bevételek összesen
C9: Feladat finanszírozás (intézményi) | D9: Egyéb átvett pénzeszköz
A10: Önkormányzat: Teljesítés 2025.12.31. | B10: =B18+B27 -> 1507115 | C10: =C18+C27 -> 0 | D10: =D18+D27 -> 29805 | E10: =E18+E27 -> 27576 | F10: =F18+F27 -> 319717 | G10: =G18+G27 -> 1884213 | H10: =H18+H27 -> 394384 | I10: =I18+I27 -> 11501 | ... M10: =M18+M27 -> 2328987
A11: Önkormányzat (eredeti előirányzat 2026. év) | B11: =B19+B28 -> 1927458 | C11: =C19+C28 -> 0 | D11: =D19+D28 -> 30000 | E11: =E19+E28 -> 0 | F11: =F19+F28 -> 189090 | G11: =G19+G28 -> 2146548 | H11: =H19+H28 -> 526642 | I11: =I19+I28 -> 40295 | ... L11: =L19+L28 -> 865360 | M11: =SUM(L11,G11) -> 3011908
A12: Önkormányzat (módosított előirányzat 2025.06.havi) | B12: =B20+B29 -> 1796705 | C12: =C20+C29 -> 0 | D12: =D20+D29 -> 30000 | E12: =E20+E29 -> 0 | F12: =F20+F29 -> 189090 | G12: =G20+G29 -> 2015795 | H12: =H20+H29 -> 548867 | I12: =I20+I29 -> 10295 | ... L12: =L20+L29 -> 857585 | M12: =SUM(L12,G12) -> 2873380
A13: Önkormányzat (módosított előirányzat 2025.09.havi) | B13: =B21+B30 -> #REF! | C13: =C21+C30 -> 0 | D13: =D21+D30 -> 0 | E13: =E21+E30 -> 0 | F13: =F21+F30 -> -2047 | G13: =G21+G30 -> #REF! | H13: =H21+H30 -> 0 | I13: =I21+I30 -> 0 | ... L13: =L21+L30 -> 0 | M13: =SUM(L13,G13) -> #REF!
A14: Önkormányzat (módosított előirányzat 2025.12.havi) | B14: =B22+B31 -> -3550 | C14: =C22+C31 -> 0 | D14: =D22+D31 -> 0 | E14: =E22+E31 -> 0 | F14: =F22+F31 -> -2047 | G14: =G22+G31 -> -5597 | H14: =H22+H31 -> 0 | I14: =I22+I31 -> 0 | ... L14: =L22+L31 -> 0 | M14: =SUM(L14,G14) -> -5597
A15: Önkormányzat (módosított előirányzat 2025.12.31) | B15: =B23+B32 -> -3550 | C15: =C23+C32 -> 0 | D15: =D23+D32 -> 0 | E15: =E23+E32 -> 0 | F15: =F23+F32 -> -2047 | G15: =G23+G32 -> -5597 | H15: =H23+H32 -> 0 | I15: =I23+I32 -> 0 | ... L15: =L23+L32 -> 0 | M15: =SUM(L15,G15) -> -5597
B16: =B24+B33 -> 0 | C16: =C24+C33 -> 0 | D16: =D24+D33 -> 0 | E16: =E24+E33 -> 0 | F16: =F24+F33 -> 0 | G16: =G24+G33 -> 0 | H16: =H24+H33 -> 0 | I16: =I24+I33 -> 10295 | ... L16: =L24+L33 -> 10295 | M16: =SUM(L16,G16) -> 10295
A17: Önkormányzat: Teljesítés 2025.12.31. | B17: =B25+B34 -> -52814 | C17: =C25+C34 -> 0 | D17: =D25+D34 -> 0 | E17: =E25+E34 -> 0 | F17: =F25+F34 -> -2047 | G17: =G25+G34 -> -54861 | H17: =H25+H34 -> 0 | I17: =I25+I34 -> 0 | ... L17: =L25+L34 -> 0 | M17: =SUM(L17,G17) -> -54861
A18: Kötelező teljesítés 2025.12.31. | B18: 1507115 | D18: 29805 | E18: 27576 | F18: 319717 | G18: =SUM(B18:F18) -> 1884213 | H18: 394384 | I18: 11101 | J18: 38889 | K18: 0 | L18: =SUM(H18:K18) -> 444374 | M18: =G18+L18 -> 2328587
A19: Kötelező (eredeti előirányzat 2026. év) | B19: =SUM('7.finanszírozás.'!C10)-'2.működés'!D105 -> 1927458 | D19: ='2.működés'!D105 -> 30000 | F19: =SUM('2.működés'!D114)-F45 -> 189090 | G19: =SUM(B19:F19) -> 2146548 | H19: ='3.felh'!D13 -> 526642 | I19: ='3.felh'!D34+'3.felh'!D28 -> 40295 | J19: =SUM('3.felh'!D40) -> 298423 | L19: =SUM(H19:K19) -> 865360 | M19: =SUM(L19,G19) -> 3011908
A20: Kötelező (módosított előirányzat 2025.06. havi) | B20: =SUM('7.finanszírozás.'!C11-'2.működés'!F105) -> 1796705 | D20: =SUM('2.működés'!F105) -> 30000 | F20: =SUM('2.működés'!F114-'7.finanszírozás.'!D38) -> 189090 | G20: =SUM(B20:F20) -> 2015795 | H20: ='3.felh'!F13 -> 548867 | I20: ='3.felh'!F34 -> 10295 | J20: ='1.Bev-kiad.'!F59 -> 298423 | L20: =SUM(H20:K20) -> 857585 | M20: =SUM(L20,G20) -> 2873380
A21: Kötelező (módosított előirányzat 2025.09.havi) | B21: =SUM('7.finanszírozás.'!C12-'2.működés'!H105) -> #REF! | D21: =SUM('2.működés'!H105) -> 0 | F21: =SUM('2.működés'!H114-'7.finanszírozás.'!D39) -> -2047 | G21: =SUM(B21:F21) -> #REF! | H21: ='3.felh'!H13 -> 0 | I21: ='3.felh'!H34 -> 0 | J21: ='1.Bev-kiad.'!H59 -> 0 | L21: =SUM(H21:K21) -> 0 | M21: =SUM(L21,G21) -> #REF!
A22: Kötelező (módosított előirányzat 2025.12.havi) | B22: =SUM('7.finanszírozás.'!C13-'2.működés'!J105) -> -3550 | D22: =SUM('2.működés'!J105) -> 0 | E22: ='2.működés'!J119 -> 0 | F22: =SUM('2.működés'!J114-'7.finanszírozás.'!D40) -> -2047 | G22: =SUM(B22:F22) -> -5597 | H22: ='3.felh'!J13 -> 0 | I22: ='3.felh'!J34 -> 0 | J22: ='1.Bev-kiad.'!J59 -> 0 | L22: =SUM(H22:K22) -> 0 | M22: =SUM(L22,G22) -> -5597
A23: Kötelező (módosított előirányzat 2025.12.31) | B23: =SUM('7.finanszírozás.'!C14-'2.működés'!L105) -> -3550 | D23: =SUM('2.működés'!L105) -> 0 | E23: ='2.működés'!L119 -> 0 | F23: =SUM('2.működés'!L114-'7.finanszírozás.'!D41) -> -2047 | G23: =SUM(B23:F23) -> -5597 | H23: ='3.felh'!L13 -> 0 | I23: ='3.felh'!L34 -> 0 | J23: ='1.Bev-kiad.'!L59 -> 0 | L23: =SUM(H23:K23) -> 0 | M23: =SUM(L23,G23) -> -5597
G24: =SUM(B24:F24) -> 0 | L24: =SUM(H24:K24) -> 0 | M24: =SUM(L24,G24) -> 0
A25: Teljesítés 2025.12.31. | B25: =SUM('7.finanszírozás.'!C16-'2.működés'!M109) -> -52814 | D25: =SUM('2.működés'!M109) -> 0 | E25: ='2.működés'!M119 -> 0 | F25: =SUM('2.működés'!M114-'7.finanszírozás.'!D43) -> -2047 | G25: =SUM(B25:F25) -> -54861 | J25: ='1.Bev-kiad.'!M59 -> 0 | L25: =SUM(H25:K25) -> 0 | M25: =SUM(L25,G25) -> -54861
G26: =SUM(B26:F26) -> 0 | L26: =SUM(H26:K26) -> 0 | M26: =SUM(L26,G26) -> 0
A27: Önként vállalt teljesítés 2025.12.31. | G27: 0 | I27: 400 | L27: =SUM(H27:K27) -> 400 | M27: =G27+L27 -> 400
A28: Önként vállalt (eredeti előirányzat 2026. év) | G28: =SUM(B28:F28) -> 0 | L28: =SUM(H28:K28) -> 0 | M28: =SUM(L28,G28) -> 0
A29: Önként vállalt (módosított előirányzat 2025.06. havi) | G29: =SUM(B29:F29) -> 0 | I29: ='3.felh'!F31 -> 0 | L29: =SUM(H29:K29) -> 0 | M29: =SUM(L29,G29) -> 0
A30: Önként vállalt (módosított előirányzat 2025.09.havi) | G30: =SUM(B30:F30) -> 0 | I30: ='3.felh'!H31 -> 0 | L30: =SUM(H30:K30) -> 0 | M30: =SUM(L30,G30) -> 0
A31: Önként vállalt (módosított előirányzat 2025.12.havi) | G31: =SUM(B31:F31) -> 0 | I31: ='3.felh'!J31 -> 0 | L31: =SUM(H31:K31) -> 0 | M31: =SUM(L31,G31) -> 0
A32: Önként vállalt (módosított előirányzat 2025.12.31) | G32: =SUM(B32:F32) -> 0 | I32: ='3.felh'!L31 -> 0 | L32: =SUM(H32:K32) -> 0 | M32: =SUM(L32,G32) -> 0
G33: =SUM(B33:F33) -> 0 | I33: ='3.felh'!F34 -> 10295 | L33: =SUM(H33:K33) -> 10295 | M33: =SUM(L33,G33) -> 10295
A34: =A25 -> Teljesítés 2025.12.31. | G34: =SUM(B34:F34) -> 0 | H34: ='3.felh'!M13 -> 0 | I34: ='3.felh'!F35 -> 0 | K34: =SUM('3.felh'!M43) -> 0 | L34: =SUM(H34:K34) -> 0 | M34: =SUM(L34,G33) -> 0
A35: =A53 -> Államigazgatási feladatok (eredeti előirányzat 2026. év) | G35: =SUM(B35:F35) -> 0 | L35: =SUM(H35:K35) -> 0 | M35: =SUM(L35,G35) -> 0
A36: KÖH: Teljesítés 2025.12.31. | B36: =B44 -> 52814 | C36: =C44 -> 166555 | D36: =D44 -> 0 | E36: =E44 -> 73512 | F36: =F44 -> 2047 | G36: =G44 -> 294928 | H36: =H44 -> 0 | I36: =I44 -> 0 | ... M36: =M44 -> 294928
A37: KÖH (eredeti előirányzat 2026. év) | B37: =SUM(B45) -> 59810 | C37: =SUM(C45) -> 223855 | D37: =SUM(D47) -> 0 | E37: =SUM(E45) -> 79958 | F37: =SUM(F45) -> 8100 | G37: =SUM(G45) -> 371723 | L37: 0 | M37: =SUM(G37) -> 371723
A38: KÖH (módosított előirányzat 2025.06. havi) | B38: =SUM(B46) -> 58263 | C38: =SUM(C46) -> 223855 | D38: =SUM(D48) -> 0 | E38: =SUM(E46) -> 79958 | F38: =SUM(F46) -> 8100 | G38: =SUM(G46) -> 370176 | L38: 0 | M38: =SUM(G38) -> 370176
A39: KÖH (módosított előirányzat 2025.09. havi) | B39: =SUM(B47) -> #REF! | C39: =SUM(C47) -> 166555 | D39: =SUM(D50) -> 0 | E39: =SUM(E47) -> 79958 | F39: =SUM(F47) -> 2047 | G39: =SUM(G47) -> #REF! | M39: =SUM(G39) -> #REF!
A40: KÖH (módosított előirányzat 2025.12. havi) | B40: =SUM(B48) -> 3550 | C40: =SUM(C48) -> 166555 | D40: =SUM(D51) -> 0 | E40: =SUM(E48) -> -172152 | F40: =SUM(F48) -> 2047 | G40: =SUM(G48) -> 0 | M40: =SUM(G40) -> 0
A41: KÖH (módosított előirányzat 2025.12.31) | B41: =SUM(B49) -> 3550 | C41: =SUM(C49) -> 166555 | D41: =SUM(D52) -> 0 | E41: =SUM(E49) -> -172152 | F41: =SUM(F49) -> 2047 | G41: =SUM(G49) -> 0 | M41: =SUM(G41) -> 0
...

Sheet 6.Kiad.össz.
P1: 6. melléklet
P2: ='1.Bev-kiad.'!F2 -> a 12/2026.(X.2.) önkormányzati rendelethez
P3: 6. melléklet az 5/2026.(II.23.) önkormányzati rendelethez
A4: Balatonföldvár Város Önkormányzatának 2026. évi kiadásai intézményenként, kiemelt előirányzatonként, feladatonkénti bontásban, valamint az önkormányzat és költségvetési szervei engedélyezett létszáma
P5: ezerFt
B6: Működési célú kiadások | H6: Működési célú kiadások mind összesen | I6: Felhalmozási célú kiadások | L6: Felhalmozási célú kiadások összesen | M6: Költségvetési kiadások összesen | N6: Finanszírozási kiadások | P6: Kiadások összesen | Q6: Létszám | R6: polgármester (főállású) | S6: alpolgármester (társadalmi megbízatású) | T6: választott képviselők | U6: közalkalmazott | V6: Munka Törvénykönyve hatálya alá tartozó | W6: közfoglalkoztatott | X6: köztisztviselő | Y6: ügykezelő
B7: Személyi juttatás | C7: Munkaadót terhelő járulékok és szociális hozzájárulási adó | D7: Dologi kiadások | E7: Ellátottak pénzbeli juttatásai | F7: Egyéb működési célú kiadások | G7: Működési célú tartalék | I7: Beruházás | J7: Felújítás | K7: Egyéb felhalmozási célú kiadás
N8: Intézmény finanszírozás | O8: Belföldi finanszírozás kiadásai (hiteltörlesztések, ÁHB megelőlegezés)
A9: Önkormányzat: Teljesítés 2025.12.31. | B9: =B17+B25 -> 77514 | C9: =C17+C25 -> 8688 | D9: =D17+D25 -> 324888 | E9: =E17+E25 -> 6186 | F9: =F17+F25 -> 707464 | G9: =G17+G25 -> 0 | H9: =H17+H25 -> 1124740 | I9: =I17+I25 -> 188134 | ... K9: =K17+K25 -> 0 | L9: =I9+J9+K9 -> 360793 | M9: =H9+L9 -> 1485533 | N9: =N17+N25 -> 240067 | O9: =O17+O25 -> 115874 | P9: =M9+N9+O9 -> 1841474 | Q9: =Q17 -> 12 | R9: =R17 -> 1 | S9: =S17 -> 2 | T9: =T17 -> 4 | U9: =U17 -> 3 | V9: =V17 -> 2 | W9: =W17 -> 0 | X9: =X17 -> 0 | Y9: =Y17 -> 0
A10: ='5.Bev.össz_'!A11 -> Önkormányzat (eredeti előirányzat 2026. év) | B10: =B18+B26 -> 74011 | C10: =C18+C26 -> 8811 | D10: =D18+D26 -> 591960 | E10: =E18+E26 -> 20000 | F10: =F18+F26 -> 741989 | G10: =G18+G26 -> 76000 | H10: =B10+C10+D10+E10+F10+G10 -> 1512771 | I10: =I18+I26 -> 743862 | J10: =J18+J26 -> 329676 | K10: =K18+K26 -> 0 | L10: =I10+J10+K10 -> 1073538 | M10: =H10+L10 -> 2586309 | N10: =N18+N26 -> 303813 | O10: =O18+O26 -> 121786 | P10: =H10+L10+N10+O10 -> 3011908 | Q10: =Q18 -> 12 | R10: =R18 -> 1 | S10: =S18 -> 2 | T10: =T18 -> 4 | U10: =U18 -> 3 | V10: =V18 -> 2 | W10: =W18 -> 0 | X10: =X18 -> 0 | Y10: =Y18 -> 0
A11: ='5.Bev.össz'!A12 -> Önkormányzat (módosított előirányzat 2026.10.havi) | B11: =B19+B27 -> 74385 | C11: =C19+C27 -> 8881 | D11: =D19+D27 -> 444667 | E11: =E19+E27 -> 20000 | F11: =F19+F27 -> 754719 | G11: =G19+G27 -> 161402 | H11: =B11+C11+D11+E11+F11+N11+O11+G11 -> 1897108 | I11: =I19+I27 -> 744640 | J11: =J19+J27 -> 276343 | K11: =K19+K27 -> 22225 | L11: =I11+J11+K11 -> 1043208 | M11: =E11+I11 -> 764640 | N11: =N19+N27 -> 303813 | O11: =O19+O27 -> 129241 | P11: =H11+L11 -> 2940316 | Q11: =Q19 -> 11 | R11: =R19 -> 1 | S11: =S19 -> 2 | T11: =T19 -> 4 | U11: =U19 -> 2 | V11: =V19 -> 2 | W11: =W19 -> 0 | X11: =X19 -> 0 | Y11: =Y19 -> 0
A12: ='5.Bev.össz_'!A13 -> Önkormányzat (módosított előirányzat 2025.09.havi) | B12: =B20+B28 -> 0 | C12: =C20+C28 -> 0 | D12: =D20+D28 -> 0 | E12: =E20+E28 -> 0 | F12: =F20+F28 -> 0 | G12: =G20+G28 -> 0 | H12: =B12+C12+D12+E12+F12+N12+O12+G12 -> -5597 | I12: =I20+I28 -> 0 | J12: =J20+J28 -> 0 | K12: =K20+K28 -> 0 | L12: =I12+J12+K12 -> 0 | M12: =E12+I12 -> 0 | N12: =N20+N28 -> -5597 | O12: =O20+O28 -> 0 | P12: =H12+L12 -> -5597 | Q12: =Q20 -> 12 | R12: =R20 -> 1 | S12: =S20 -> 2 | T12: =T20 -> 4 | U12: =U20 -> 3 | V12: =V20 -> 2 | W12: =W20 -> 0 | X12: =X20 -> 0 | Y12: =Y20 -> 0
A13: ='5.Bev.össz_'!A14 -> Önkormányzat (módosított előirányzat 2025.12.havi) | B13: =B21+B29 -> 0 | C13: =C21+C29 -> 0 | D13: =D21+D29 -> 0 | E13: =E21+E29 -> 0 | F13: =F21+F29 -> 0 | G13: =G21+G29 -> 0 | H13: =B13+C13+D13+E13+F13+N13+O13+G13 -> -5597 | I13: =I21+I29 -> 0 | J13: =J21+J29 -> 0 | K13: =K21+K29 -> 0 | L13: =I13+J13+K13 -> 0 | M13: =E13+I13 -> 0 | N13: =N21+N29 -> -5597 | O13: =O21+O29 -> 0 | P13: =H13+L13 -> -5597 | Q13: =Q21 -> 12 | R13: =R21 -> 1 | S13: =S21 -> 2 | T13: =T21 -> 4 | U13: =U21 -> 3 | V13: =V21 -> 2 | W13: =W21 -> 0 | X13: =X21 -> 0 | Y13: =Y21 -> 0
