Workbook
Name adfadf: '[1]4.1. táj.'!#REF!
Name beruh: '[1]4.1. táj.'!#REF!
Name beruh: '[1]4.1. táj.'!#REF!
Name beruh: '[1]4.1. táj.'!#REF!
Name beruh: '[1]4.1. táj.'!#REF!
Name beruh: '[1]4.1. táj.'!#REF!
Name beruh: '[1]4.1. táj.'!#REF!
Name beruh: '[1]4.1. táj.'!#REF!
Name beruh: '[1]4.1. táj.'!#REF!
Name beruh: '[1]4.1. táj.'!#REF!
Name beruh: '[1]4.1. táj.'!#REF!
Name intézmények: '[2]4.1. táj.'!#REF!
Name intézmények: '[2]4.1. táj.'!#REF!
Name intézmények: '[2]4.1. táj.'!#REF!
Name intézmények: '[2]4.1. táj.'!#REF!
Name intézmények: '[2]4.1. táj.'!#REF!
Name intézmények: '[2]4.1. táj.'!#REF!
Name intézmények: '[2]4.1. táj.'!#REF!
Name intézmények: '[2]4.1. táj.'!#REF!
Name intézmények: '[2]4.1. táj.'!#REF!
Name intézmények: '[2]4.1. táj.'!#REF!
Name qewrqewr: '[1]4.1. táj.'!#REF!
Name qewrqewr: '[1]4.1. táj.'!#REF!
Name qewrqewr: '[1]4.1. táj.'!#REF!
Name qewrqewr: '[1]4.1. táj.'!#REF!
Name qewrqewr: '[1]4.1. táj.'!#REF!
Name qewrqewr: '[1]4.1. táj.'!#REF!
Name qewrqewr: '[1]4.1. táj.'!#REF!

Sheet 1.Bev-kiad.
F1: 1. melléklet
F2: a 12/2026.(X.2.) önkormányzati rendelethez
F3: 1. melléklet az 5/2026.(II.23.) önkormányzati rendelethez
A5: Balatonföldvár Város Önkormányzatának
A6: 2026. évi összevont mérlege
F7: ezer Ft-ban
A8: Rovat | B8: Önkormányzati bevételek - kiadások | C8: 2025. évi teljesítés | D8: 2026. évi eredeti előirányzat | E8: előirányzat változás | F8: Módosított előirányzat 2026.10.havi | G8: előirányzat változás | I8: előirányzat változás | K8: előirányzat változás
A9: B1-7 | B9: A. K ö l t s é g v e t é s i b e v é t e l e k | C9: =SUM(C10:C51) -> 1995619 | D9: =SUM(D10:D51) -> 2584205 | E9: =F9-D9 -> -80594 | F9: =SUM(F10:F51) -> 2503611 | G9: =H9-F9 -> -2503611 | H9: =SUM(H10:H51) -> 0 | I9: =J9-H9 -> 0 | J9: =SUM(J10:J51) -> 0 | K9: =L9-J9 -> 0 | L9: =SUM(L10:L51) -> 0 | M9: =SUM(M10:M51) -> 0
A10: B1 | B10: I. Működési célú támogatások államháztartáson belülről | C10: =SUM('2.működés'!C9) -> 769186 | D10: =SUM('2.működés'!D9) -> 895072 | E10: =F10-D10 -> 9087 | F10: =SUM('2.működés'!F9) -> 904159 | G10: =H10-F10 -> -904159 | H10: =SUM('2.működés'!H9) -> 0 | I10: =J10-H10 -> 0 | J10: =SUM('2.működés'!J9) -> 0 | K10: =L10-J10 -> 0 | L10: =SUM('2.működés'!L9) -> 0 | M10: =SUM('2.működés'!M9) -> 0
A11: B11 | B11: 1.1. Önkormányzatok működési támogatásai | E11: =F11-D11 -> 0 | G11: =H11-F11 -> 0 | I11: =J11-H11 -> 0 | K11: =L11-J11 -> 0
A12: B12-16 | B12: 1.2. Egyéb működési célú támogatások | E12: =F12-D12 -> 0 | G12: =H12-F12 -> 0 | I12: =J12-H12 -> 0 | K12: =L12-J12 -> 0
A13: B13 | B13: 1.3. Működési és garancia- és kezességvállalásból származó bevételek | E13: =F13-D13 -> 0 | G13: =H13-F13 -> 0 | I13: =J13-H13 -> 0 | K13: =L13-J13 -> 0
A14: B14 | B14: 1.4. Működési célú visszatérítendő támogatások, kölcsönök visszatérülése | E14: =F14-D14 -> 0 | G14: =H14-F14 -> 0 | I14: =J14-H14 -> 0 | K14: =L14-J14 -> 0
A15: B15 | B15: 1.5. Működési célú visszatérítendő támogatások, kölcsönök igénybevétele | E15: =F15-D15 -> 0 | G15: =H15-F15 -> 0 | I15: =J15-H15 -> 0 | K15: =L15-J15 -> 0
A16: B16 | B16: 1.6. Egyéb működési célú támogatások | E16: =F16-D16 -> 0 | G16: =H16-F16 -> 0 | I16: =J16-H16 -> 0 | K16: =L16-J16 -> 0
A17: B2 | B17: II. Felhalmozási célú támogatások államháztartáson belülről | C17: =SUM('3.felh'!C13) -> 394384 | D17: =SUM('3.felh'!D13) -> 526642 | E17: =F17-D17 -> 22225 | F17: =SUM('3.felh'!F13) -> 548867 | G17: =H17-F17 -> -548867 | H17: =SUM('3.felh'!H13) -> 0 | I17: =J17-H17 -> 0 | J17: =SUM('3.felh'!J13) -> 0 | K17: =L17-J17 -> 0 | L17: =SUM('3.felh'!L13) -> 0 | M17: =SUM('3.felh'!M13) -> 0
A18: B21 | B18: 2.1. Felhalmozási célú önkormányzati támogatások | E18: =F18-D18 -> 0 | G18: =H18-F18 -> 0 | I18: =J18-H18 -> 0 | K18: =L18-J18 -> 0
A19: B22-25 | B19: 2.2. Egyéb felhalmozási célú támogatások | E19: =F19-D19 -> 0 | G19: =H19-F19 -> 0 | I19: =J19-H19 -> 0 | K19: =L19-J19 -> 0
A20: B23 | B20: 2.3. Felhalmozási célú visszatérítendő támogatások, kölcsönök visszatérülése | E20: =F20-D20 -> 0 | G20: =H20-F20 -> 0 | I20: =J20-H20 -> 0 | K20: =L20-J20 -> 0
A21: B24 | B21: 2.4. Felhalmozási célú visszatérítendő támogatások, kölcsönök igénybevétele | E21: =F21-D21 -> 0 | G21: =H21-F21 -> 0 | I21: =J21-H21 -> 0 | K21: =L21-J21 -> 0
A22: B25 | B22: 2.5. Egyéb felhalmozási célú támogatások | E22: =F22-D22 -> 0 | G22: =H22-F22 -> 0 | I22: =J22-H22 -> 0 | K22: =L22-J22 -> 0
A23: B3 | B23: III. Közhatalmi bevételek | C23: =SUM('2.működés'!C76) -> 738279 | D23: =SUM('2.működés'!D76) -> 875000 | E23: =F23-D23 -> 0 | F23: =SUM('2.működés'!F76) -> 875000 | G23: =H23-F23 -> -875000 | H23: =SUM('2.működés'!H76) -> 0 | I23: =J23-H23 -> 0 | J23: =SUM('2.működés'!J76) -> 0 | K23: =L23-J23 -> 0 | L23: =SUM('2.működés'!L76) -> 0 | M23: =SUM('2.működés'!M76) -> 0
A24: B31 | B24: 3.1. Jövedelemadók | E24: =F24-D24 -> 0 | G24: =H24-F24 -> 0 | I24: =J24-H24 -> 0 | K24: =L24-J24 -> 0
A25: B32 | B25: 3.2. Szociális hozzájárulási adók és járulékok | E25: =F25-D25 -> 0 | G25: =H25-F25 -> 0 | I25: =J25-H25 -> 0 | K25: =L25-J25 -> 0
A26: B33 | B26: 3.3. Bérhez és foglalkoztatáshoz kapcsolódó adók | E26: =F26-D26 -> 0 | G26: =H26-F26 -> 0 | I26: =J26-H26 -> 0 | K26: =L26-J26 -> 0
A27: B34 | B27: 3.4. Vagyoni típusú adók (építményadó, telekadó) | E27: =F27-D27 -> 0 | G27: =H27-F27 -> 0 | I27: =J27-H27 -> 0 | K27: =L27-J27 -> 0
A28: B35 | B28: 3.5. Termékek és szolgáltatások adói (iparűzési adó, gépjárműadó) | E28: =F28-D28 -> 0 | G28: =H28-F28 -> 0 | I28: =J28-H28 -> 0 | K28: =L28-J28 -> 0
A29: B36 | B29: 3.6. Egyéb közhatalmi bevételek | E29: =F29-D29 -> 0 | G29: =H29-F29 -> 0 | I29: =J29-H29 -> 0 | K29: =L29-J29 -> 0
A30: B4 | B30: IV. Működési bevételek | C30: =SUM('2.működés'!C93) -> 52464 | D30: =SUM('2.működés'!D93) -> 217196 | E30: =F30-D30 -> -141387 | F30: =SUM('2.működés'!F93) -> 75809 | G30: =H30-F30 -> -75809 | H30: =SUM('2.működés'!H93) -> 0 | I30: =J30-H30 -> 0 | J30: =SUM('2.működés'!J93) -> 0 | K30: =L30-J30 -> 0 | L30: =SUM('2.működés'!L93) -> 0 | M30: =SUM('2.működés'!M93) -> 0
A31: B401 | B31: 4.1. Készletértékesítés ellenértéke | E31: =F31-D31 -> 0 | G31: =H31-F31 -> 0 | I31: =J31-H31 -> 0 | K31: =L31-J31 -> 0
A32: B402 | B32: 4.2. Szolgáltatások ellenértéke | E32: =F32-D32 -> 0 | G32: =H32-F32 -> 0 | I32: =J32-H32 -> 0 | K32: =L32-J32 -> 0
A33: B403 | B33: 4.3. Közvetített szolgáltatások ellenértéke | E33: =F33-D33 -> 0 | G33: =H33-F33 -> 0 | I33: =J33-H33 -> 0 | K33: =L33-J33 -> 0
A34: B404 | B34: 4.4. Tulajdonosi bevételek | E34: =F34-D34 -> 0 | G34: =H34-F34 -> 0 | I34: =J34-H34 -> 0 | K34: =L34-J34 -> 0
A35: B405 | B35: 4.5. Ellátási díjak | E35: =F35-D35 -> 0 | G35: =H35-F35 -> 0 | I35: =J35-H35 -> 0 | K35: =L35-J35 -> 0
A36: B406 | B36: 4.6. Kiszámlázott ÁFA | E36: =F36-D36 -> 0 | G36: =H36-F36 -> 0 | I36: =J36-H36 -> 0 | K36: =L36-J36 -> 0
A37: B407 | B37: 4.7. ÁFA visszatérítése | E37: =F37-D37 -> 0 | G37: =H37-F37 -> 0 | I37: =J37-H37 -> 0 | K37: =L37-J37 -> 0
A38: B408 | B38: 4.8. Kamatbevételek | E38: =F38-D38 -> 0 | G38: =H38-F38 -> 0 | I38: =J38-H38 -> 0 | K38: =L38-J38 -> 0
A39: B409 | B39: 4.9. Egyéb pénzügyi műveletek bevételei | E39: =F39-D39 -> 0 | G39: =H39-F39 -> 0 | I39: =J39-H39 -> 0 | K39: =L39-J39 -> 0
A40: B410 | B40: 4.10. Egyéb működési bevételek | E40: =F40-D40 -> 0 | G40: =H40-F40 -> 0 | I40: =J40-H40 -> 0 | K40: =L40-J40 -> 0
A41: B5 | B41: V. Felhalmozási bevételek | C41: =SUM('3.felh'!C28) -> 400 | D41: =SUM('3.felh'!D28) -> 30000 | E41: =F41-D41 -> 29481 | F41: =SUM('3.felh'!F28) -> 59481 | G41: =H41-F41 -> -59481 | H41: =SUM('3.felh'!H28) -> 0 | I41: =J41-H41 -> 0 | J41: =SUM('3.felh'!J28) -> 0 | K41: =L41-J41 -> 0 | L41: =SUM('3.felh'!L28) -> 0 | M41: =SUM('3.felh'!M28) -> 0
A42: B51 | B42: 5.1. Immateriális javak értékesítése | E42: =F42-D42 -> 0 | G42: =H42-F42 -> 0 | I42: =J42-H42 -> 0 | K42: =L42-J42 -> 0
A43: B52 | B43: 5.2. Ingatlanok értékesítése | E43: =F43-D43 -> 0 | G43: =H43-F43 -> 0 | I43: =J43-H43 -> 0 | K43: =L43-J43 -> 0
A44: B53 | B44: 5.3. Egyéb tárgyi eszközök értékesítése | E44: =F44-D44 -> 0 | G44: =H44-F44 -> 0 | I44: =J44-H44 -> 0 | K44: =L44-J44 -> 0
A45: B54 | B45: 5.4. Részesedések értékesítése | E45: =F45-D45 -> 0 | G45: =H45-F45 -> 0 | I45: =J45-H45 -> 0 | K45: =L45-J45 -> 0
A46: B55 | B46: 5.5. Részesedések megszűnéséhez kapcsolódó bevételek | E46: =F46-D46 -> 0 | G46: =H46-F46 -> 0 | I46: =J46-H46 -> 0 | K46: =L46-J46 -> 0
A47: B6 | B47: VI. Működési célú átvett pénzeszközök | C47: =SUM('2.működés'!C105) -> 29805 | D47: =SUM('2.működés'!D105) -> 30000 | E47: =F47-D47 -> 0 | F47: =SUM('2.működés'!F105) -> 30000 | G47: =H47-F47 -> -30000 | H47: =SUM('2.működés'!H105) -> 0 | I47: =J47-H47 -> 0 | J47: =SUM('2.működés'!J105) -> 0 | K47: =L47-J47 -> 0 | L47: =SUM('2.működés'!L105) -> 0 | M47: =SUM('2.működés'!M105) -> 0
A48: B61 | B48: 6.1. Működési célú garancia- és kezességvállalásból származó megtérülések | E48: =F48-D48 -> 0 | G48: =H48-F48 -> 0 | I48: =J48-H48 -> 0 | K48: =L48-J48 -> 0
A49: B62 | B49: 6.2. Működési célú visszatérítendő támogatások, kölcsönök visszatérülése | E49: =F49-D49 -> 0 | G49: =H49-F49 -> 0 | I49: =J49-H49 -> 0 | K49: =L49-J49 -> 0
A50: B63 | B50: 6.3. Egyéb működési célú átvett pénzeszközök | E50: =F50-D50 -> 0 | G50: =H50-F50 -> 0 | I50: =J50-H50 -> 0 | K50: =L50-J50 -> 0
A51: B7 | B51: VII. Felhalmozási célú átvett pénzeszközök | C51: =SUM('3.felh'!C34) -> 11101 | D51: =SUM('3.felh'!D34) -> 10295 | E51: =F51-D51 -> 0 | F51: =SUM('3.felh'!F34) -> 10295 | G51: =H51-F51 -> -10295 | H51: =SUM('3.felh'!H34) -> 0 | I51: =J51-H51 -> 0 | J51: =SUM('3.felh'!J34) -> 0 | K51: =L51-J51 -> 0 | L51: =SUM('3.felh'!L34) -> 0 | M51: =SUM('3.felh'!M34) -> 0
A52: B71 | B52: 7.1. Felhalmozási célú garancia- és kezességvállalásból származó megtérülések | E52: =F52-D52 -> 0 | G52: =H52-F52 -> 0 | I52: =J52-H52 -> 0 | K52: =L52-J52 -> 0
A53: B72 | B53: 7.2. Felhalmozási célú visszatérítendő támogatások, kölcsönök visszatérülése | E53: =F53-D53 -> 0 | G53: =H53-F53 -> 0 | I53: =J53-H53 -> 0 | K53: =L53-J53 -> 0
A54: B73 | B54: 7.3. Felhalmozási célú átvett pénzeszközök | E54: =F54-D54 -> 0 | G54: =H54-F54 -> 0 | I54: =J54-H54 -> 0 | K54: =L54-J54 -> 0
A55: B8 | B55: B. F i n a n s z í r o z á s i b e v é t e l e k | C55: =SUM(C56+C62)+C63 -> 388229 | D55: =SUM(D56+D62)+D63 -> 495613 | E55: =F55-D55 -> 7455 | F55: =SUM(F56+F62) -> 503068 | G55: =H55-F55 -> -503068 | H55: =SUM(H56+H62) -> 0 | I55: =J55-H55 -> 0 | J55: =SUM(J56+J62) -> 0 | K55: =L55-J55 -> 0 | L55: =SUM(L56+L62) -> 0 | M55: =SUM(M56+M62) -> 0
B56: 1. Belföldi finanszírozás bevételei | C56: =SUM(C57)+C60+C61 -> 388229 | D56: =SUM(D57)+D60+D61 -> 495613 | E56: =F56-D56 -> 7455 | F56: =SUM(F57)+F60+F61 -> 503068 | G56: =H56-F56 -> -503068 | H56: =SUM(H57)+H60 -> 0 | I56: =J56-H56 -> 0 | J56: =SUM(J57)+J60 -> 0 | K56: =L56-J56 -> 0 | L56: =SUM(L57)+L60 -> 0 | M56: =SUM(M57)+M60 -> 0
B57: 1.1. Előző év költségvetési maradványának igénybevétele | C57: =SUM(C58:C59) -> 360653 | D57: =SUM(D58:D59) -> 495613 | E57: =F57-D57 -> 0 | F57: =SUM(F58:F59) -> 495613 | G57: =H57-F57 -> -495613 | H57: =SUM(H58:H59) -> 0 | I57: =J57-H57 -> 0 | J57: =SUM(J58:J59) -> 0 | K57: =L57-J57 -> 0 | L57: =SUM(L58:L59) -> 0 | M57: =SUM(M58:M59) -> 0
B58: Működési célú maradvány | C58: =SUM('2.működés'!C114) -> 321764 | D58: =SUM('2.működés'!D114) -> 197190 | E58: =F58-D58 -> 0 | F58: =SUM('2.működés'!F114) -> 197190 | G58: =H58-F58 -> -197190 | H58: =SUM('2.működés'!H114) -> 0 | I58: =J58-H58 -> 0 | J58: =SUM('2.működés'!J114) -> 0 | K58: =L58-J58 -> 0 | L58: =SUM('2.működés'!L114) -> 0 | M58: =SUM('2.működés'!M114) -> 0
B59: Felhalmozási célú maradvány | C59: ='3.felh'!C40 -> 38889 | D59: ='3.felh'!D40 -> 298423 | E59: =F59-D59 -> 0 | F59: ='3.felh'!F40 -> 298423 | G59: =H59-F59 -> -298423 | H59: ='3.felh'!H40 -> 0 | I59: =J59-H59 -> 0 | J59: ='3.felh'!J40 -> 0 | K59: =L59-J59 -> 0 | L59: ='3.felh'!L40 -> 0 | M59: ='3.felh'!M40 -> 0
B60: 1.2. ÁHB megelőlegezések bevétele | C60: ='2.működés'!C119 -> 27576 | D60: ='2.működés'!D119 -> 0 | E60: =F60-D60 -> 0 | F60: ='2.működés'!F119 -> 0 | G60: =H60-F60 -> 0 | H60: ='2.működés'!H119 -> 0 | I60: =J60-H60 -> 0 | J60: ='2.működés'!J119 -> 0 | K60: =L60-J60 -> 0 | L60: ='2.működés'!L119 -> 0 | M60: ='2.működés'!M119 -> 0
B61: 1.3. Likviditási célú hitelek, kölcsönök felvétele pénzügyi vállalkozástól | C61: ='2.működés'!C120 -> 0 | D61: ='2.működés'!D120 -> 0 | E61: =F61-D61 -> 7455 | F61: ='2.működés'!F120 -> 7455
B62: 2. Külföldi finanszírozás bevételei | C62: =SUM(C63:C64) -> 0 | D62: =SUM(D63:D64) -> 0 | E62: =F62-D62 -> 0 | F62: =SUM(F63:F64) -> 0 | G62: =H62-F62 -> 0 | H62: =SUM(H63:H64) -> 0 | I62: =J62-H62 -> 0 | J62: =SUM(J63:J64) -> 0 | K62: =L62-J62 -> 0 | L62: =SUM(L63:L64) -> 0 | M62: =SUM(M63:M64) -> 0
B63: 3. Adóssághoz nem kapcsolódó származékos ügyletek bevételei | C63: 0 | D63: ='2.működés'!D122 -> 0 | E63: =F63-D63 -> 0 | F63: 0 | H63: 0 | J63: 0 | L63: 0 | M63: 0
F64: ='3.felh'!F43 -> 0 | H64: ='3.felh'!H43 -> 0 | J64: ='3.felh'!J43 -> 0 | L64: ='3.felh'!L43 -> 0 | M64: ='3.felh'!M43 -> 0
B65: Bevételek összesen | C65: =SUM(C9+C55) -> 2383848 | D65: =SUM(D9+D55) -> 3079818 | E65: =F65-D65 -> -73139 | F65: =SUM(F9+F55) -> 3006679 | G65: =H65-F65 -> -3006679 | H65: =SUM(H9+H55) -> 0 | I65: =J65-H65 -> 0 | J65: =SUM(J9+J55) -> 0 | K65: =L65-J65 -> 0 | L65: =SUM(L9+L55) -> 0 | M65: =SUM(M9+M55) -> 0
A66: K1-8 | B66: A. K ö l t s é g v e t é s i k i a d á s o k | C66: =SUM(C67+C76) -> 1772361 | D66: =SUM(D67+D76) -> 2958032 | E66: =F66-D66 -> -80594 | F66: =SUM(F67+F76) -> 2877438 | G66: =H66-F66 -> -2877438 | H66: =SUM(H67+H76) -> 0 | I66: =J66-H66 -> 0 | J66: =SUM(J67+J76) -> 0 | K66: =L66-J66 -> 0 | L66: =SUM(L67+L76) -> 0 | M66: =SUM(M67+M76) -> 0
A67: K1-K5 | B67: I. Működési célú kiadások | C67: =C68 -> 1411219 | D67: =D68 -> 1883794 | E67: =F67-D67 -> -50264 | F67: =F68 -> 1833530 | G67: =H67-F67 -> -1833530 | H67: =H68 -> 0 | I67: =J67-H67 -> 0 | J67: =J68 -> 0 | K67: =L67-J67 -> 0 | L67: =L68 -> 0 | M67: =M68 -> 0
B68: 1. Önkormányzat és hivatal működési kiadásai | C68: =SUM(C69:C73) -> 1411219 | D68: =SUM(D69:D73) -> 1883794 | E68: =F68-D68 -> -50264 | F68: =SUM(F69:F73) -> 1833530 | G68: =H68-F68 -> -1833530 | H68: =SUM(H69:H73) -> 0 | I68: =J68-H68 -> 0 | J68: =SUM(J69:J73) -> 0 | K68: =L68-J68 -> 0 | L68: =SUM(L69:L73) -> 0 | M68: =SUM(M69:M73) -> 0
B69: 1.1. Személyi juttatások | C69: ='2.működés'!C125 -> 308647 | D69: ='2.működés'!D125 -> 373342 | E69: =F69-D69 -> -1198 | F69: ='2.működés'!F125 -> 372144 | G69: =H69-F69 -> -372144 | H69: ='2.működés'!H125 -> 0 | I69: =J69-H69 -> 0 | J69: ='2.működés'!J125 -> 0 | K69: =L69-J69 -> 0 | L69: ='2.működés'!L125 -> 0 | M69: ='2.működés'!M125 -> 0
B70: 1.2. Munkaadót terhelő járulékok és szociális hozzájárulási adó | C70: ='2.működés'!C128 -> 38354 | D70: ='2.működés'!D128 -> 49611 | E70: =F70-D70 -> 70 | F70: ='2.működés'!F128 -> 49681 | G70: =H70-F70 -> -49681 | H70: ='2.működés'!H128 -> 0 | I70: =J70-H70 -> 0 | J70: ='2.működés'!J128 -> 0 | K70: =L70-J70 -> 0 | L70: ='2.működés'!L128 -> 0 | M70: ='2.működés'!M128 -> 0
B71: 1.3. Dologi kiadások | C71: ='2.működés'!C131 -> 350568 | D71: ='2.működés'!D131 -> 622852 | E71: =F71-D71 -> -147268 | F71: ='2.működés'!F131 -> 475584 | G71: =H71-F71 -> -475584 | H71: ='2.működés'!H131 -> 0 | I71: =J71-H71 -> 0 | J71: ='2.működés'!J131 -> 0 | K71: =L71-J71 -> 0 | L71: ='2.működés'!L131 -> 0 | M71: ='2.működés'!M131 -> 0
B72: 1.4. Ellátottak pénzbeli juttatásai | C72: ='2.működés'!C134 -> 6186 | D72: ='2.működés'!D134 -> 20000 | E72: =F72-D72 -> 0 | F72: ='2.működés'!F134 -> 20000 | G72: =H72-F72 -> -20000 | H72: ='2.működés'!H134 -> 0 | I72: =J72-H72 -> 0 | J72: ='2.működés'!J134 -> 0 | K72: =L72-J72 -> 0 | L72: ='2.működés'!L134 -> 0 | M72: ='2.működés'!M134 -> 0
B73: 1.5. Egyéb működési célú kiadások | C73: ='2.működés'!C135 -> 707464 | D73: ='2.működés'!D135 -> 817989 | E73: =F73-D73 -> 98132 | F73: ='2.működés'!F135 -> 916121 | G73: =H73-F73 -> -916121 | H73: ='2.működés'!H135 -> 0 | I73: =J73-H73 -> 0 | J73: ='2.működés'!J135 -> 0 | K73: =L73-J73 -> 0 | L73: ='2.működés'!L135 -> 0 | M73: ='2.működés'!M135 -> 0
B74: 2. Önkormányzati intézmények működési kiadásai (hivatal) | C74: 0 | D74: 0 | E74: =F74-D74 -> 0 | F74: 0 | G74: =H74-F74 -> 0 | H74: 0 | I74: =J74-H74 -> 0 | J74: 0 | K74: =L74-J74 -> 0 | L74: 0 | M74: 0
B75: Intézményfinanszírozás módosítása Művelődési ház időarányos állami támogatása miatt | E75: =F75-D75 -> 0 | G75: =H75-F75 -> 0 | I75: =J75-H75 -> 0 | K75: =L75-J75 -> 0
A76: K6-K8 | B76: II. Felhalmozási célú kiadások | C76: =SUM(C77:C79) -> 361142 | D76: =SUM(D77:D79) -> 1074238 | E76: =F76-D76 -> -30330 | F76: =SUM(F77:F79) -> 1043908 | G76: =H76-F76 -> -1043908 | H76: =SUM(H77:H79) -> 0 | I76: =J76-H76 -> 0 | J76: =SUM(J77:J79) -> 0 | K76: =L76-J76 -> 0 | L76: =SUM(L77:L79) -> 0 | M76: =SUM(M77:M79) -> 0
B77: 1. Beruházások | C77: =SUM('3.felh'!C47) -> 188483 | D77: =SUM('3.felh'!D47) -> 744562 | E77: =F77-D77 -> 778 | F77: =SUM('3.felh'!F47) -> 745340 | G77: =H77-F77 -> -745340 | H77: =SUM('3.felh'!H47) -> 0 | I77: =J77-H77 -> 0 | J77: =SUM('3.felh'!J47) -> 0 | K77: =L77-J77 -> 0 | L77: =SUM('3.felh'!L47) -> 0 | M77: =SUM('3.felh'!M47) -> 0
B78: 2. Felújítások | C78: =SUM('3.felh'!C74) -> 172659 | D78: =SUM('3.felh'!D74) -> 329676 | E78: =F78-D78 -> -53333 | F78: =SUM('3.felh'!F74) -> 276343 | G78: =H78-F78 -> -276343 | H78: =SUM('3.felh'!H74) -> 0 | I78: =J78-H78 -> 0 | J78: =SUM('3.felh'!J74) -> 0 | K78: =L78-J78 -> 0 | L78: =SUM('3.felh'!L74) -> 0 | M78: =SUM('3.felh'!M74) -> 0
B79: 3. Egyéb felhalmozási célú kiadások | C79: =SUM(C80:C82) -> 0 | D79: =SUM(D80:D82) -> 0 | E79: =F79-D79 -> 22225 | F79: =SUM(F80:F82) -> 22225 | G79: =H79-F79 -> -22225 | H79: =SUM(H80:H82) -> 0 | I79: =J79-H79 -> 0 | J79: =SUM(J80:J82) -> 0 | K79: =L79-J79 -> 0 | L79: =SUM(L80:L82) -> 0 | M79: =SUM(M80:M82) -> 0
B80: 3.1. Egyéb felh.-i célú tám. visszafizetés | C80: =SUM('3.felh'!C97)+'3.felh'!C98+'3.felh'!C99 -> 0 | D80: =SUM('3.felh'!D97)+'3.felh'!D98+'3.felh'!D99 -> 0 | E80: =F80-D80 -> 22225 | F80: =SUM('3.felh'!F97)+'3.felh'!F98+'3.felh'!F99 -> 22225 | G80: =H80-F80 -> -22225 | H80: =SUM('3.felh'!H97)+'3.felh'!H98+'3.felh'!H99 -> 0 | I80: =J80-H80 -> 0 | J80: =SUM('3.felh'!J97)+'3.felh'!J98+'3.felh'!J99 -> 0 | K80: =L80-J80 -> 0 | L80: =SUM('3.felh'!L97)+'3.felh'!L98+'3.felh'!L99 -> 0 | M80: =SUM('3.felh'!M97)+'3.felh'!M98+'3.felh'!M99 -> 0
B81: 3.2. Felhalmozási célú támogatások ÁHK-re | C81: 0 | D81: 0 | E81: =F81-D81 -> 0 | F81: 0 | G81: =H81-F81 -> 0 | H81: 0 | I81: =J81-H81 -> 0 | J81: 0 | K81: =L81-J81 -> 0 | L81: 0 | M81: 0
B82: 3.3. Felhalmozási célú tartalék | C82: =SUM('3.felh'!C101) -> 0 | D82: =SUM('3.felh'!D101) -> 0 | E82: =F82-D82 -> 0 | F82: =SUM('3.felh'!F101) -> 0 | G82: =H82-F82 -> 0 | H82: =SUM('3.felh'!H101) -> 0 | I82: =J82-H82 -> 0 | J82: =SUM('3.felh'!J101) -> 0 | K82: =L82-J82 -> 0 | L82: =SUM('3.felh'!L101) -> 0 | M82: =SUM('3.felh'!M101) -> 0
A83: K9 | B83: B. F i n a n s z í r o z á s i k i a d á s o k | C83: =SUM(C84+C89+C90) -> 115874 | D83: =SUM(D84+D89+D90) -> 121786 | E83: =F83-D83 -> 7455 | F83: =SUM(F84+F89+F90) -> 129241 | G83: =H83-F83 -> -129241 | H83: =SUM(H84+H89+H90) -> 0 | I83: =J83-H83 -> 0 | J83: =SUM(J84+J89+J90) -> 0 | K83: =L83-J83 -> 0 | L83: =SUM(L84+L89+L90) -> 0 | M83: =SUM(M84+M89+M90) -> 0
B84: 1. Belföldi finanszírozás kiadásai | C84: =SUM(C85:C88) -> 115874 | D84: =SUM(D85:D88) -> 121786 | E84: =F84-D84 -> 7455 | F84: =SUM(F85:F88) -> 129241 | G84: =H84-F84 -> -129241 | H84: =SUM(H85:H88) -> 0 | I84: =J84-H84 -> 0 | J84: =SUM(J85:J88) -> 0 | K84: =L84-J84 -> 0 | L84: =SUM(L85:L88) -> 0 | M84: =SUM(M85:M88) -> 0
A85: K911 | B85: Folyószámlahitel tőketörlesztése | C85: 0 | D85: 0 | E85: =F85-D85 -> 0 | F85: 0 | G85: =H85-F85 -> 0 | H85: 0 | I85: =J85-H85 -> 0 | J85: 0 | K85: =L85-J85 -> 0 | L85: 0 | M85: 0
A86: K914 | B86: ÁHB megelőlegezések visszafizetése | C86: =SUM('2.működés'!C144) -> 21664 | D86: =SUM('2.működés'!D144) -> 27576 | E86: =F86-D86 -> 0 | F86: =SUM('2.működés'!F144) -> 27576 | G86: =H86-F86 -> -27576 | H86: =SUM('2.működés'!H144) -> 0 | I86: =J86-H86 -> 0 | J86: =SUM('2.működés'!J144) -> 0 | K86: =L86-J86 -> 0 | L86: =SUM('2.működés'!L144) -> 0 | M86: =SUM('2.működés'!M144) -> 0
A87: K9111 | B87: Hitel törlesztés | C87: =SUM('3.felh'!C106) -> 94210 | D87: =SUM('3.felh'!D106) -> 94210 | E87: =F87-D87 -> 0 | F87: =SUM('3.felh'!F106) -> 94210 | G87: =H87-F87 -> -94210 | I87: =J87-H87 -> 0 | K87: =L87-J87 -> 0
A88: K9112 | B88: Likviditási célú hitelek, kölcsönök törlesztése pénzügyi vállalkozásnak | C88: ='2.működés'!C143 -> 0 | D88: ='2.működés'!D143 -> 0 | E88: =F88-D88 -> 7455 | F88: ='2.működés'!F143 -> 7455 | G88: =H88-F88 -> -7455 | H88: =SUM('3.felh'!H106) -> 0 | I88: =J88-H88 -> 0 | J88: =SUM('3.felh'!J106) -> 0 | K88: =L88-J88 -> 0 | L88: =SUM('3.felh'!L106) -> 0 | M88: =SUM('3.felh'!M106) -> 0
B89: 2. Külföldi finanszírozás kiadásai | C89: 0 | D89: 0 | E89: =F89-D89 -> 0 | F89: 0 | G89: =H89-F89 -> 0 | H89: 0 | I89: =J89-H89 -> 0 | J89: 0 | K89: =L89-J89 -> 0 | L89: 0 | M89: 0
B90: 3. Adóssághoz nem kapcsolódó származékos ügyletek kiadásai | C90: 0 | D90: 0 | E90: =F90-D90 -> 0 | F90: 0 | G90: =H90-F90 -> 0 | H90: 0 | I90: =J90-H90 -> 0 | J90: 0 | K90: =L90-J90 -> 0 | L90: 0 | M90: 0
B91: Kiadások összesen | C91: =SUM(C66+C83) -> 1888235 | D91: =SUM(D66+D83) -> 3079818 | E91: =F91-D91 -> -73139 | F91: =SUM(F66+F83) -> 3006679 | G91: =H91-F91 -> -3006679 | H91: =SUM(H66+H83) -> 0 | I91: =J91-H91 -> 0 | J91: =SUM(J66+J83) -> 0 | K91: =L91-J91 -> 0 | L91: =SUM(L66+L83) -> 0 | M91: =SUM(M66+M83) -> 0
M92: =SUM(M65-M91) -> 0
F93: =F65-F91 -> 0
K97: =K65-K91 -> 0 | L97: =L65-L91 -> 0 | M97: =M65-M91 -> 0

Sheet 2.működés
F1: 2. melléklet
F2: ='1.Bev-kiad.'!F2 -> a 12/2026.(X.2.) önkormányzati rendelethez
F3: 2. melléklet az 5/2026.(II.23.) önkormányzati rendelethez
A4: Balatonföldvár Város Önkormányzatának
A5: 2026. évi működési célú bevételei, kiadásai
F6: ezer Ft-ban
A7: Rovat | B7: Működési bevételek - kiadások | C7: ='1.Bev-kiad.'!C8 -> 2025. évi teljesítés | D7: ='1.Bev-kiad.'!D8 -> 2026. évi eredeti előirányzat | E7: előirányzat változás | F7: ='1.Bev-kiad.'!F8 -> Módosított előirányzat 2026.10.havi | G7: előirányzat változás | H7: ='1.Bev-kiad.'!H8 -> 0 | I7: előirányzat változás | J7: ='1.Bev-kiad.'!J8 -> 0 | K7: előirányzat változás | L7: ='1.Bev-kiad.'!L8 -> 0 | M7: ='1.Bev-kiad.'!M8 -> 0
A8: B1-7 | B8: A. K ö l t s é g v e t é s i b e v é t e l e k | C8: =SUM(C9+C76+C93+C105) -> 1589734 | D8: =SUM(D9+D76+D93+D105) -> 2017268 | E8: =F8-D8 -> -132300 | F8: =SUM(F9+F76+F93+F105) -> 1884968 | G8: =H8-F8 -> -1884968 | H8: =SUM(H9+H76+H93+H105) -> 0 | I8: =J8-H8 -> 0 | J8: =SUM(J9+J76+J93+J105) -> 0 | K8: =L8-J8 -> 0 | L8: =SUM(L9+L76+L93+L105) -> 0 | M8: =SUM(M9+M76+M93+M105) -> 0
A9: B1 | B9: I. Működési célú támogatások államháztartáson belülről | C9: =C10+C62 -> 769186 | D9: =D10+D62 -> 895072 | E9: =F9-D9 -> 9087 | F9: =F10+F62 -> 904159 | G9: =H9-F9 -> -904159 | H9: =H10+H62 -> 0 | I9: =J9-H9 -> 0 | J9: =J10+J62 -> 0 | K9: =L9-J9 -> 0 | L9: =L10+L62 -> 0 | M9: =M10+M62 -> 0 | R9: =R10+R62 -> 902833000
A10: B11 | B10: 1. A helyi önkormányzatok általános működésének és ágazati feladatainak támogatása | C10: =C11+C25+C26+C37+C43+C47+C61 -> 716735 | D10: =D11+D25+D26+D37+D43+D47+D61 -> 825291 | E10: =F10-D10 -> 9106 | F10: =F11+F25+F26+F37+F43+F47+F61 -> 834397 | G10: =H10-F10 -> -834397 | H10: =H11+H25+H26+H37+H43+H47+H61 -> 0 | I10: =J10-H10 -> 0 | J10: =J11+J25+J26+J37+J43+J47+J61 -> 0 | K10: =L10-J10 -> 0 | L10: =L11+L25+L26+L37+L43+L47+L61 -> 0 | M10: =M11+M25+M26+M37+M43+M47+M61 -> 0 | R10: =R11+R25+R26+R37+R43+R47+R61 -> 831499478
A11: B111 | B11: 1.1. A települési önkormányzatok működésének általános támogatása | C11: =C12+C21+C22+C24+C23 -> 253473 | D11: =D12+D21+D22+D24+D23 -> 285807 | E11: =F11-D11 -> 13589 | F11: =F12+F21+F22+F24+F23 -> 299396 | G11: =H11-F11 -> -299396 | H11: =H12+H21+H22+H24+H23 -> 0 | I11: =J11-H11 -> 0 | J11: =J12+J21+J22+J24+J23 -> 0 | K11: =L11-J11 -> 0 | L11: =L12+L21+L22+L24+L23 -> 0 | M11: =M12+M21+M22+M24+M23 -> 0 | R11: =R12+R21+R22+R24+R23 -> 299396837
B12: 1.1.1. A települési önkormányzatok működésének támogatása | C12: =SUM(C13:C20) -> 238794 | D12: =SUM(D13:D20) -> 285807 | E12: =F12-D12 -> 0 | F12: =SUM(F13:F20) -> 285807 | G12: =H12-F12 -> -285807 | H12: =SUM(H13:H20) -> 0 | I12: =J12-H12 -> 0 | J12: =SUM(J13:J20) -> 0 | K12: =L12-J12 -> 0 | L12: =SUM(L13:L20) -> 0 | M12: =SUM(M13:M20) -> 0 | R12: =SUM(R13:R20) -> 285807229
B13: 1.1.1.1. Önkormányzati hivatal működésének támogatása | C13: =152912+1860+11783 -> 166555 | D13: 217134 | E13: =F13-D13 -> 0 | F13: 217134 | G13: =H13-F13 -> -217134 | I13: =J13-H13 -> 0 | K13: =L13-J13 -> 0 | R13: 217133934
B14: 1.1.1.2. Településüzemeltetés - zöldterület-gazdálkodás támogatása (Nonprofit Kft.) | C14: =8988 -> 8988 | D14: =8988 -> 8988 | E14: =F14-D14 -> 0 | F14: =8988 -> 8988 | G14: =H14-F14 -> -8988 | I14: =J14-H14 -> 0 | K14: =L14-J14 -> 0 | R14: 8988200
B15: 1.1.1.3.1 Településüzemeltetés - közvilágítás támogatása | C15: 24120 | D15: 44944 | E15: =F15-D15 -> 0 | F15: 44944 | G15: =H15-F15 -> -44944 | I15: =J15-H15 -> 0 | K15: =L15-J15 -> 0 | R15: 44944000
B16: 1.1.1.3.2 Településüzemeltetés - közvilágítás üzemeltetési támogatása | C16: 24480 | D16: 0 | E16: =F16-D16 -> 0 | F16: 0 | G16: =H16-F16 -> 0 | I16: =J16-H16 -> 0 | K16: =L16-J16 -> 0
B17: 1.1.1.4. Településüzemeltetés - köztemető támogatása (Nonprofit Kft.) | C17: =100 -> 100 | D17: =100 -> 100 | E17: =F17-D17 -> 0 | F17: =100 -> 100 | G17: =H17-F17 -> -100 | I17: =J17-H17 -> 0 | K17: =L17-J17 -> 0 | R17: 100000
B18: 1.1.1.5. Településüzemeltetés - közutak támogatása (Nonprofit Kft.) | C18: 8058 | D18: 8058 | E18: =F18-D18 -> 0 | F18: 8058 | G18: =H18-F18 -> -8058 | I18: =J18-H18 -> 0 | K18: =L18-J18 -> 0 | R18: 8058295
B19: 1.1.1.6. Egyéb önkormányzati feladatok támogatása | C19: 6493 | D19: 6583 | E19: =F19-D19 -> 0 | F19: 6583 | G19: =H19-F19 -> -6583 | I19: =J19-H19 -> 0 | K19: =L19-J19 -> 0 | R19: 6582800
B20: 1.1.1.7. Lakott külterülettel kapcsolatos feladatok támogatása | C20: 0 | D20: 0 | E20: =F20-D20 -> 0 | F20: 0 | G20: =H20-F20 -> 0 | H20: 0 | I20: =J20-H20 -> 0 | J20: 0 | K20: =L20-J20 -> 0 | L20: 0 | M20: 0
B21: 1.1.2. Nem közművel összegyűjtött háztartási szennyvíz ártalmatlanítása | C21: 0 | D21: 0 | E21: =F21-D21 -> 0 | F21: 0 | G21: =H21-F21 -> 0 | H21: 0 | I21: =J21-H21 -> 0 | J21: 0 | K21: =L21-J21 -> 0 | L21: 0 | M21: 0
B22: 1.1.3. Határátkelőhelyek fenntartásának támogatása | C22: 0 | D22: 0 | E22: =F22-D22 -> 0 | F22: 0 | G22: =H22-F22 -> 0 | H22: 0 | I22: =J22-H22 -> 0 | J22: 0 | K22: =L22-J22 -> 0 | L22: 0 | M22: 0
B23: 1.1.4. Polgármesteri illetményhez és költségtérítéshez nyújtott támogatás | C23: 14679 | D23: 0 | E23: =F23-D23 -> 13589 | F23: 13589 | G23: =H23-F23 -> -13589 | H23: 0 | I23: =J23-H23 -> 0 | J23: 0 | K23: =L23-J23 -> 0 | L23: 0 | M23: 0 | R23: 13589608
B24: 1.1.5. Közvilágítás kiegészítő támogatása | C24: 0 | D24: 0 | E24: =F24-D24 -> 0 | F24: 0 | G24: =H24-F24 -> 0 | H24: 0 | I24: =J24-H24 -> 0 | J24: 0 | K24: =L24-J24 -> 0 | L24: 0 | M24: 0
A25: B112 | B25: 1.2. A települési önk.-ok egyes köznevelési feladatainak támogatása (TKT) | C25: 160596 | D25: 168962 | E25: =F25-D25 -> 6502 | F25: =168962+841+404+5257 -> 175464 | G25: =H25-F25 -> -175464 | H25: 0 | I25: =J25-H25 -> 0 | J25: 0 | K25: =L25-J25 -> 0 | L25: 0 | M25: 0 | R25: =168961710+841200+404000+5257000 -> 175463910
A26: B113 | B26: 1.3. A települési önk.-ok egyes szoc.és gyermekjóléti fel.nak tám. | C26: =C27+C28+C35+C36 -> 191133 | D26: =D27+D28+D35+D36 -> 193749 | E26: =F26-D26 -> 34719 | F26: =F27+F28+F35+F36 -> 228468 | G26: =H26-F26 -> -228468 | H26: =H27+H28+H35+H36 -> 0 | I26: =J26-H26 -> 0 | J26: =J27+J28+J35+J36 -> 0 | K26: =L26-J26 -> 0 | L26: =L27+L28+L35+L36 -> 0 | M26: =M27+M28+M35+M36 -> 0 | R26: =R27+R28+R35+R36 -> 228468440
B27: 1.3.1. A települési önkormányzatok szociális és gyermekjóléti feladatainak egyéb támogatása | C27: 0 | D27: 0 | E27: =F27-D27 -> 0 | F27: 0 | G27: =H27-F27 -> 0 | H27: 0 | I27: =J27-H27 -> 0 | J27: 0 | K27: =L27-J27 -> 0 | L27: 0 | M27: 0 | R27: 0
B28: 1.3.2. Egyes szociális és gyermekjóléti feladatok támogatása | C28: =C29+C30+C32+C34 -> 139897 | D28: =D29+D30+D32+D34 -> 153837 | E28: =F28-D28 -> 6125 | F28: =F29+F30+F32+F34 -> 159962 | G28: =H28-F28 -> -159962 | H28: =H29+H30+H32+H34 -> 0 | I28: =J28-H28 -> 0 | J28: =J29+J30+J32+J34 -> 0 | K28: =L28-J28 -> 0 | L28: =L29+L30+L32+L34 -> 0 | M28: =M29+M30+M32+M34 -> 0 | R28: =R29+R30+R32+R34 -> 159962040
B29: 1.3.2.1. Család- és gyermekjóléti szolgálatt (TKT) | C29: 28560 | D29: 31420 | E29: =F29-D29 -> 0 | F29: 31420 | G29: =H29-F29 -> -31420 | H29: 0 | I29: =J29-H29 -> 0 | J29: 0 | K29: =L29-J29 -> 0 | L29: 0 | M29: 0 | R29: 31420000
B30: 1.3.2.3. Szociális étkeztetés | C30: =C31 -> 9382 | D30: =D31 -> 10017 | E30: =F30-D30 -> -378 | F30: =F31 -> 9639 | G30: =H30-F30 -> -9639 | H30: =H31 -> 0 | I30: =J30-H30 -> 0 | J30: =J31 -> 0 | K30: =L30-J30 -> 0 | L30: =L31 -> 0 | M30: =M31 -> 0 | R30: =R31 -> 9639000
B31: 1.3.2.3.1. Szociális étkeztetés - önálló feladatellátás | C31: 9382 | D31: 10017 | E31: =F31-D31 -> -378 | F31: =10017-378 -> 9639 | G31: =H31-F31 -> -9639 | H31: 0 | I31: =J31-H31 -> 0 | J31: 0 | K31: =L31-J31 -> 0 | L31: 0 | M31: 0 | R31: =10017000-378000 -> 9639000
B32: 1.3.2.4. Házi segítségnyújtás | C32: =C33 -> 101955 | D32: =D33 -> 112400 | E32: =F32-D32 -> 6503 | F32: =F33 -> 118903 | G32: =H32-F32 -> -118903 | H32: =H33 -> 0 | I32: =J32-H32 -> 0 | J32: =J33 -> 0 | K32: =L32-J32 -> 0 | L32: =L33 -> 0 | M32: =M33 -> 0 | R32: =R33 -> 118903040
B33: 1.3.2.4.3. Személyi gondozás - társulás által történő feladatellátás (TKT) | C33: 101955 | D33: 112400 | E33: =F33-D33 -> 6503 | F33: =112400+6503 -> 118903 | G33: =H33-F33 -> -118903 | H33: 0 | I33: =J33-H33 -> 0 | J33: 0 | K33: =L33-J33 -> 0 | L33: 0 | M33: 0 | R33: =112400530+6502510 -> 118903040
B34: 1.3.2.5. Falugondnoki vagy tanyagondnoki szolgáltatás | C34: 0 | D34: 0 | E34: =F34-D34 -> 0 | F34: 0 | G34: =H34-F34 -> 0 | H34: 0 | I34: =J34-H34 -> 0 | J34: 0 | K34: =L34-J34 -> 0 | L34: 0 | M34: 0
B35: 1.3.3. Bölcsőde, mini bölcsőde támogatása (TKT) | C35: 34834 | D35: 39912 | E35: =F35-D35 -> 111 | F35: =39912-61+172 -> 40023 | G35: =H35-F35 -> -40023 | H35: 0 | I35: =J35-H35 -> 0 | J35: 0 | K35: =L35-J35 -> 0 | L35: 0 | M35: 0 | R35: =(11312000+40000)+25614000+(2986000-100800)+172200 -> 40023400
B36: Szociális ágazati és kiegészítő szociális pótlék (TKT) | C36: 16402 | D36: 0 | E36: =F36-D36 -> 28483 | F36: 28483 | G36: =H36-F36 -> -28483 | H36: 0 | I36: =J36-H36 -> 0 | J36: 0 | K36: =L36-J36 -> 0 | L36: 0 | M36: 0 | R36: 28483000
B37: 1.4. A települési önkormányzatok gyermekétkeztetési feladatainak támogatása | C37: =C38+C41+C42 -> 72913 | D37: =D38+D41+D42 -> 85244 | E37: =F37-D37 -> 0 | F37: =F38+F41+F42 -> 85244 | G37: =H37-F37 -> -85244 | H37: =H38+H41+H42 -> 0 | I37: =J37-H37 -> 0 | J37: =J38+J41+J42 -> 0 | K37: =L37-J37 -> 0 | L37: =L38+L41+L42 -> 0 | M37: =M38+M41+M42 -> 0 | R37: =R38+R41+R42 -> 85243702
B38: 1.4.1. Intézményi gyermekétkeztetés támogatása | C38: =C39+C40 -> 72913 | D38: =D39+D40 -> 85244 | E38: =F38-D38 -> 0 | F38: =F39+F40 -> 85244 | G38: =H38-F38 -> -85244 | H38: =H39+H40 -> 0 | I38: =J38-H38 -> 0 | J38: =J39+J40 -> 0 | K38: =L38-J38 -> 0 | L38: =L39+L40 -> 0 | M38: =M39+M40 -> 0 | R38: =R39+R40 -> 85243702
B39: 1.4.1.1. Intézményi gyermekétkeztetés - bértámogatás (TKT) | C39: 43360 | D39: 50512 | E39: =F39-D39 -> 0 | F39: 50512 | G39: =H39-F39 -> -50512 | H39: 0 | I39: =J39-H39 -> 0 | J39: 0 | K39: =L39-J39 -> 0 | L39: 0 | M39: 0 | R39: 50512000
B40: 1.4.1.2. Intézményi gyermekétkeztetés - üzemeltetési támogatás (TKT) | C40: 29553 | D40: 34732 | E40: =F40-D40 -> 0 | F40: 34732 | G40: =H40-F40 -> -34732 | H40: 0 | I40: =J40-H40 -> 0 | J40: 0 | K40: =L40-J40 -> 0 | L40: 0 | M40: 0 | R40: 34731702
B41: 1.4.2. Szünidei étkeztetés támogatása | C41: 0 | D41: 0 | E41: =F41-D41 -> 0 | F41: 0 | G41: =H41-F41 -> 0 | H41: 0 | I41: =J41-H41 -> 0 | J41: 0 | K41: =L41-J41 -> 0 | L41: 0 | M41: 0
B42: Ágazati pótlék | E42: =F42-D42 -> 0 | G42: =H42-F42 -> 0 | I42: =J42-H42 -> 0 | K42: =L42-J42 -> 0
A43: B114 | B43: 1.5. A települési önkormányzatok kulturális feladatainak támogatása | C43: =SUM(C44:C46) -> 36193 | D43: =SUM(D44:D46) -> 5203 | E43: =F43-D43 -> 35429 | F43: =SUM(F44:F46) -> 40632 | G43: =H43-F43 -> -40632 | H43: =SUM(H44:H46) -> 0 | I43: =J43-H43 -> 0 | J43: =SUM(J44:J46) -> 0 | K43: =L43-J43 -> 0 | L43: =SUM(L44:L46) -> 0 | M43: =SUM(M44:M46) -> 0 | R43: =SUM(R44:R46) -> 40631589
B44: 1.5.2. Települési önkormányzatok egyes kulturális feladatainak támogatása | C44: 5132 | D44: 5203 | E44: =F44-D44 -> 0 | F44: 5203 | G44: =H44-F44 -> -5203 | H44: 0 | I44: =J44-H44 -> 0 | J44: 0 | K44: =L44-J44 -> 0 | L44: 0 | M44: 0 | R44: 5202763
B45: Táncművészeti szervek támogatása (Előadó és Alkotóművészetért Alapítvány) | C45: 26763 | D45: 0 | E45: =F45-D45 -> 26763 | F45: 26763 | G45: =H45-F45 -> -26763 | H45: 0 | I45: =J45-H45 -> 0 | J45: 0 | K45: =L45-J45 -> 0 | L45: 0 | M45: 0 | R45: 26762800
B46: Települési önkormányzatok kulturális feladatainak bérjellegű támogatása | C46: 4298 | D46: 0 | E46: =F46-D46 -> 8666 | F46: 8666 | G46: =H46-F46 -> -8666 | H46: 0 | I46: =J46-H46 -> 0 | J46: 0 | K46: =L46-J46 -> 0 | L46: 0 | M46: 0 | R46: 8666026
A47: B115 | B47: 2. A helyi önkormányzatok működési célú kiegészítő támogatásai | C47: =C48+C53+C55+C58 -> 2427 | D47: =D48+D53+D55+D58 -> 84031 | E47: =F47-D47 -> -81133 | F47: =F48+F53+F55+F58 -> 2898 | G47: =H47-F47 -> -2898 | H47: =H48+H53+H55+H58 -> 0 | I47: =J47-H47 -> 0 | J47: =J48+J53+J55+J58 -> 0 | K47: =L47-J47 -> 0 | L47: =L48+L53+L55+L58 -> 0 | M47: =M48+M53+M55+M58 -> 0 | R47: =R48+R53+R55+R58 -> 0
B48: 2.1. A helyi önkormányzatok általános feladatainak működési célú támogatása | C48: =C49+C50+C51+C52 -> 0 | D48: =D49+D50+D51+D52 -> 14862 | E48: =F48-D48 -> -14862 | F48: =F49+F50+F51+F52 -> 0 | G48: =H48-F48 -> 0 | H48: =H49+H50+H51+H52 -> 0 | I48: =J48-H48 -> 0 | J48: =J49+J50+J51+J52 -> 0 | K48: =L48-J48 -> 0 | L48: =L49+L50+L51+L52 -> 0 | M48: =M49+M50+M51+M52 -> 0 | R48: =R49+R50+R51+R52 -> 0
B49: 2.1.1. Polgármesteri illetményhez és költségtérítéshez nyújtott támogatás | C49: =14135-14135 -> 0 | D49: 14862 | E49: =F49-D49 -> -14862 | F49: =14862-14862 -> 0 | G49: =H49-F49 -> 0 | H49: =14135-14135 -> 0 | I49: =J49-H49 -> 0 | J49: =14135-14135 -> 0 | K49: =L49-J49 -> 0 | L49: =14135-14135 -> 0 | M49: =14135-14135 -> 0 | O49: =1238516*12 -> 14862192 | R49: =14862192-14862192 -> 0
B50: 2.1.4. A nem közművel összegyűjtött háztartási szennyvíz ideiglenes begyűjtésére kijelölt közérdekű közszolgáltató meg nem térülő költségeinek támogatása | C50: 0 | D50: 0 | E50: =F50-D50 -> 0 | F50: 0 | G50: =H50-F50 -> 0 | H50: 0 | I50: =J50-H50 -> 0 | J50: 0 | K50: =L50-J50 -> 0 | L50: 0 | M50: 0
B51: 2.1.4. Önkormányzatok rendkívüli támogatása | C51: 0 | D51: 0 | E51: =F51-D51 -> 0 | F51: 0 | G51: =H51-F51 -> 0 | H51: 0 | I51: =J51-H51 -> 0 | J51: 0 | K51: =L51-J51 -> 0 | L51: 0 | M51: 0
B52: 2.1.5. Önkormányzati elszámolások | C52: 0 | D52: 0 | E52: =F52-D52 -> 0 | F52: 0 | G52: =H52-F52 -> 0 | H52: 0 | I52: =J52-H52 -> 0 | J52: 0 | K52: =L52-J52 -> 0 | L52: 0 | M52: 0
B53: 2.2. A települési önkormányzatok köznevelési feladatainak működési célú támogatása | C53: =C54 -> 0 | D53: =D54 -> 5257 | E53: =F53-D53 -> -5257 | F53: =F54 -> 0 | G53: =H53-F53 -> 0 | H53: =H54 -> 0 | I53: =J53-H53 -> 0 | J53: =J54 -> 0 | K53: =L53-J53 -> 0 | L53: =L54 -> 0 | M53: =M54 -> 0 | R53: =R54 -> 0
B54: 2.2.1. Esélyteremtési illetményrész támogatása (TKT) | C54: =3783-3783 -> 0 | D54: 5257 | E54: =F54-D54 -> -5257 | F54: =5257-5257 -> 0 | G54: =H54-F54 -> 0 | H54: =3783-3783 -> 0 | I54: =J54-H54 -> 0 | J54: =3783-3783 -> 0 | K54: =L54-J54 -> 0 | L54: =3783-3783 -> 0 | M54: =3783-3783 -> 0 | R54: =5257000-5257000 -> 0
B55: 2.3. A települési önk.-ok egyes szociális és gyermekjóléti fel.nak műk.i célú tám. | C55: =C56+C57 -> 2427 | D55: =D56+D57 -> 28483 | E55: =F55-D55 -> -25585 | F55: =F56+F57 -> 2898 | G55: =H55-F55 -> -2898 | H55: =H56+H57 -> 0 | I55: =J55-H55 -> 0 | J55: =J56+J57 -> 0 | K55: =L55-J55 -> 0 | L55: =L56+L57 -> 0 | M55: =M56+M57 -> 0 | R55: =R56+R57 -> 0
B56: 2.3.1. A települési önkormányzatok szociális célú tüzelőanyag vásárlásához kapcsolódó támogatása | C56: 2427 | D56: 0 | E56: =F56-D56 -> 2898 | F56: 2898 | G56: =H56-F56 -> -2898 | H56: 0 | I56: =J56-H56 -> 0 | J56: 0 | K56: =L56-J56 -> 0 | L56: 0 | M56: 0
B57: 2.3.2. Szociális ágazati összevont pótlék és egészségügyi kiegészítő pótlék (TKT) | C57: =18305-18305 -> 0 | D57: 28483 | E57: =F57-D57 -> -28483 | F57: =28483-28483 -> 0 | G57: =H57-F57 -> 0 | H57: =18305-18305 -> 0 | I57: =J57-H57 -> 0 | J57: =18305-18305 -> 0 | K57: =L57-J57 -> 0 | L57: =18305-18305 -> 0 | M57: =18305-18305 -> 0 | R57: =28483000-28483000 -> 0
B58: 2.4. A települési önkormányzatok kulturális feladatainak működési célú támogatása | C58: =C59+C60 -> 0 | D58: =D59+D60 -> 35429 | E58: =F58-D58 -> -35429 | F58: =F59+F60 -> 0 | G58: =H58-F58 -> 0 | H58: =H59+H60 -> 0 | I58: =J58-H58 -> 0 | J58: =J59+J60 -> 0 | K58: =L58-J58 -> 0 | L58: =L59+L60 -> 0 | M58: =M59+M60 -> 0 | R58: =R59+R60 -> 0
B59: 2.4.5 Táncművészeti szervek támogatása (Előadó és Alkotóművészetért Alapítvány) | C59: =26763-26763 -> 0 | D59: 26763 | E59: =F59-D59 -> -26763 | F59: =26763-26763 -> 0 | G59: =H59-F59 -> 0 | H59: =26763-26763 -> 0 | I59: =J59-H59 -> 0 | J59: =26763-26763 -> 0 | K59: =L59-J59 -> 0 | L59: =26763-26763 -> 0 | M59: =26763-26763 -> 0 | R59: =26762800-26762800 -> 0
B60: 2.4.6 Települési önkormányzatok kulturális feladatainak bérjellegű támogatása | C60: =3990-3990 -> 0 | D60: =4298+877+3491 -> 8666 | E60: =F60-D60 -> -8666 | F60: =(4298+877+3491)-8666 -> 0 | G60: =H60-F60 -> 0 | H60: =3990-3990 -> 0 | I60: =J60-H60 -> 0 | J60: =3990-3990 -> 0 | K60: =L60-J60 -> 0 | L60: =3990-3990 -> 0 | M60: =3990-3990 -> 0 | R60: =4298724+876247+3491055-8666026 -> 0
A61: B116 | B61: Elszámolásból származó bevételek (2025. évi állami norm.elszám.kieg.támogatással) | C61: 0 | D61: =2295 -> 2295 | E61: =F61-D61 -> 0 | F61: =2295 -> 2295 | G61: =H61-F61 -> -2295 | H61: 0 | I61: =J61-H61 -> 0 | J61: 0 | K61: =L61-J61 -> 0 | L61: 0 | M61: 0 | R61: =2295000 -> 2295000
A62: B12-16 | B62: Egyéb működési célú támogatások államháztartáson belülről | C62: =SUM(C63:C75) -> 52451 | D62: =SUM(D63:D75) -> 69781 | E62: =F62-D62 -> -19 | F62: =SUM(F63:F75) -> 69762 | G62: =H62-F62 -> -69762 | H62: =SUM(H63:H75) -> 0 | I62: =J62-H62 -> 0 | J62: =SUM(J63:J75) -> 0 | K62: =L62-J62 -> 0 | L62: =SUM(L63:L75) -> 0 | M62: =SUM(M63:M75) -> 0 | R62: =SUM(R63:R75) -> 71333522
A63: B12 | B63: Elvonások és befizetések bevétele (2025. évi HIPA elszám.-ból visszafizetés) | C63: 0 | D63: 0 | E63: =F63-D63 -> 1553 | F63: 1553 | G63: =H63-F63 -> -1553 | H63: 0 | I63: =J63-H63 -> 0 | J63: 0 | K63: =L63-J63 -> 0 | L63: 0 | M63: 0 | R63: 1553277
A64: B16 | B64: Állami normatíva elszámolás intézmény általi visszafizetés | C64: 921 | D64: =2000 -> 2000 | E64: =F64-D64 -> 0 | F64: =2000 -> 2000 | G64: =H64-F64 -> -2000 | H64: 0 | I64: =J64-H64 -> 0 | J64: 0 | K64: =L64-J64 -> 0 | L64: 0 | M64: 0 | R64: =2000000-147-277 -> 1999576
A65: B16 | B65: Otthonteremtési támogatás | C65: 0 | D65: 2560 | E65: =F65-D65 -> 0 | F65: 2560 | R65: 2560000
A66: B16 | B66: Otthonteremtési támogatás (Hivatalt illeti) | C66: 0 | D66: 6721 | E66: =F66-D66 -> 0 | F66: 6721 | R66: 6720669
A67: B16 | B67: Pénzeszközátvétel önkormányzatoktól (Hivatal) | C67: =6000+6000+5000+27500 -> 44500 | D67: =6000+6000+5000+27500 -> 44500 | E67: =F67-D67 -> 0 | F67: =6000+6000+5000+27500 -> 44500 | G67: =H67-F67 -> -44500 | H67: 0 | I67: =J67-H67 -> 0 | J67: 0 | K67: =L67-J67 -> 0 | L67: 0 | M67: 0 | R67: 44500000
A68: B16 | B68: Pénzeszközátvétel Többcélú Társulástól (Hivatal) | C68: 5000 | D68: 5000 | E68: =F68-D68 -> 0 | F68: 5000 | G68: =H68-F68 -> -5000 | H68: 0 | I68: =J68-H68 -> 0 | J68: 0 | K68: =L68-J68 -> 0 | L68: 0 | M68: 0 | R68: 5000000
A69: B16 | B69: Választás támogatása (Hivatal) | C69: 2030 | D69: 9000 | E69: =F69-D69 -> -1572 | F69: =9000-1572 -> 7428 | G69: =H69-F69 -> -7428 | H69: 0 | I69: =J69-H69 -> 0 | J69: 0 | K69: =L69-J69 -> 0 | L69: 0 | M69: 0 | R69: 9000000
E70: =F70-D70 -> 0 | G70: =H70-F70 -> 0 | H70: 0 | I70: =J70-H70 -> 0 | J70: 0 | K70: =L70-J70 -> 0 | L70: 0 | M70: 0
A71: B16 | E71: =F71-D71 -> 0 | G71: =H71-F71 -> 0 | I71: =J71-H71 -> 0 | K71: =L71-J71 -> 0
A72: B16 | B72: Szakirányú oktatás adókedvezményének visszaigénylése (Hivatal) | E72: =F72-D72 -> 0 | G72: =H72-F72 -> 0 | I72: =J72-H72 -> 0 | K72: =L72-J72 -> 0
A73: B16 | B73: Kulturális támogatás bérfejesztés fedezetére | E73: =F73-D73 -> 0 | G73: =H73-F73 -> 0 | I73: =J73-H73 -> 0 | K73: =L73-J73 -> 0
A74: B16 | B74: Állami támogatás visszatérítése TKT-tól | E74: =F74-D74 -> 0 | G74: =H74-F74 -> 0 | I74: =J74-H74 -> 0 | K74: =L74-J74 -> 0
A75: B16 | B75: Egyéb működési célú támogatások | E75: =F75-D75 -> 0 | G75: =H75-F75 -> 0 | I75: =J75-H75 -> 0 | K75: =L75-J75 -> 0
A76: B3 | B76: II. Közhatalmi bevételek | C76: =SUM(C80+C84+C88) -> 738279 | D76: =SUM(D80+D84+D88) -> 875000 | E76: =F76-D76 -> 0 | F76: =SUM(F80+F84+F88) -> 875000 | G76: =H76-F76 -> -875000 | H76: =SUM(H80+H84+H88) -> 0 | I76: =J76-H76 -> 0 | J76: =SUM(J80+J84+J88) -> 0 | K76: =L76-J76 -> 0 | L76: =SUM(L80+L84+L88) -> 0 | M76: =SUM(M80+M84+M88) -> 0
A77: B31 | B77: 3.1. Jövedelemadók | E77: =F77-D77 -> 0 | G77: =H77-F77 -> 0 | I77: =J77-H77 -> 0 | K77: =L77-J77 -> 0
A78: B32 | B78: 3.2. Szociális hozzájárulási adók és járulékok | E78: =F78-D78 -> 0 | G78: =H78-F78 -> 0 | I78: =J78-H78 -> 0 | K78: =L78-J78 -> 0
A79: B33 | B79: 3.3. Bérhez és foglalkoztatáshoz kapcsolódó adók | E79: =F79-D79 -> 0 | G79: =H79-F79 -> 0 | I79: =J79-H79 -> 0 | K79: =L79-J79 -> 0
A80: B34 | B80: 1. Vagyoni típusú adók | C80: =SUM(C81:C83) -> 545755 | D80: =SUM(D81:D83) -> 573300 | E80: =F80-D80 -> 0 | F80: =SUM(F81:F83) -> 573300 | G80: =H80-F80 -> -573300 | H80: =SUM(H81:H83) -> 0 | I80: =J80-H80 -> 0 | J80: =SUM(J81:J83) -> 0 | K80: =L80-J80 -> 0 | L80: =SUM(L81:L83) -> 0 | M80: =SUM(M81:M83) -> 0
B81: 1.1. Építményadó | C81: 446493 | D81: =460000+30000-12500 -> 477500 | E81: =F81-D81 -> 0 | F81: =460000+30000-12500 -> 477500 | G81: =H81-F81 -> -477500 | H81: 0 | I81: =J81-H81 -> 0 | J81: 0 | K81: =L81-J81 -> 0 | L81: 0 | M81: 0
B82: 1.2. Kommunális adó | C82: 8569 | D82: 800 | E82: =F82-D82 -> 0 | F82: 800 | G82: =H82-F82 -> -800 | H82: 0 | I82: =J82-H82 -> 0 | J82: 0 | K82: =L82-J82 -> 0 | L82: 0 | M82: 0
B83: 1.3. Telekadó | C83: 90693 | D83: 95000 | E83: =F83-D83 -> 0 | F83: 95000 | G83: =H83-F83 -> -95000 | H83: 0 | I83: =J83-H83 -> 0 | J83: 0 | K83: =L83-J83 -> 0 | L83: 0 | M83: 0
A84: B35 | B84: 2. Termékek és szolgáltatások adói | C84: =SUM(C85:C87) -> 180399 | D84: =SUM(D85:D87) -> 219400 | E84: =F84-D84 -> 20000 | F84: =SUM(F85:F87) -> 239400 | G84: =H84-F84 -> -239400 | H84: =SUM(H85:H87) -> 0 | I84: =J84-H84 -> 0 | J84: =SUM(J85:J87) -> 0 | K84: =L84-J84 -> 0 | L84: =SUM(L85:L87) -> 0 | M84: =SUM(M85:M87) -> 0
B85: 2.1. Iparűzési adó | C85: 136619 | D85: 155000 | E85: =F85-D85 -> 20000 | F85: =155000+20000 -> 175000 | G85: =H85-F85 -> -175000 | H85: 0 | I85: =J85-H85 -> 0 | J85: 0 | K85: =L85-J85 -> 0 | L85: 0 | M85: 0
B86: 2.2. Gépjárműadó (40%) | E86: =F86-D86 -> 0 | G86: =H86-F86 -> 0 | I86: =J86-H86 -> 0 | K86: =L86-J86 -> 0
B87: 2.2. Idegenforgalmi adó | C87: 43780 | D87: 64400 | E87: =F87-D87 -> 0 | F87: 64400 | G87: =H87-F87 -> -64400 | H87: 0 | I87: =J87-H87 -> 0 | J87: 0 | K87: =L87-J87 -> 0 | L87: 0 | M87: 0
A88: B36 | B88: 3. Egyéb közhatalmi bevételek | C88: =SUM(C89:C92) -> 12125 | D88: =SUM(D89:D92) -> 82300 | E88: =F88-D88 -> -20000 | F88: =SUM(F89:F92) -> 62300 | G88: =H88-F88 -> -62300 | H88: 0 | I88: =J88-H88 -> 0 | J88: 0 | K88: =L88-J88 -> 0 | L88: 0 | M88: 0 | R88: =106*1000*249 -> 26394000
B89: Pótlék, bírság | C89: 6498 | D89: 6000 | E89: =F89-D89 -> 0 | F89: 6000 | R89: =27394000/249/106 -> 1037.8874
B90: Közterület használati díj | C90: 4347 | D90: 5000 | E90: =F90-D90 -> 0 | F90: 5000
B91: Betelepülési hozzájárulás | C91: 0 | D91: 70000 | E91: =F91-D91 -> -20000 | F91: =70000-20000 -> 50000
B92: Házasságkötés során nyújtott szolgáltatásból eredő díjbevétel (Hivatal) | C92: 1280 | D92: 1300 | E92: =F92-D92 -> 0 | F92: 1300
A93: B4 | B93: III. Működési bevételek | C93: =SUM(C94:C104) -> 52464 | D93: =SUM(D94:D104) -> 217196 | E93: =F93-D93 -> -141387 | F93: =SUM(F94:F104) -> 75809 | G93: =H93-F93 -> -75809 | H93: =SUM(H94:H104) -> 0 | I93: =J93-H93 -> 0 | J93: =SUM(J94:J104) -> 0 | K93: =L93-J93 -> 0 | L93: =SUM(L94:L104) -> 0 | M93: =SUM(M94:M104) -> 0
A94: B401 | B94: 1. Készletértékesítés ellenértéke | C94: 0 | D94: 0 | E94: =F94-D94 -> 26 | F94: 26 | G94: =H94-F94 -> -26 | H94: 0 | I94: =J94-H94 -> 0 | J94: 0 | K94: =L94-J94 -> 0 | L94: 0 | M94: 0
A95: B402 | B95: 2. Szolgáltatások ellenértéke | C95: 380 | D95: 410 | E95: =F95-D95 -> 80 | F95: =410+80 -> 490 | G95: =H95-F95 -> -490 | H95: 0 | I95: =J95-H95 -> 0 | J95: 0 | K95: =L95-J95 -> 0 | L95: 0 | M95: 0
A96: B403 | B96: 3. Közvetített szolgáltatások ellenértéke | C96: 9848 | D96: =7500+3500 -> 11000 | E96: =F96-D96 -> 4938 | F96: =(7500+3500)+2100+2838 -> 15938 | G96: =H96-F96 -> -15938 | H96: 0 | I96: =J96-H96 -> 0 | J96: 0 | K96: =L96-J96 -> 0 | L96: 0 | M96: 0
A97: B404 | B97: 4. Tulajdonosi bevételek | C97: 8095 | D97: =4880+7000+192+600 -> 12672 | E97: =F97-D97 -> 426 | F97: =4880+7000+192+600+426 -> 13098 | G97: =H97-F97 -> -13098 | H97: 0 | I97: =J97-H97 -> 0 | J97: 0 | K97: =L97-J97 -> 0 | L97: 0 | M97: 0 | O97: (bús,glux,senter,somogy,csutak, ulmus / 4880) | T97: bahart 7000 | V97: rendőrség / 192 | X97: piac / 600
A98: B405 | B98: 5. Ellátási díjak | C98: 16244 | D98: 16420 | E98: =F98-D98 -> 500 | F98: =16420+500 -> 16920 | G98: =H98-F98 -> -16920 | H98: 0 | I98: =J98-H98 -> 0 | J98: 0 | K98: =L98-J98 -> 0 | L98: 0 | M98: 0 | R98: =106*249*622.05 -> 16418388 | S98: 16420
A99: B406 | B99: 6. Kiszámlázott ÁFA | C99: 8476 | D99: =4430+1318+2835+55+0 -> 8638 | E99: =F99-D99 -> 1043 | F99: =(4430+135)+1318+2835+55+0+328+580 -> 9681 | G99: =H99-F99 -> -9681 | H99: 0 | I99: =J99-H99 -> 0 | J99: 0 | K99: =L99-J99 -> 0 | L99: 0 | M99: 0 | R99: =106*249*167.95 -> 4432872.3 | S99: 4430 | U99: =4880*0.27 -> 1317.6 | V99: =10500*0.27 -> 2835 | W99: =192*0.27 -> 51.84
A100: B407 | B100: 7. ÁFA visszatérítése | C100: 0 | D100: =148425+10000+7120 -> 165545 | E100: =F100-D100 -> -148425 | F100: =148425-148425+10000+7120 -> 17120 | G100: =H100-F100 -> -17120 | H100: 0 | I100: =J100-H100 -> 0 | J100: 0 | K100: =L100-J100 -> 0 | L100: 0 | M100: 0 | O100: BB beruh: 148425 dologi 10000 | R100: =(167.95+102)*106*249 -> 7125060.3 | S100: 7120
...

Sheet Munka1
E1: 11. melléklet
A4: Balatonföldvár Város Önkormányzatának
A5: 2025. évi maradványkimutatása
B7: Maradványkimutatás | C7: Önkormányzat | D7: Közös Hivatal | E7: Összesen
A8: 01 | B8: 01 Alaptevékenység költségvetési bevételei | C8: 1942805 | D8: 52814 | E8: =SUM(C8:D8) -> 1995619
A9: 02 | B9: 02 Alaptevékenység költségvetési kiadásai | C9: 1485533 | D9: 286828 | E9: =SUM(C9:D9) -> 1772361 | G9: 77513685 | H9: 77514
A10: 03 | B10: I Alaptevékenység költségvetési egyenlege (=01-02) | C10: =C8-C9 -> 457272 | D10: =D8-D9 -> -234014 | E10: =E8-E9 -> 223258 | G10: 8688546 | H10: 8688
A11: 04 | B11: 03 Alaptevékenység finanszírozási bevételei | C11: 386182 | D11: 242114 | E11: =SUM(C11:D11) -> 628296 | G11: 322778632 | H11: 322779 | J11: 322781
A12: 05 | B12: 04 Alaptevékenység finanszírozási kiadásai | C12: 355941 | D12: 0 | E12: =SUM(C12:D12) -> 355941 | G12: 6186500 | H12: 6186
A13: 06 | B13: II Alaptevékenység finanszírozási egyenlege (=03-04) | C13: =C11-C12 -> 30241 | D13: =D11-D12 -> 242114 | E13: =E11-E12 -> 272355 | G13: 707463978 | H13: 707464
A14: 07 | B14: A) Alaptevékenység maradványa (=±I±II) | C14: =C10+C13 -> 487513 | D14: =D10+D13 -> 8100 | E14: =E10+E13 -> 495613
A15: 15 | B15: C) Összes maradvány (=A+B) | C15: =C14 -> 487513 | D15: =D14 -> 8100 | E15: =E14 -> 495613 | G15: 188134197 | H15: 188134
A16: 09 | B16: D) Alaptevékenység kötelezettségvállalással terhelt maradványa | C16: 0 | D16: 0 | E16: =SUM(C16:D16) -> 0
A17: 17 | B17: E) Alaptevékenység szabad maradványa (=A-D) | C17: =C14-C16 -> 487513 | D17: =D14-D16 -> 8100 | E17: =E14-E16 -> 495613 | G17: 172659030 | H17: 172659
G18: =SUM(G9:G17) -> 1483424568 | H18: =SUM(H9:H17) -> 1483424
B19: Maradványkimutatás | C19: Önkormányzat | D19: Közös Hivatal | E19: Összesen
A20: 01 | B20: 01 Alaptevékenység költségvetési bevételei | C20: =1942804751+20 -> 1942804771 | D20: =4504+1280000+51529739 -> 52814243 | E20: =SUM(C20:D20) -> 1995619014 | G20: =C9+C12-240067 -> 1601407 | H20: =G20+D9 -> 1888235
A21: 02 | B21: 02 Alaptevékenység költségvetési kiadásai | C21: 1485533444 | D21: 286827934 | E21: =SUM(C21:D21) -> 1772361378
A22: 03 | B22: I Alaptevékenység költségvetési egyenlege (=01-02) | C22: =C20-C21 -> 457271327 | D22: =D20-D21 -> -234013691 | E22: =E20-E21 -> 223257636 | G22: =E8+E11 -> 2623915
A23: 04 | B23: 03 Alaptevékenység finanszírozási bevételei | C23: 386181798 | D23: 242114011 | E23: =SUM(C23:D23) -> 628295809 | G23: =G22-240067 -> 2383848 | H23: =G23-H20 -> 495613
A24: 05 | B24: 04 Alaptevékenység finanszírozási kiadásai | C24: 355940508 | D24: 0 | E24: =SUM(C24:D24) -> 355940508
A25: 06 | B25: II Alaptevékenység finanszírozási egyenlege (=03-04) | C25: =C23-C24 -> 30241290 | D25: =D23-D24 -> 242114011 | E25: =E23-E24 -> 272355301
A26: 07 | B26: A) Alaptevékenység maradványa (=±I±II) | C26: =C22+C25 -> 487512617 | D26: =D22+D25 -> 8100320 | E26: =E22+E25 -> 495612937
A27: 15 | B27: C) Összes maradvány (=A+B) | C27: =C26 -> 487512617 | D27: =D26 -> 8100320 | E27: =E26 -> 495612937
A28: 09 | B28: D) Alaptevékenység kötelezettségvállalással terhelt maradványa | C28: 0 | D28: 0 | E28: =SUM(C28:D28) -> 0
A29: 17 | B29: E) Alaptevékenység szabad maradványa (=A-D) | C29: =C26-C28 -> 487512617 | D29: =D26-D28 -> 8100320 | E29: =E26-E28 -> 495612937

Sheet 3.felh
F1: 3. melléklet
F2: ='1.Bev-kiad.'!F2 -> a 12/2026.(X.2.) önkormányzati rendelethez
F3: 3. melléklet az 5/2026.(II.23.) önkormányzati rendelethez
A4: Balatonföldvár Város Önkormányzatának
A5: 2026. évi felhalmozási bevételei, kiadásai
F6: ezer Ft-ban
A7: Rovat | B7: Felhalmozási bevételek - kiadások | C7: ='1.Bev-kiad.'!C8 -> 2025. évi teljesítés | D7: ='1.Bev-kiad.'!D8 -> 2026. évi eredeti előirányzat | E7: ei. változás | F7: ='1.Bev-kiad.'!F8 -> Módosított előirányzat 2026.10.havi | G7: ei. változás | H7: ='1.Bev-kiad.'!H8 -> 0 | I7: ei. változás | J7: ='1.Bev-kiad.'!J8 -> 0 | K7: ei. változás | L7: ='1.Bev-kiad.'!L8 -> 0 | M7: ='1.Bev-kiad.'!M8 -> 0
A8: B1-B7 | B8: A. K ö l t s é g v e t é s i b e v é t e l e k | C8: =SUM(C13+C28+C34) -> 405885 | D8: =SUM(D13+D28+D34) -> 566937 | E8: =F8-D8 -> 51706 | F8: =SUM(F13+F28+F34) -> 618643 | G8: =H8-F8 -> -618643 | H8: =SUM(H13+H28+H34) -> 0 | I8: =J8-H8 -> 0 | J8: =SUM(J13+J28+J34) -> 0 | K8: =L8-J8 -> 0 | L8: =SUM(L13+L28+L34) -> 0 | M8: =SUM(M13+M28+M34) -> 0
A9: B13 | B9: 1.3. Működési és garancia- és kezességvállalásból származó bevételek | E9: =F9-D9 -> 0 | G9: =H9-F9 -> 0 | I9: =J9-H9 -> 0 | K9: =L9-J9 -> 0
A10: B14 | B10: 1.4. Működési célú visszatérítendő támogatások, kölcsönök visszatérülése | E10: =F10-D10 -> 0 | G10: =H10-F10 -> 0 | I10: =J10-H10 -> 0 | K10: =L10-J10 -> 0
A11: B15 | B11: 1.5. Működési célú visszatérítendő támogatások, kölcsönök igénybevétele | E11: =F11-D11 -> 0 | G11: =H11-F11 -> 0 | I11: =J11-H11 -> 0 | K11: =L11-J11 -> 0
A12: B16 | B12: 1.6. Egyéb működési célú támogatások | E12: =F12-D12 -> 0 | G12: =H12-F12 -> 0 | I12: =J12-H12 -> 0 | K12: =L12-J12 -> 0
A13: B2 | B13: I. Felhalmozási célú támogatások államháztartáson belülről | C13: =C14+C23 -> 394384 | D13: =D14+D23 -> 526642 | E13: =F13-D13 -> 22225 | F13: =F14+F23 -> 548867 | G13: =H13-F13 -> -548867 | H13: =H14+H23 -> 0 | I13: =J13-H13 -> 0 | J13: =J14+J23 -> 0 | K13: =L13-J13 -> 0 | L13: =L14+L23 -> 0 | M13: =M14+M23 -> 0
B14: 1. Hazai forrásból származó bevételek | C14: 50000 | D14: =SUM(D15:D22) -> 25000 | E14: =F14-D14 -> 0 | F14: =SUM(F15:F22) -> 25000 | G14: =H14-F14 -> -25000 | H14: =SUM(H15:H22) -> 0 | I14: =J14-H14 -> 0 | J14: =SUM(J15:J22) -> 0 | K14: =L14-J14 -> 0 | L14: =SUM(L15:L22) -> 0 | M14: =SUM(M15:M22) -> 0
B15: Közösségi Sportpálya-felújítási Program 2026 támogatás | C15: 0 | D15: 25000 | E15: =F15-D15 -> 0 | F15: 25000 | G15: =H15-F15 -> -25000 | H15: 0 | I15: =J15-H15 -> 0 | J15: 0 | K15: =L15-J15 -> 0 | L15: 0 | M15: 0
D17: 0 | F17: 0 | G17: =H17-F17 -> 0 | H17: 0 | I17: =J17-H17 -> 0 | J17: 0 | K17: =L17-J17 -> 0 | L17: 0 | M17: 0
D18: 0 | F18: 0 | G18: =H18-F18 -> 0 | H18: 0 | I18: =J18-H18 -> 0 | J18: 0 | K18: =L18-J18 -> 0 | L18: 0 | M18: 0
D19: 0 | F19: 0 | G19: =H19-F19 -> 0 | H19: 0 | I19: =J19-H19 -> 0 | J19: 0 | K19: =L19-J19 -> 0 | L19: 0 | M19: 0
D20: 0 | F20: 0 | G20: =H20-F20 -> 0 | H20: 0 | I20: =J20-H20 -> 0 | J20: 0 | K20: =L20-J20 -> 0 | L20: 0 | M20: 0
G21: =H21-F21 -> 0 | I21: =J21-H21 -> 0 | K21: =L21-J21 -> 0
G22: =H22-F22 -> 0 | I22: =J22-H22 -> 0 | K22: =L22-J22 -> 0
B23: 2. Európai Uniós forrásból származó bevételek | C23: 344384 | D23: =SUM(D24:D27) -> 501642 | E23: =F23-D23 -> 22225 | F23: =SUM(F24:F27) -> 523867 | G23: =H23-F23 -> -523867 | H23: =SUM(H24:H27) -> 0 | I23: =J23-H23 -> 0 | J23: =SUM(J24:J27) -> 0 | K23: =L23-J23 -> 0 | L23: =SUM(L24:L27) -> 0 | M23: =SUM(M24:M27) -> 0
B24: TOP-PLUSZ-6.1.4-23-SO1-2024-00001 Kishajós megállópontok fejlesztése a Balaton körül - Dél-Balatoni vízi kör ismételt támogatás lehívása | D24: 0 | E24: =F24-D24 -> 22225 | F24: 22225 | G24: =H24-F24 -> -22225 | H24: 0 | I24: =J24-H24 -> 0 | J24: 0 | K24: =L24-J24 -> 0 | L24: 0 | M24: 0
B25: Boldog Békeidők Nyarai ismételt támogatás lehívás | D25: 501642 | E25: =F25-D25 -> 0 | F25: 501642 | G25: =H25-F25 -> -501642 | H25: 0 | I25: =J25-H25 -> 0 | J25: 0 | K25: =L25-J25 -> 0 | L25: 0 | M25: 0 | P25: =626867319-25984200-99241390
B26: TOP-PLUSZ-6.1.4-23-SO1-2024-00001 Kishajós megállópontok fejlesztése a Balaton körül - Dél-Balatoni vízi kör támogatása | D26: 0 | F26: 0 | G26: =H26-F26 -> 0 | H26: 0 | I26: =J26-H26 -> 0 | J26: 0 | K26: =L26-J26 -> 0 | L26: 0 | M26: 0 | P26: =626867319-25984200-99241390 -> 501641729
A28: B5 | B28: II. Felhalmozási bevételek | C28: =SUM(C29:C33) -> 400 | D28: =SUM(D29:D33) -> 30000 | E28: =F28-D28 -> 29481 | F28: =SUM(F29:F33) -> 59481 | G28: =H28-F28 -> -59481 | H28: =SUM(H29:H33) -> 0 | I28: =J28-H28 -> 0 | J28: =SUM(J29:J33) -> 0 | K28: =L28-J28 -> 0 | L28: =SUM(L29:L33) -> 0 | M28: =SUM(M29:M33) -> 0
A29: B51 | B29: 1. Immateriális javak értékesítése | C29: 0 | D29: 0 | E29: =F29-D29 -> 0 | F29: 0 | G29: =H29-F29 -> 0 | H29: 0 | I29: =J29-H29 -> 0 | J29: 0 | K29: =L29-J29 -> 0 | L29: 0 | M29: 0
A30: B52 | B30: 2. Ingatlanok értékesítése, lakásrészletek befizetései (82/2026.(VI.26.), 93/2026.(VII.7.), 94/2026.(VII.7.)) | C30: 0 | D30: 30000 | E30: =F30-D30 -> 29481 | F30: =30000+5000+24481 -> 59481 | G30: =H30-F30 -> -59481 | H30: 0 | I30: =J30-H30 -> 0 | J30: 0 | K30: =L30-J30 -> 0 | L30: 0 | M30: 0
A31: B53 | B31: 3. Egyéb tárgyi eszközök értékesítése | C31: 400 | D31: 0 | E31: =F31-D31 -> 0 | F31: 0 | G31: =H31-F31 -> 0 | H31: 0 | I31: =J31-H31 -> 0 | J31: 0 | K31: =L31-J31 -> 0 | L31: 0 | M31: 0
A32: B54 | B32: 4. Részesedések értékesítése | C32: 0 | D32: 0 | E32: =F32-D32 -> 0 | F32: 0 | G32: =H32-F32 -> 0 | H32: 0 | I32: =J32-H32 -> 0 | J32: 0 | K32: =L32-J32 -> 0 | L32: 0 | M32: 0
A33: B55 | B33: 5. Részesedések megszűnéséhez kapcsolódó bevételek | C33: 0 | D33: 0 | E33: =F33-D33 -> 0 | F33: 0 | G33: =H33-F33 -> 0 | H33: 0 | I33: =J33-H33 -> 0 | J33: 0 | K33: =L33-J33 -> 0 | L33: 0 | M33: 0
A34: B7 | B34: III. Felhalmozási célú átvett pénzeszközök | C34: 11101 | D34: =D36+D37 -> 10295 | E34: =F34-D34 -> 0 | F34: =F36+F37 -> 10295 | G34: =H34-F34 -> -10295 | H34: =H36+H37 -> 0 | I34: =J34-H34 -> 0 | J34: =J36+J37 -> 0 | K34: =L34-J34 -> 0 | L34: =L36+L37 -> 0 | M34: =M36+M37 -> 0
A35: B7 | B35: 7.1. Felhalmozási célú visszatérítendő támogatások, kölcsönök visszatérülése ÁH-n kívülről | E35: =F35-D35 -> 0 | G35: =H35-F35 -> 0 | I35: =J35-H35 -> 0 | K35: =L35-J35 -> 0
A36: B75 | B36: Felhalmozási célú átvett pénzeszközök (Nonprofit Kft. hiteltörlesztés) | C36: 10293 | D36: 10295 | E36: =F36-D36 -> 0 | F36: 10295 | G36: =H36-F36 -> -10295 | H36: 0 | I36: =J36-H36 -> 0 | J36: 0 | K36: =L36-J36 -> 0 | L36: 0 | M36: 0
A37: B75 | B37: Műfüves pálya pályázat felújítás önrész különbözet visszautalása | C37: 808 | D37: 0 | E37: =F37-D37 -> 0 | F37: 0 | G37: =H37-F37 -> 0 | H37: 0 | I37: =J37-H37 -> 0 | J37: 0 | K37: =L37-J37 -> 0 | L37: 0 | M37: 0
B38: B. F i n a n s z í r o z á s i b e v é t e l e k | C38: =SUM(C39+C43)+C44 -> 38889 | D38: =SUM(D39+D43)+D44 -> 298423 | E38: =F38-D38 -> 0 | F38: =SUM(F39+F43) -> 298423 | G38: =H38-F38 -> -298423 | H38: =SUM(H39+H43) -> 0 | I38: =J38-H38 -> 0 | J38: =SUM(J39+J43) -> 0 | K38: =L38-J38 -> 0 | L38: =SUM(L39+L43) -> 0 | M38: =SUM(M39+M43) -> 0
B39: ='2.működés'!B113 -> 1. Belföldi finanszírozás bevételei | C39: =C40 -> 38889 | D39: =D40 -> 298423 | E39: =F39-D39 -> 0 | F39: =F40 -> 298423 | G39: =H39-F39 -> -298423 | H39: =H40 -> 0 | I39: =J39-H39 -> 0 | J39: =J40 -> 0 | K39: =L39-J39 -> 0 | L39: =L40 -> 0 | M39: =M40 -> 0 | P39: MÁK | T39: ktgvetési
B40: 1.1. Előző évi felhalmozási célú maradvány igénybevétele | C40: 38889 | D40: =84375+22225+(50000-27171)+84864+84130 -> 298423 | E40: =F40-D40 -> 0 | F40: =84375+22225+(50000-27171)+84864+84130 -> 298423 | G40: =H40-F40 -> -298423 | H40: 0 | I40: =J40-H40 -> 0 | J40: 0 | K40: =L40-J40 -> 0 | L40: 0 | M40: 0 | P40: bb:84375126 | Q40: isk:84864387 | R40: hajós:22225000 | T40: VKJ: 22828996 | V40: zv:84130
B41: Zöld Város projekt | D41: =(632574-19378-10058-5652) -> 597486 | E41: =F41-D41 -> 0 | F41: =(632574-19378-10058-5652) -> 597486 | G41: =H41-F41 -> 0 | H41: =(632574-19378-10058-5652) -> 597486 | I41: =J41-H41 -> 0 | J41: =(632574-19378-10058-5652) -> 597486 | K41: =L41-J41 -> 0 | L41: =(632574-19378-10058-5652) -> 597486 | M41: =(632574-19378-10058-5652) -> 597486
B42: Hivatal energetikai felújítása | D42: =(226930-68956-3881-1049-246-686) -> 152112 | E42: =F42-D42 -> 0 | F42: =(226930-68956-3881-1049-246-686) -> 152112 | G42: =H42-F42 -> 0 | H42: =(226930-68956-3881-1049-246-686) -> 152112 | I42: =J42-H42 -> 0 | J42: =(226930-68956-3881-1049-246-686) -> 152112 | K42: =L42-J42 -> 0 | L42: =(226930-68956-3881-1049-246-686) -> 152112 | M42: =(226930-68956-3881-1049-246-686) -> 152112
B43: ='2.működés'!B121 -> 2. Külföldi finanszírozás bevételei | C43: 0 | D43: =SUM(D44:D44) -> 0 | E43: =F43-D43 -> 0 | F43: =SUM(F44:F44) -> 0 | G43: =H43-F43 -> 0 | H43: =SUM(H44:H44) -> 0 | I43: =J43-H43 -> 0 | J43: =SUM(J44:J44) -> 0 | K43: =L43-J43 -> 0 | L43: =SUM(L44:L44) -> 0 | M43: =SUM(M44:M44) -> 0
B44: ='2.működés'!B122 -> 3. Adóssághoz nem kapcsolódó származékos ügyletek bevételei | C44: 0 | D44: 0 | E44: =F44-D44 -> 0 | F44: 0 | H44: 0 | J44: 0 | L44: 0 | M44: 0
B45: Felhalmozási bevételek összesen | C45: =SUM(C8+C38) -> 444774 | D45: =SUM(D8+D38) -> 865360 | E45: =F45-D45 -> 51706 | F45: =SUM(F8+F38) -> 917066 | G45: =H45-F45 -> -917066 | H45: =SUM(H8+H38) -> 0 | I45: =J45-H45 -> 0 | J45: =SUM(J8+J38) -> 0 | K45: =L45-J45 -> 0 | L45: =SUM(L8+L38) -> 0 | M45: =SUM(M8+M38) -> 0
A46: K1-8 | B46: A. K ö l t s é g v e t é s i k i a d á s o k | C46: =SUM(C47+C74+C96) -> 361142 | D46: =SUM(D47+D74+D96) -> 1074238 | E46: =F46-D46 -> -30330 | F46: =SUM(F47+F74+F96) -> 1043908 | G46: =H46-F46 -> -1043908 | H46: =SUM(H47+H74+H96) -> 0 | I46: =J46-H46 -> 0 | J46: =SUM(J47+J74+J96) -> 0 | K46: =L46-J46 -> 0 | L46: =SUM(L47+L74+L96) -> 0 | M46: =SUM(M47+M74+M96) -> 0
A47: K6 | B47: I. Beruházások | C47: =SUM(C48+C71) -> 188483 | D47: =SUM(D48+D71) -> 744562 | E47: =F47-D47 -> 778 | F47: =SUM(F48+F71) -> 745340 | G47: =H47-F47 -> -745340 | H47: =SUM(H48+H71) -> 0 | I47: =J47-H47 -> 0 | J47: =SUM(J48+J71) -> 0 | K47: =L47-J47 -> 0 | L47: =SUM(L48+L71) -> 0 | M47: =SUM(M48+M71) -> 0
B48: 1. Önkormányzati beruházások | C48: 188134 | D48: =SUM(D49+D54+D70) -> 743862 | E48: =F48-D48 -> 778 | F48: =SUM(F49+F54+F70) -> 744640 | G48: =H48-F48 -> -744640 | H48: =SUM(H49+H54+H70) -> 0 | I48: =J48-H48 -> 0 | J48: =SUM(J49+J54+J70) -> 0 | K48: =L48-J48 -> 0 | L48: =SUM(L49+L54+L70) -> 0 | M48: =SUM(M49+M54+M70) -> 0
B49: 1.1. Európai Uniós támogatásból megvalósuló beruházások | C49: 40970 | D49: =SUM(D50:D53) -> 571949 | E49: =F49-D49 -> 0 | F49: =SUM(F50:F53) -> 571949 | G49: =H49-F49 -> -571949 | H49: =SUM(H50:H53) -> 0 | I49: =J49-H49 -> 0 | J49: =SUM(J50:J53) -> 0 | K49: =L49-J49 -> 0 | L49: =SUM(L50:L53) -> 0 | M49: =SUM(M50:M53) -> 0
B50: Kishajós megállópontok fejlesztése…TOP_PLUSZ-6.1.4-23-SO1-2024-00001 pályázat: stég, sólya, digitális totemoszlop | D50: 22225 | E50: =F50-D50 -> 0 | F50: 22225 | G50: =H50-F50 -> -22225 | H50: 0 | I50: =J50-H50 -> 0 | J50: 0 | K50: =L50-J50 -> 0 | L50: 0 | M50: 0
B51: Boldog Békeidők Nyarai Balatonföldváron TOP_PLUSZ-1.1.3-21-SO1-2022-00009 (nettó) | D51: =(541828-14000-8000-40970)+70866 -> 549724 | E51: =F51-D51 -> 0 | F51: =(541828-14000-8000-40970)+70866 -> 549724 | G51: =H51-F51 -> -549724 | H51: 0 | I51: =J51-H51 -> 0 | J51: 0 | K51: =L51-J51 -> 0 | L51: 0 | M51: 0
G53: =H53-F53 -> 0 | I53: =J53-H53 -> 0 | K53: =L53-J53 -> 0
B54: 1.2. Hazai támogatásból, saját forrásból megvalósítandó beruházások | C54: 147164 | D54: =SUM(D55:D69) -> 171913 | E54: =F54-D54 -> 778 | F54: =SUM(F55:F69) -> 172691 | G54: =H54-F54 -> -172691 | H54: =SUM(H55:H69) -> 0 | I54: =J54-H54 -> 0 | J54: =SUM(J55:J69) -> 0 | K54: =L54-J54 -> 0 | L54: =SUM(L55:L69) -> 0 | M54: =SUM(M55:M69) -> 0
B55: Kisértékű tárgyi eszköz beszerzés | C55: 0 | D55: 750 | E55: =F55-D55 -> -188 | F55: =750-188 -> 562 | G55: =H55-F55 -> -562 | H55: 0 | I55: =J55-H55 -> 0 | J55: 0 | K55: =L55-J55 -> 0 | L55: 0 | M55: 0
B56: Klinikai kémiai automata (177/2024.(XI.27.)) | C56: 0 | D56: 2400 | E56: =F56-D56 -> 0 | F56: 2400 | G56: =H56-F56 -> -2400 | H56: 0 | I56: =J56-H56 -> 0 | J56: 0 | K56: =L56-J56 -> 0 | L56: 0 | M56: 0
B57: Kisajátítási, kártalanítási összeg | C57: 0 | D57: 37500 | E57: =F57-D57 -> 0 | F57: 37500 | G57: =H57-F57 -> -37500 | H57: 0 | I57: =J57-H57 -> 0 | J57: 0 | K57: =L57-J57 -> 0 | L57: 0 | M57: 0
B58: Játszótéri eszköz beszerzés | C58: 0 | D58: 2000 | E58: =F58-D58 -> 0 | F58: 2000 | G58: =H58-F58 -> -2000 | H58: 0 | I58: =J58-H58 -> 0 | J58: 0 | K58: =L58-J58 -> 0 | L58: 0 | M58: 0
B59: Versenyképes Járások Program: eszközbeszerzés | C59: 0 | D59: 14542 | E59: =F59-D59 -> 1899 | F59: =14542+188+152+1559 -> 16441 | G59: =H59-F59 -> -16441 | H59: 0 | I59: =J59-H59 -> 0 | J59: 0 | K59: =L59-J59 -> 0 | L59: 0 | M59: 0 | P59: 22757 | Q59: =P59-F59 -> 6316
B60: Aszfaltburkolatú sportpálya felújítás (pályázat) | C60: 0 | D60: 53933 | E60: =F60-D60 -> 0 | F60: 53933 | G60: =H60-F60 -> -53933 | H60: 0 | I60: =J60-H60 -> 0 | J60: 0 | K60: =L60-J60 -> 0 | L60: 0 | M60: 0
B61: Kerítés építése sportpályához | C61: 0 | D61: 9600 | E61: =F61-D61 -> 0 | F61: 9600 | G61: =H61-F61 -> -9600 | H61: 0 | I61: =J61-H61 -> 0 | J61: 0 | K61: =L61-J61 -> 0 | L61: 0 | M61: 0
B62: Orvosi rendelő szünetmentes beszerzés | C62: 0 | D62: 4000 | E62: =F62-D62 -> 0 | F62: 4000 | G62: =H62-F62 -> -4000 | H62: 0 | I62: =J62-H62 -> 0 | J62: 0 | K62: =L62-J62 -> 0 | L62: 0 | M62: 0
B63: Orvosi rendelő klíma beszerzés | C63: 0 | D63: 2500 | E63: =F63-D63 -> 0 | F63: 2500 | G63: =H63-F63 -> -2500 | H63: 0 | I63: =J63-H63 -> 0 | J63: 0 | K63: =L63-J63 -> 0 | L63: 0 | M63: 0
B64: Schilhán park közvilágítás kiépítése II.ütem | C64: 0 | D64: 17145 | E64: =F64-D64 -> -152 | F64: =17145-152 -> 16993 | G64: =H64-F64 -> -16993 | H64: 0 | I64: =J64-H64 -> 0 | J64: 0 | K64: =L64-J64 -> 0 | L64: 0 | M64: 0
B65: Sztivattyú park közvilágítása, kandeláberek cseréje | C65: 0 | D65: 19250 | E65: =F65-D65 -> 0 | F65: 19250 | G65: =H65-F65 -> -19250 | H65: 0 | I65: =J65-H65 -> 0 | J65: 0 | K65: =L65-J65 -> 0 | L65: 0 | M65: 0
B66: Ny-i strand füvesítése, öntözőrendszer kiépítése | C66: 0 | D66: 7510 | E66: =F66-D66 -> -1559 | F66: =7510-1559 -> 5951 | G66: =H66-F66 -> -5951 | H66: 0 | I66: =J66-H66 -> 0 | J66: 0 | K66: =L66-J66 -> 0 | L66: 0 | M66: 0
B67: Ultrahang készülék beszerzése | C67: 0 | D67: 783 | E67: =F67-D67 -> 0 | F67: 783
B68: Garázskapu cseréje | C68: 0 | D68: 0 | E68: =F68-D68 -> 778 | F68: 778 | G68: =H68-F68 -> -778 | H68: 0 | I68: =J68-H68 -> 0 | J68: 0 | K68: =L68-J68 -> 0 | L68: 0 | M68: 0
B70: 1.3. Meglévő részesedések növeléséhez kapcsolódó kiadások | C70: 0 | D70: 0 | E70: =F70-D70 -> 0 | F70: 0 | G70: =H70-F70 -> 0 | H70: 0 | I70: =J70-H70 -> 0 | J70: 0 | K70: =L70-J70 -> 0 | L70: 0 | M70: 0
B71: 2. Intézményi beruházások | C71: =SUM(C72) -> 349 | D71: =SUM(D72) -> 700 | E71: =F71-D71 -> 0 | F71: =SUM(F72) -> 700 | G71: =H71-F71 -> -700 | H71: =SUM(H72) -> 0 | I71: =J71-H71 -> 0 | J71: =SUM(J72) -> 0 | K71: =L71-J71 -> 0 | L71: =SUM(L72) -> 0 | M71: =SUM(M72) -> 0
B72: Közös Önkormányzati Hivatal (szoftverek, számítástech. és egyéb tárgyi eszk. beszerzés) | C72: 349 | D72: ='[3]9.Hivatal'!Y84 -> 700 | E72: =F72-D72 -> 0 | F72: ='9.Hivatal'!Z87 -> 700 | G72: =H72-F72 -> -700 | H72: 0 | I72: =J72-H72 -> 0 | J72: 0 | K72: =L72-J72 -> 0 | L72: 0 | M72: 0
E73: =F73-D73 -> 0 | G73: =H73-F73 -> 0 | I73: =J73-H73 -> 0 | K73: =L73-J73 -> 0
A74: K7 | B74: II. Felújítások | C74: 172659 | D74: =SUM(D75+D80) -> 329676 | E74: =F74-D74 -> -53333 | F74: =SUM(F75+F80) -> 276343 | G74: =H74-F74 -> -276343 | H74: =SUM(H75+H80) -> 0 | I74: =J74-H74 -> 0 | J74: =SUM(J75+J80) -> 0 | K74: =L74-J74 -> 0 | L74: =SUM(L75+L80) -> 0 | M74: =SUM(M75+M80) -> 0
B75: 1. Európai Uniós támogatásból megvalósuló felújítások | C75: 139309 | D75: =SUM(D76:D79) -> 174613 | E75: =F75-D75 -> -47798 | F75: =SUM(F76:F79) -> 126815 | G75: =H75-F75 -> -126815 | H75: =SUM(H76:H79) -> 0 | I75: =J75-H75 -> 0 | J75: =SUM(J76:J79) -> 0 | K75: =L75-J75 -> 0 | L75: =SUM(L76:L79) -> 0 | M75: =SUM(M76:M79) -> 0
B76: Köznevelési intézmény energetikai korszerűsítése (TOP_PLUSZ-2.1.1-21-SO1-2022-00005) villámvédelmi tervfejezet 109/2024.(VIII.26.) (-ból 8.885 e Ft saját forrás) | C76: 139309 | D76: =(220907+8885)-139309 -> 90483 | E76: =F76-D76 -> 0 | F76: =(220907+8885)-139309 -> 90483 | G76: =H76-F76 -> -90483 | H76: 0 | I76: =J76-H76 -> 0 | J76: 0 | K76: =L76-J76 -> 0 | L76: 0 | M76: 0 | P76: =220907+8885=229792 | R76: -139309 2025.évi költés | T76: =81598+8885 -> 90483
B77: "Balatonföldvár zöld város program megval.-a" (TOP-2.1.2-15-2016-00002) (nettó) | C77: 0 | D77: 84130 | E77: =F77-D77 -> -47798 | F77: =84130-47798 -> 36332 | G77: =H77-F77 -> -36332 | H77: 0 | I77: =J77-H77 -> 0 | J77: 0 | K77: =L77-J77 -> 0 | L77: 0 | M77: 0 | Q77: =229792-139309 -> 90483
G78: =H78-F78 -> 0 | I78: =J78-H78 -> 0 | K78: =L78-J78 -> 0
B80: 2. Hazai támogatásból, saját forrásból megvalósuló felújítások | C80: 33350 | D80: =SUM(D81:D95) -> 155063 | E80: =F80-D80 -> -5535 | F80: =SUM(F81:F95) -> 149528 | G80: =H80-F80 -> -149528 | H80: =SUM(H81:H95) -> 0 | I80: =J80-H80 -> 0 | J80: =SUM(J81:J95) -> 0 | K80: =L80-J80 -> 0 | L80: =SUM(L81:L95) -> 0 | M80: =SUM(M81:M95) -> 0
B81: Versenyképes Járások Program: ingatlanfelújítás | C81: 0 | D81: =49402-27171 -> 22231 | E81: =F81-D81 -> 0 | F81: =49402-27171 -> 22231 | G81: =H81-F81 -> -22231 | H81: 0 | I81: =J81-H81 -> 0 | J81: 0 | K81: =L81-J81 -> 0 | L81: 0 | M81: 0 | P81: 22427
B82: Balatonföldvári Orvosi Rendelő villamos hálózatának korszerűsítése | C82: 0 | D82: =20597-6178 -> 14419 | E82: =F82-D82 -> 0 | F82: =20597-6178 -> 14419 | G82: =H82-F82 -> -14419 | H82: 0 | I82: =J82-H82 -> 0 | J82: 0 | K82: =L82-J82 -> 0 | L82: 0 | M82: 0
B83: Móricz Zs. u. szegélyépítés, vízelvezetés | C83: 0 | D83: 4955 | E83: =F83-D83 -> 0 | F83: 4955 | G83: =H83-F83 -> -4955 | H83: 0 | I83: =J83-H83 -> 0 | J83: 0 | K83: =L83-J83 -> 0 | L83: 0 | M83: 0
B84: Kőröshegyi utcai járdafelújítás Deák utcától Puskás utcáig | C84: 0 | D84: 22098 | E84: =F84-D84 -> -3069 | F84: =22098-3069 -> 19029 | G84: =H84-F84 -> -19029 | H84: 0 | I84: =J84-H84 -> 0 | J84: 0 | K84: =L84-J84 -> 0 | L84: 0 | M84: 0
B85: Orvosi rendelő előtti közterület parkosítása | C85: 0 | D85: 22860 | E85: =F85-D85 -> 0 | F85: 22860 | G85: =H85-F85 -> -22860 | H85: 0 | I85: =J85-H85 -> 0 | J85: 0 | K85: =L85-J85 -> 0 | L85: 0 | M85: 0
B86: Bajor Gizi Közösségi Ház beázásnak helyreállítása | C86: 0 | D86: 3000 | E86: =F86-D86 -> -2466 | F86: =3000-857-516-1093 -> 534
B87: Kőröshegyi út részleges felújítása II. ütem | C87: 0 | D87: 63500 | E87: =F87-D87 -> 0 | F87: 63500 | G87: =H87-F87 -> -63500 | H87: 0 | I87: =J87-H87 -> 0 | J87: 0 | K87: =L87-J87 -> 0 | L87: 0 | M87: 0
B88: Sportöltöző felújítása | C88: 0 | D88: 2000 | E88: =F88-D88 -> 0 | F88: 2000 | G88: =H88-F88 -> -2000 | H88: 0 | I88: =J88-H88 -> 0 | J88: 0 | K88: =L88-J88 -> 0 | L88: 0 | M88: 0
D89: 0 | F89: 0 | G89: =H89-F89 -> 0 | H89: 0 | I89: =J89-H89 -> 0 | J89: 0 | K89: =L89-J89 -> 0 | L89: 0 | M89: 0
G90: =H90-F90 -> 0 | I90: =J90-H90 -> 0 | K90: =L90-J90 -> 0
G91: =H91-F91 -> 0 | I91: =J91-H91 -> 0 | K91: =L91-J91 -> 0
G92: =H92-F92 -> 0 | I92: =J92-H92 -> 0 | K92: =L92-J92 -> 0
G93: =H93-F93 -> 0 | I93: =J93-H93 -> 0 | K93: =L93-J93 -> 0
G94: =H94-F94 -> 0 | I94: =J94-H94 -> 0 | K94: =L94-J94 -> 0
A96: K8 | B96: III. Egyéb felhalmozási célú kiadások | C96: 0 | D96: =SUM(D97:D101) -> 0 | E96: =F96-D96 -> 22225 | F96: =SUM(F97:F101) -> 22225 | G96: =H96-F96 -> -22225 | H96: =SUM(H97:H101) -> 0 | I96: =J96-H96 -> 0 | J96: =SUM(J97:J101) -> 0 | K96: =L96-J96 -> 0 | L96: =SUM(L97:L101) -> 0 | M96: =SUM(M97:M101) -> 0
A97: K84 | B97: 1. Egyéb felh.-i célú tám.visszafizetés (TOP-PLUSZ-6.1.4-23-SO1-2024-00001 Kishajós megállópontok fejlesztése pályázat támogatás visszafizetése) | D97: 0 | E97: =F97-D97 -> 22225 | F97: 22225 | G97: =H97-F97 -> -22225 | H97: 0 | I97: =J97-H97 -> 0 | J97: 0 | K97: =L97-J97 -> 0 | L97: 0 | M97: 0
A98: K84 | B98: Egyéb felh.-i célú tám.visszafizetés (iskola energetika pályázat támogatás visszafizetése) | D98: 0 | E98: =F98-D98 -> 0 | F98: 0 | G98: =H98-F98 -> 0 | H98: 0 | I98: =J98-H98 -> 0 | J98: 0 | K98: =L98-J98 -> 0 | L98: 0 | M98: 0
A99: K84 | B99: Egyéb felh.-i célú tám.visszafizetés (boldog békeidők pályázat támogatás visszafizetése) | D99: 0 | E99: =F99-D99 -> 0 | F99: 0 | G99: =H99-F99 -> 0 | H99: 0 | I99: =J99-H99 -> 0 | J99: 0 | K99: =L99-J99 -> 0 | L99: 0 | M99: 0
A100: K89 | B100: 2. Felhalmozási célú támogatások államháztartáson kívülre | D100: 0 | E100: =F100-D100 -> 0 | F100: 0 | G100: =H100-F100 -> 0 | H100: 0 | I100: =J100-H100 -> 0 | J100: 0 | K100: =L100-J100 -> 0 | L100: 0 | M100: 0
B101: 3. Felhalmozási célú tartalék (-ebből 609.635 e Ft céltartalék: Boldog Békeidők ) | D101: =609635-609635 -> 0 | E101: =F101-D101 -> 0 | F101: =609635-609635 -> 0 | G101: =H101-F101 -> 0 | H101: =609635-609635 -> 0 | I101: =J101-H101 -> 0 | J101: =609635-609635 -> 0 | K101: =L101-J101 -> 0 | L101: =609635-609635 -> 0 | M101: =609635-609635 -> 0
B102: Ebből felhalmozási célú céltartalék | D102: 0 | E102: =F102-D102 -> 0 | F102: 0 | G102: =H102-F102 -> 0 | H102: 0 | I102: =J102-H102 -> 0 | J102: 0 | K102: =L102-J102 -> 0 | L102: 0 | M102: 0
A103: K9 | B103: B. F i n a n s z í r o z á s i k i a d á s o k | C103: =SUM(C104+C107+C108) -> 94210 | D103: =SUM(D104+D107+D108) -> 94210 | E103: =F103-D103 -> 0 | F103: =SUM(F104+F107+F108) -> 94210 | G103: =H103-F103 -> -94210 | H103: =SUM(H104+H107+H108) -> 0 | I103: =J103-H103 -> 0 | J103: =SUM(J104+J107+J108) -> 0 | K103: =L103-J103 -> 0 | L103: =SUM(L104+L107+L108) -> 0 | M103: =SUM(M104+M107+M108) -> 0
B104: 1. Belföldi finanszírozás kiadásai | C104: =SUM(C106) -> 94210 | D104: =SUM(D106) -> 94210 | E104: =F104-D104 -> 0 | F104: =SUM(F106) -> 94210 | G104: =H104-F104 -> -94210 | H104: =SUM(H106) -> 0 | I104: =J104-H104 -> 0 | J104: =SUM(J106) -> 0 | K104: =L104-J104 -> 0 | L104: =SUM(L106) -> 0 | M104: =SUM(M106) -> 0
B105: 1.2. Felhalmozási célú hitel-, kölcsöntörlesztés | E105: =F105-D105 -> 0 | G105: =H105-F105 -> 0 | I105: =J105-H105 -> 0 | K105: =L105-J105 -> 0
B106: Hitel törlesztés (fejlesztési hitelek) | C106: 94210 | D106: 94210 | E106: =F106-D106 -> 0 | F106: 94210 | G106: =H106-F106 -> -94210 | H106: 0 | I106: =J106-H106 -> 0 | J106: 0 | K106: =L106-J106 -> 0 | L106: 0 | M106: 0
...

Sheet 4. Átadott p.eszk.
E1: 4. melléklet
E2: ='1.Bev-kiad.'!F2 -> a 12/2026.(X.2.) önkormányzati rendelethez
E3: 4. melléklet az 5/2026.(II.23.) önkormányzati rendelethez
A4: Balatonföldvár Város Önkormányzata
A5: 2026. évi működési célú támogatásai, pénzeszközátadásai, közvetett támogatásai
E7: ezer Ft-ban
A8: Működési célú támogatások, pénzeszközátadások | B8: ='1.Bev-kiad.'!C8 -> 2025. évi teljesítés | C8: ='1.Bev-kiad.'!D8 -> 2026. évi eredeti előirányzat | D8: ei. változás | E8: ='1.Bev-kiad.'!F8 -> Módosított előirányzat 2026.10.havi | F8: ei. változás | G8: ='1.Bev-kiad.'!H8 -> 0 | H8: ei. változás | I8: ='1.Bev-kiad.'!J8 -> 0 | J8: ei. változás | K8: ='1.Bev-kiad.'!L8 -> 0 | L8: ='1.Bev-kiad.'!M8 -> 0
A9: I. Egyéb működési célú támogatások államháztartáson belülre (K506) | B9: =SUM(B10+B33) -> 433383 | C9: =SUM(C10+C33) -> 493839 | D9: =E9-C9 -> 7859 | E9: =SUM(E10+E33) -> 501698 | F9: =G9-E9 -> -501698 | G9: =SUM(G10+G33) -> 0 | H9: =I9-G9 -> 0 | I9: =SUM(I10+I33) -> 0 | J9: =K9-I9 -> 0 | K9: =SUM(K10+K33) -> 0 | L9: =SUM(L10+L33) -> 0
A10: 1. Többcélú kistérségi társulásnak és költségvetési szerveinek | B10: =SUM(B11+B18) -> 433383 | C10: =SUM(C11+C18) -> 493639 | D10: =E10-C10 -> 7859 | E10: =SUM(E11+E18) -> 501498 | F10: =G10-E10 -> -501498 | G10: =SUM(G11+G18) -> 0 | H10: =I10-G10 -> 0 | I10: =SUM(I11+I18) -> 0 | J10: =K10-I10 -> 0 | K10: =SUM(K11+K18) -> 0 | L10: =SUM(L11+L18) -> 0
A11: 1.1. Önkormányzat által igényelt állami támogatás továbbadása Többcélú Társulásnak | B11: =SUM(B12:B17) -> 415477 | C11: =SUM(C12:C17) -> 473974 | D11: =E11-C11 -> 7859 | E11: =SUM(E12:E17) -> 481833 | F11: =G11-E11 -> -481833 | G11: =SUM(G12:G17) -> 0 | H11: =I11-G11 -> 0 | I11: =SUM(I12:I17) -> 0 | J11: =K11-I11 -> 0 | K11: =SUM(K12:K17) -> 0 | L11: =SUM(L12:L17) -> 0
A12: Óvodai nevelés | B12: 160596 | C12: =SUM('2.működés'!D25)+'2.működés'!D54 -> 174219 | D12: =E12-C12 -> 1245 | E12: =SUM('2.működés'!F25) -> 175464 | F12: =G12-E12 -> -175464 | G12: =SUM('2.működés'!H25) -> 0 | H12: =I12-G12 -> 0 | I12: =SUM('2.működés'!J25) -> 0 | J12: =K12-I12 -> 0 | K12: =SUM('2.működés'!L25) -> 0 | L12: =SUM('2.működés'!M25) -> 0
A13: Bölcsődei nevelés | B13: 34834 | C13: ='2.működés'!D35 -> 39912 | D13: =E13-C13 -> 111 | E13: ='2.működés'!F35 -> 40023 | F13: =G13-E13 -> -40023 | G13: ='2.működés'!H35 -> 0 | H13: =I13-G13 -> 0 | I13: ='2.működés'!J35 -> 0 | J13: =K13-I13 -> 0 | K13: ='2.működés'!L35 -> 0 | L13: ='2.működés'!M35 -> 0
A14: Gyermekétkeztetési feladatok támogatása | B14: 72913 | C14: =SUM('2.működés'!D38) -> 85244 | D14: =E14-C14 -> 0 | E14: =SUM('2.működés'!F38) -> 85244 | F14: =G14-E14 -> -85244 | G14: =SUM('2.működés'!H38) -> 0 | H14: =I14-G14 -> 0 | I14: =SUM('2.működés'!J38) -> 0 | J14: =K14-I14 -> 0 | K14: =SUM('2.működés'!L38) -> 0 | L14: =SUM('2.működés'!M38) -> 0
A15: Család és gyermekjóléti feladatok, házi segítségnyújtás támogatása | B15: 130515 | C15: =SUM('2.működés'!D29+'2.működés'!D32+1) -> 143821 | D15: =E15-C15 -> 6503 | E15: =SUM('2.működés'!F29+'2.működés'!F32+1) -> 150324 | F15: =G15-E15 -> -150324 | G15: =SUM('2.működés'!H29+'2.működés'!H32) -> 0 | H15: =I15-G15 -> 0 | I15: =SUM('2.működés'!J29+'2.működés'!J32) -> 0 | J15: =K15-I15 -> 0 | K15: =SUM('2.működés'!L29+'2.működés'!L32) -> 0 | L15: =SUM('2.működés'!M29+'2.működés'!M32) -> 0
A16: Ágazati pótlék átadás | B16: 16402 | C16: ='2.működés'!D57 -> 28483 | D16: =E16-C16 -> 0 | E16: ='2.működés'!F36 -> 28483 | F16: =G16-E16 -> -28483 | G16: ='2.működés'!H36 -> 0 | H16: =I16-G16 -> 0 | I16: ='2.működés'!J36 -> 0 | J16: =K16-I16 -> 0 | K16: ='2.működés'!L36 -> 0 | L16: ='2.működés'!M36 -> 0
A17: Előző évi normatíva elszámolásból adódó többlettámogatás átadása | B17: 217 | C17: 2295 | D17: =E17-C17 -> 0 | E17: 2295 | F17: =G17-E17 -> -2295 | G17: 0 | H17: =I17-G17 -> 0 | I17: 0 | J17: =K17-I17 -> 0 | K17: 0 | L17: 0
A18: 1.2. Pénzeszközátadás társulásban közösen ellátott feladatokra (TKT felosztás külön táblán bemutatva) | B18: =SUM(B19+B30+B31+B32) -> 17906 | C18: =SUM(C19+C30+C31+C32) -> 19665 | D18: =E18-C18 -> 0 | E18: =SUM(E19+E30+E31+E32) -> 19665 | F18: =G18-E18 -> -19665 | G18: =SUM(G19+G30+G31+G32) -> 0 | H18: =I18-G18 -> 0 | I18: =SUM(I19+I30+I31+I32) -> 0 | J18: =K18-I18 -> 0 | K18: =SUM(K19+K30+K31+K32) -> 0 | L18: =SUM(L19+L30+L31+L32) -> 0
A19: Óvodai, bölcsődei nevelés | B19: 17306 | C19: 19098 | D19: =E19-C19 -> 0 | E19: 19098 | F19: =G19-E19 -> -19098 | G19: 0 | H19: =I19-G19 -> 0 | I19: 0 | J19: =K19-I19 -> 0 | K19: 0 | L19: 0
A20: Családsegítés, gyermekjóléti feladatok | F20: =G20-E20 -> 0 | H20: =I20-G20 -> 0 | J20: =K20-I20 -> 0
A21: Házi segítségnyújtás | F21: =G21-E21 -> 0 | H21: =I21-G21 -> 0 | J21: =K21-I21 -> 0
A22: Jelzőrendszeres házi segítésnyújtás | F22: =G22-E22 -> 0 | H22: =I22-G22 -> 0 | J22: =K22-I22 -> 0
A23: Pénzügyi Gondnokság konyha működtetés, karbantartás (intézményi étkeztetés) | F23: =G23-E23 -> 0 | H23: =I23-G23 -> 0 | J23: =K23-I23 -> 0
A24: Pénzügyi Gondnokság iroda működtetés | F24: =G24-E24 -> 0 | H24: =I24-G24 -> 0 | J24: =K24-I24 -> 0
A25: Háziorvosi ügyeleti ellátás | F25: =G25-E25 -> 0 | H25: =I25-G25 -> 0 | J25: =K25-I25 -> 0
A26: Egészségügyi laboratóriumi szolgáltatás | F26: =G26-E26 -> 0 | H26: =I26-G26 -> 0 | J26: =K26-I26 -> 0
A27: Kistérségi TV működtetés | F27: =G27-E27 -> 0 | H27: =I27-G27 -> 0 | J27: =K27-I27 -> 0
A28: Kistérségi Társulás tagdíj (500 Ft/fő) | F28: =G28-E28 -> 0 | H28: =I28-G28 -> 0 | J28: =K28-I28 -> 0
A29: Működési hozzájárulás (EFI iroda állami támogatás csökkentés miatt) | C29: 0 | E29: 0 | F29: =G29-E29 -> 0 | G29: 0 | H29: =I29-G29 -> 0 | I29: 0 | J29: =K29-I29 -> 0 | K29: 0 | L29: 0
A30: Szennyvíztársulás működési hozzájárulás | C30: 0 | E30: 0 | F30: =G30-E30 -> 0 | G30: 0 | H30: =I30-G30 -> 0 | I30: 0 | J30: =K30-I30 -> 0 | K30: 0 | L30: 0
A31: Dél-Balatoni Regionális Hulladékgazdálkodási Önkormányzati Társulás 2026. évi működési hozzájárulása | B31: 600 | C31: 567 | D31: =E31-C31 -> 0 | E31: 567 | F31: =G31-E31 -> -567 | G31: 0 | H31: =I31-G31 -> 0 | I31: 0 | J31: =K31-I31 -> 0 | K31: 0 | L31: 0
D32: =E32-C32 -> 0 | F32: =G32-E32 -> 0 | H32: =I32-G32 -> 0 | J32: =K32-I32 -> 0
A33: 2. Egyéb működési célú pénzeszközátadás | B33: =B34 -> 0 | C33: =C34 -> 200 | D33: =E33-C33 -> 0 | E33: =E34 -> 200 | F33: =G33-E33 -> -200 | G33: =G34 -> 0 | H33: =I33-G33 -> 0 | I33: =I34 -> 0 | J33: =K33-I33 -> 0 | K33: =K34 -> 0 | L33: =L34 -> 0
A34: Emberi Erőforrás Támogatáskezelő (BURSA) | B34: 0 | C34: 200 | D34: =E34-C34 -> 0 | E34: 200 | F34: =G34-E34 -> -200 | G34: 0 | H34: =I34-G34 -> 0 | I34: 0 | J34: =K34-I34 -> 0 | K34: 0 | L34: 0
A35: II. Működési célú garancia- és kezességvállalásból származó kifizetés államházt.-on kívülre (K507) | B35: 0 | C35: 0 | D35: =E35-C35 -> 0 | E35: 0 | F35: =G35-E35 -> 0 | G35: 0 | H35: =I35-G35 -> 0 | I35: 0 | J35: =K35-I35 -> 0 | K35: 0 | L35: 0
A36: III. Egyéb működési célú támogatások államháztartáson kívülre (K512) | B36: =SUM(B37+B55+B57) -> 256050 | C36: =SUM(C37+C55+C57) -> 240650 | D36: =E36-C36 -> 4871 | E36: =SUM(E37+E55+E57) -> 245521 | F36: =G36-E36 -> -245521 | G36: =SUM(G37+G55+G57) -> 0 | H36: =I36-G36 -> 0 | I36: =SUM(I37+I55+I57) -> 0 | J36: =K36-I36 -> 0 | K36: =SUM(K37+K55+K57) -> 0 | L36: =SUM(L37+L55+L57) -> 0
A37: 1. Vállalkozásoknak | B37: =SUM(B39+B38+B47+B51+B52)+B54+B50+B46 -> 209122 | C37: =SUM(C39+C38+C47+C51+C53)+C54+C50+C46 -> 194637 | D37: =E37-C37 -> 3970 | E37: =SUM(E39+E38+E47+E51+E53)+E54+E50+E46 -> 198607 | F37: =G37-E37 -> -198607 | G37: =SUM(G39+G38+G47+G51+G53)+G54+G50+G46 -> 0 | H37: =I37-G37 -> 0 | I37: =SUM(I39+I38+I47+I51+I53)+I54+I50+I46 -> 0 | J37: =K37-I37 -> 0 | K37: =SUM(K39+K38+K47+K51+K53)+K54+K50+K46 -> 0 | L37: =SUM(L39+L38+L47+L51+L53)+L54+L50+L46 -> 0
A38: Balatonföldvári Nonprofit Kft. működési támogatás (saját) (70/2026.(V.28.)) | B38: 80000 | C38: 95000 | D38: =E38-C38 -> 3970 | E38: =95000+3970 -> 98970 | F38: =G38-E38 -> -98970 | G38: 0 | H38: =I38-G38 -> 0 | I38: 0 | J38: =K38-I38 -> 0 | K38: 0 | L38: 0
A39: Balatonföldvári Nonprofit Kft. működési támogatás (állami) | B39: =SUM(+B43) -> 17146 | C39: =SUM(+C43)+C44 -> 20637 | D39: =E39-C39 -> 0 | E39: =SUM(+E43)+E44 -> 20637 | F39: =SUM(+F43)+F44 -> -20637 | G39: =SUM(+G43)+G44 -> 0 | H39: =SUM(+H43)+H44 -> 0 | I39: =SUM(+I43)+I44 -> 0 | J39: =SUM(+J43)+J44 -> 0 | K39: =SUM(+K43)+K44 -> 0 | L39: =SUM(+L43)+L44 -> 0
A40: Kilátó | B40: 0 | C40: 0 | D40: =E40-C40 -> 0 | E40: 0 | F40: =G40-E40 -> 0 | G40: 0 | H40: =I40-G40 -> 0 | I40: 0 | J40: =K40-I40 -> 0 | K40: 0 | L40: 0
A41: Közösségi ház + Kulipintyó: állami támogatás továbbadása (kulturális feladatok) | B41: 0 | C41: 0 | D41: =E41-C41 -> 0 | E41: 0 | F41: =G41-E41 -> 0 | G41: 0 | H41: =I41-G41 -> 0 | I41: 0 | J41: =K41-I41 -> 0 | K41: 0 | L41: 0
A42: Működési támogatás | D42: =E42-C42 -> 0 | F42: =G42-E42 -> 0 | H42: =I42-G42 -> 0 | J42: =K42-I42 -> 0
A43: Közterületek, utak, zöldfelület fenntartása (GAMESZ): állami támogatás továbbadása | B43: 17146 | C43: ='[3]2.működés'!D14+'[3]2.működés'!D17+'[3]2.működés'!D18 -> 17146 | D43: =E43-C43 -> 0 | E43: ='2.működés'!F14+'2.működés'!F17+'2.működés'!F18 -> 17146 | F43: =G43-E43 -> -17146 | G43: ='2.működés'!H14+'2.működés'!H17+'2.működés'!H18 -> 0 | H43: =I43-G43 -> 0 | I43: ='2.működés'!J14+'2.működés'!J17+'2.működés'!J18 -> 0 | J43: =K43-I43 -> 0 | K43: ='2.működés'!L14+'2.működés'!L17+'2.működés'!L18 -> 0 | L43: ='2.működés'!M14+'2.működés'!M17+'2.működés'!M18 -> 0
A44: Kulturális bérfejlesztés és illetményemelés támogatás továbbadása | B44: 0 | C44: 3491 | D44: =E44-C44 -> 0 | E44: 3491 | F44: =G44-E44 -> -3491 | H44: =I44-G44 -> 0 | J44: =K44-I44 -> 0
D45: =E45-C45 -> 0 | F45: =G45-E45 -> 0 | H45: =I45-G45 -> 0 | J45: =K45-I45 -> 0
A46: Pénzeszköz átadás útfelújításhoz (Kőröshegyi út részleges felújítása) | B46: 59789 | C46: 0 | D46: =E46-C46 -> 0 | E46: 0 | F46: =G46-E46 -> 0 | G46: 0 | H46: =I46-G46 -> 0 | I46: 0 | J46: =K46-I46 -> 0 | K46: 0 | L46: 0
A47: Pénzeszköz átadás útfelújításhoz (Kőröshegyi út részleges felújítása) II. ütem | B47: 0 | C47: 0 | D47: =E47-C47 -> 0 | E47: 0 | F47: =G47-E47 -> 0 | G47: 0 | H47: =I47-G47 -> 0 | I47: 0 | J47: =K47-I47 -> 0 | K47: 0 | L47: 0
B48: 0 | C48: 0 | D48: =E48-C48 -> 0 | E48: 0
B49: 0 | C49: 0 | D49: =E49-C49 -> 0 | E49: 0
A50: Kultkikötő Közhasznú Nonprofit Kft. működési támogatás | B50: 52187 | C50: 49000 | D50: =E50-C50 -> 0 | E50: 49000 | F50: =G50-E50 -> -49000 | G50: 0 | H50: =I50-G50 -> 0 | I50: 0 | J50: =K50-I50 -> 0 | K50: 0 | L50: 0
A51: Kultkikötő Közhasznú Nonprofit Kft. feladatellátás | B51: 0 | C51: 30000 | D51: =E51-C51 -> 0 | E51: 30000 | F51: =G51-E51 -> -30000 | G51: 0 | H51: =I51-G51 -> 0 | I51: 0 | J51: =K51-I51 -> 0 | K51: 0 | L51: 0
B52: 0 | C52: 0 | D52: =E52-C52 -> 0 | E52: 0 | F52: =G52-E52 -> 0 | H52: =I52-G52 -> 0 | J52: =K52-I52 -> 0
A53: Pénzeszköz átadás Kilátó épület burkolatának cseréjére (83/2024.(V.30.)) | B53: 0 | C53: 0 | D53: =E53-C53 -> 0 | E53: 0 | F53: =G53-E53 -> 0 | G53: 0 | H53: =I53-G53 -> 0 | I53: 0 | J53: =K53-I53 -> 0 | K53: 0 | L53: 0
A54: Pénzeszköz átadás Radnóti utcai temető kerítés építésére (52/2024.(III.26.)) | B54: 0 | C54: 0 | D54: =E54-C54 -> 0 | E54: 0 | F54: =G54-E54 -> 0 | G54: 0 | H54: =I54-G54 -> 0 | I54: 0 | J54: =K54-I54 -> 0 | K54: 0 | L54: 0
A55: 2. Háztartásoknak | B55: =B56 -> 0 | C55: =C56 -> 0 | D55: =E55-C55 -> 0 | E55: =E56 -> 0 | F55: =G55-E55 -> 0 | G55: =G56 -> 0 | H55: =I55-G55 -> 0 | I55: =I56 -> 0 | J55: =K55-I55 -> 0 | K55: =K56 -> 0 | L55: =L56 -> 0
A56: Partnervárosi találkozó költségeinek támogatása | B56: 0 | C56: 0 | D56: =E56-C56 -> 0 | E56: 0 | F56: =G56-E56 -> 0 | G56: 0 | H56: =I56-G56 -> 0 | I56: 0 | J56: =K56-I56 -> 0 | K56: 0 | L56: 0
A57: 3. Civil szervezeteknek | B57: =SUM(B58:B66) -> 46928 | C57: =SUM(C58:C66) -> 46013 | D57: =E57-C57 -> 901 | E57: =SUM(E58:E66) -> 46914 | F57: =G57-E57 -> -46914 | G57: =SUM(G58:G66) -> 0 | H57: =I57-G57 -> 0 | I57: =SUM(I58:I66) -> 0 | J57: =K57-I57 -> 0 | K57: =SUM(K58:K66) -> 0 | L57: =SUM(L58:L66) -> 0
A58: TDM Egyesület | B58: 13000 | C58: 10000 | D58: =E58-C58 -> 0 | E58: 10000 | F58: =G58-E58 -> -10000 | G58: 0 | H58: =I58-G58 -> 0 | I58: 0 | J58: =K58-I58 -> 0 | K58: 0 | L58: 0
B59: 0 | C59: 0 | D59: =E59-C59 -> 0 | E59: 0 | F59: =G59-E59 -> 0 | G59: 0 | H59: =I59-G59 -> 0 | I59: 0 | J59: =K59-I59 -> 0 | K59: 0 | L59: 0
A60: Összpróba Alapítvány | D60: =E60-C60 -> 0 | F60: =G60-E60 -> 0 | H60: =I60-G60 -> 0 | J60: =K60-I60 -> 0
A61: Előadó és Alkotóművészetért Alapítvány (állami támogatás továbbadása közszolg. szerz. szerint) | B61: 26763 | C61: 26763 | D61: =E61-C61 -> 0 | E61: 26763 | F61: =G61-E61 -> -26763 | G61: 0 | H61: =I61-G61 -> 0 | I61: 0 | J61: =K61-I61 -> 0 | K61: 0 | L61: 0
A62: Előirányzott támogatási keret | B62: 7000 | C62: =7000+2000 -> 9000 | D62: =E62-C62 -> 0 | E62: =7000+2000 -> 9000 | F62: =G62-E62 -> -9000 | G62: 0 | H62: =I62-G62 -> 0 | I62: 0 | J62: =K62-I62 -> 0 | K62: 0 | L62: 0
A63: Tagdíjak (Települési Önkormányzatok Országos Szövetsége, Balatoni Szövetség…..) | B63: 165 | C63: 250 | D63: =E63-C63 -> 0 | E63: 250 | F63: =G63-E63 -> -250 | G63: 0 | H63: =I63-G63 -> 0 | I63: 0 | J63: =K63-I63 -> 0 | K63: 0 | L63: 0
A64: Balatonföldvárért kitüntető díj (57/2026.(IV.24.)) | B64: 0 | C64: 0 | D64: =E64-C64 -> 901 | E64: 901 | F64: =G64-E64 -> -901 | G64: 0 | I64: 0 | K64: 0 | L64: 0
F65: =G65-E65 -> 0
F66: =G66-E66 -> 0
C67: 0 | E67: 0 | F67: =G67-E67 -> 0 | G67: 0 | I67: 0 | K67: 0 | L67: 0
A68: Egyéb működési célú kiadások mindösszesen (I+II+III) | B68: =SUM(B9+B35+B36) -> 689433 | C68: =SUM(C9+C35+C36) -> 734489 | D68: =E68-C68 -> 12730 | E68: =SUM(E9+E35+E36) -> 747219 | F68: =G68-E68 -> -747219 | G68: =SUM(G9+G35+G36) -> 0 | H68: =I68-G68 -> 0 | I68: =SUM(I9+I35+I36) -> 0 | J68: =K68-I68 -> 0 | K68: =SUM(K9+K35+K36) -> 0 | L68: =SUM(L9+L35+L36) -> 0
A70: Közvetett támogatások | B70: =B71+B72+B73+B79+B80 -> 1192 | C70: =C71+C72+C73+C79+C80 -> 0 | E70: =E71+E72+E73+E79+E80 -> 0 | F70: 0 | G70: 0 | H70: 0 | I70: 0 | J70: 0 | K70: 0 | L70: 0
A71: Ellátottak térítési díjának méltányossági alapon elengedett összege
A72: Lakosság részére lakásépítéshez, felújításhoz nyújtott kölcsön elengedése
A73: Helyi adóból, gépjárműadóból biztosított kedvezmény, mentesség összege | B73: =B74+B75+B76+B77+B78 -> 1192 | C73: =C74+C75+C76+C77+C78 -> 0 | E73: =E74+E75+E76+E77+E78 -> 0 | F73: 0 | G73: =G74+G75+G76+G77+G78 -> 129 | H73: 0 | I73: =I74+I75+I76+I77+I78 -> 129 | J73: 0 | K73: =K74+K75+K76+K77+K78 -> 129 | L73: =L74+L75+L76+L77+L78 -> 129
A74: -ből: építményadó mentesség helyi lakosok számára
A75: -ből: építményadó törlés méltányosságból | B75: 334 | C75: 0 | E75: 0 | F75: 0 | G75: 129 | H75: 0 | I75: 129 | J75: 0 | K75: 129 | L75: 129
A76: -ből: telekadó mentesség, kedvezmény m2 alapján | B76: 858
A77: -ből: idegenforgalmi adó kedvezmény elő- utószezonban
A78: -ből: gépjárműadóból biztosított kedvezmény
A79: Helyiségek, eszközök hasznosításából származó bevételből nyújtott kedvezmény, mentesség összege
A80: Egyéb nyújtott kedvezmény vagy kölcsön elengedésének összege

Sheet 5.Bev.össz
A1: 5. melléklet
M2: ='1.Bev-kiad.'!F2 -> a 12/2026.(X.2.) önkormányzati rendelethez
M3: 5. melléklet az 5/2026.(II.23.) önkormányzati rendelethez
A5: Balatonföldvár Város Önkormányzatának 2026. évi bevételei kiemelt előirányzatonként, feladatonként
M6: ezer Ft-ban
B7: Működési célú bevételek | E7: Felhalmozási célú bevételek | I7: Költségvetési kiadások összesen | J7: Finanszírozási bevételek | M7: Bevételek mindösszesen
B8: Működési célú bevételek/közhatalmi bevételek | C8: Működési célú átvett pénzeszközök | D8: Működési célú bevételek összesen | E8: Felh. célú támogatások áht-n belülről | F8: Felhalmozási bevételek, átvett pénzeszközök | G8: Felhalmozási célú hitel | H8: Felhalmozási célú bevételek összesen | J8: Előző év költségvetési maradványának igénybevétele | K8: Finanszíroási bevétel (hitelek) | L8: Finanszírozási bevétel (intézményi)
C9: Egyéb átvett pénzeszköz
A10: Önkormányzat: Teljesítés 2025.12.31. | B10: =B18+B27 -> 1507115 | C10: =C18+C27 -> 29805 | D10: =D18+D27 -> 1536920 | E10: =E18+E27 -> 394384 | F10: =F18+F27 -> 11501 | G10: =G18+G27 -> 0 | H10: =H18+H27 -> 405885 | I10: =D10+F10 -> 1548421 | J10: =319717+38889 -> 358606 | K10: =K18+K27 -> 0 | L10: =L18+L27 -> 27576 | M10: =I10+J10+K10+L10 -> 1934603
A11: Önkormányzat (eredeti előirányzat 2026. év) | B11: =B19+B28 -> 1927458 | C11: =C19+C28 -> 30000 | D11: =D19+D28 -> 1957458 | E11: =E19+E28 -> 526642 | F11: =F19+F28 -> 40295 | G11: =G19+G28 -> 0 | H11: =H19+H28 -> 566937 | I11: =D11+H11 -> 2524395 | J11: =J19+J28 -> 487513 | K11: 0 | L11: =L19+L28 -> 0 | M11: =D11+H11+J11+K11+L11 -> 3011908
A12: Önkormányzat (módosított előirányzat 2026.10.havi) | B12: =B20+B29 -> 1796705 | C12: =C20+C29 -> 30000 | D12: =D20+D29 -> 1826705 | E12: =E20+E29 -> 548867 | F12: =F20+F29 -> 69776 | G12: =G20+G29 -> 0 | H12: =H20+H29 -> 618643 | I12: =D12+H12 -> 2445348 | J12: =J20+J29 -> 487513 | K12: =K20+K29 -> 7455 | L12: =L20+L29 -> 0 | M12: =D12+H12+J12+K12+L12 -> 2940316
A13: Önkormányzat (módosított előirányzat 2025.09.havi) | B13: =B21+B30 -> #REF! | C13: =C21+C30 -> 0 | D13: =D21+D30 -> #REF! | E13: =E21+E30 -> 0 | F13: =F21+F30 -> 0 | G13: =G21+G30 -> 0 | H13: =H21+H30 -> 0 | L13: =L21+L30 -> 0 | M13: =SUM(H13,D13) -> #REF!
A14: Önkormányzat (módosított előirányzat 2025.12.havi) | B14: =B22+B31 -> -3550 | C14: =C22+C31 -> 0 | D14: =D22+D31 -> -3550 | E14: =E22+E31 -> 0 | F14: =F22+F31 -> 0 | G14: =G22+G31 -> 0 | H14: =H22+H31 -> 0 | L14: =L22+L31 -> 0 | M14: =SUM(H14,D14) -> -3550
A15: Önkormányzat (módosított előirányzat 2025.12.31) | B15: =B23+B32 -> -3550 | C15: =C23+C32 -> 0 | D15: =D23+D32 -> -3550 | E15: =E23+E32 -> 0 | F15: =F23+F32 -> 0 | G15: =G23+G32 -> 0 | H15: =H23+H32 -> 0 | L15: =L23+L32 -> 0 | M15: =SUM(H15,D15) -> -3550
B16: =B24+B33 -> 0 | C16: =C24+C33 -> 0 | D16: =D24+D33 -> 0 | E16: =E24+E33 -> 0 | F16: =F24+F33 -> 10295 | G16: =G24+G33 -> 0 | H16: =H24+H33 -> 10295 | L16: =L24+L33 -> 0 | M16: =SUM(H16,D16) -> 10295
A17: Önkormányzat: Teljesítés 2025.12.31. | B17: =B25+B34 -> -52814 | C17: =C25+C34 -> 0 | D17: =D25+D34 -> -52814 | E17: =E25+E34 -> 0 | F17: =F25+F34 -> 0 | G17: =G25+G34 -> 0 | H17: =H25+H34 -> 0 | L17: =L25+L34 -> 0 | M17: =SUM(H17,D17) -> -52814
A18: Kötelező teljesítés 2025.12.31. | B18: 1507115 | C18: 29805 | D18: =SUM(B18:C18) -> 1536920 | E18: 394384 | F18: 11101 | G18: 0 | H18: =SUM(E18:G18) -> 405485 | I18: =D18+H18 -> 1942405 | J18: =319717+38889 -> 358606 | K18: 0 | L18: 27576 | M18: =D18+H18+J18+K18+L18 -> 2328587
A19: Kötelező (eredeti előirányzat 2026. év) | B19: =SUM('7.finanszírozás.'!C10)-'2.működés'!D105 -> 1927458 | C19: ='2.működés'!D105 -> 30000 | D19: =SUM(B19:C19) -> 1957458 | E19: ='3.felh'!D13 -> 526642 | F19: ='3.felh'!D34+'3.felh'!D28 -> 40295 | G19: 0 | H19: =SUM(E19:G19) -> 566937 | I19: =D19+H19 -> 2524395 | J19: ='7.finanszírozás.'!C37 -> 487513 | K19: 0 | M19: =D19+H19+J19+K19+L19 -> 3011908
A20: Kötelező (módosított előirányzat 2026.10. havi) | B20: =SUM('7.finanszírozás.'!C11-'2.működés'!F105) -> 1796705 | C20: =SUM('2.működés'!F105) -> 30000 | D20: =SUM(B20:C20) -> 1826705 | E20: ='3.felh'!F13 -> 548867 | F20: ='3.felh'!F34+'3.felh'!F28 -> 69776 | G20: 0 | H20: =SUM(E20:G20) -> 618643 | I20: =D20+H20 -> 2445348 | J20: ='7.finanszírozás.'!C38 -> 487513 | K20: ='1.Bev-kiad.'!F61 -> 7455 | M20: =D20+H20+J20+K20+L20 -> 2940316
A21: Kötelező (módosított előirányzat 2025.09.havi) | B21: =SUM('7.finanszírozás.'!C12-'2.működés'!H105) -> #REF! | C21: =SUM('2.működés'!H105) -> 0 | D21: =SUM(B21:C21) -> #REF! | E21: ='3.felh'!H13 -> 0 | F21: ='3.felh'!H34 -> 0 | H21: =SUM(E21:G21) -> 0 | M21: =SUM(H21,D21) -> #REF!
A22: Kötelező (módosított előirányzat 2025.12.havi) | B22: =SUM('7.finanszírozás.'!C13-'2.működés'!J105) -> -3550 | C22: =SUM('2.működés'!J105) -> 0 | D22: =SUM(B22:C22) -> -3550 | E22: ='3.felh'!J13 -> 0 | F22: ='3.felh'!J34 -> 0 | H22: =SUM(E22:G22) -> 0 | L22: ='2.működés'!T119 -> 0 | M22: =SUM(H22,D22) -> -3550
A23: Kötelező (módosított előirányzat 2025.12.31) | B23: =SUM('7.finanszírozás.'!C14-'2.működés'!L105) -> -3550 | C23: =SUM('2.működés'!L105) -> 0 | D23: =SUM(B23:C23) -> -3550 | E23: ='3.felh'!L13 -> 0 | F23: ='3.felh'!L34 -> 0 | H23: =SUM(E23:G23) -> 0 | L23: ='2.működés'!V119 -> 0 | M23: =SUM(H23,D23) -> -3550
D24: =SUM(B24:C24) -> 0 | H24: =SUM(E24:G24) -> 0 | M24: =SUM(H24,D24) -> 0
A25: Teljesítés 2025.12.31. | B25: =SUM('7.finanszírozás.'!C16-'2.működés'!M109) -> -52814 | C25: =SUM('2.működés'!M109) -> 0 | D25: =SUM(B25:C25) -> -52814 | H25: =SUM(E25:G25) -> 0 | L25: ='2.működés'!W119 -> 0 | M25: =SUM(H25,D25) -> -52814
D26: =SUM(B26:C26) -> 0 | H26: =SUM(E26:G26) -> 0 | M26: =SUM(H26,D26) -> 0
A27: Önként vállalt teljesítés 2025.12.31. | D27: 0 | F27: 400 | H27: =SUM(E27:G27) -> 400 | I27: =D27+H27 -> 400 | M27: =D27+H27 -> 400
A28: Önként vállalt (eredeti előirányzat 2026. év) | D28: =SUM(B28:C28) -> 0 | F28: ='3.felh'!D31 -> 0 | H28: =SUM(E28:G28) -> 0 | I28: 0 | M28: =SUM(H28,D28) -> 0
A29: Önként vállalt (módosított előirányzat 2026.10. havi) | D29: =SUM(B29:C29) -> 0 | F29: ='3.felh'!F31 -> 0 | H29: =SUM(E29:G29) -> 0 | I29: 0 | M29: =SUM(H29,D29) -> 0
A30: Önként vállalt (módosított előirányzat 2025.09.havi) | D30: =SUM(B30:C30) -> 0 | F30: ='3.felh'!H31 -> 0 | H30: =SUM(E30:G30) -> 0 | M30: =SUM(H30,D30) -> 0
A31: Önként vállalt (módosított előirányzat 2025.12.havi) | D31: =SUM(B31:C31) -> 0 | F31: ='3.felh'!J31 -> 0 | H31: =SUM(E31:G31) -> 0 | M31: =SUM(H31,D31) -> 0
A32: Önként vállalt (módosított előirányzat 2025.12.31) | D32: =SUM(B32:C32) -> 0 | F32: ='3.felh'!L31 -> 0 | H32: =SUM(E32:G32) -> 0 | M32: =SUM(H32,D32) -> 0
D33: =SUM(B33:C33) -> 0 | F33: ='3.felh'!F34 -> 10295 | H33: =SUM(E33:G33) -> 10295 | M33: =SUM(H33,D33) -> 10295
A34: =A25 -> Teljesítés 2025.12.31. | D34: =SUM(B34:C34) -> 0 | E34: ='3.felh'!M13 -> 0 | F34: ='3.felh'!F35 -> 0 | G34: =SUM('3.felh'!M43) -> 0 | H34: =SUM(E34:G34) -> 0 | M34: =SUM(H34,D33) -> 0
A35: =A53 -> Államigazgatási feladatok (eredeti előirányzat 2026. év) | D35: =SUM(B35:C35) -> 0 | F35: 0 | H35: =SUM(E35:G35) -> 0 | I35: 0 | M35: =SUM(H35,D35) -> 0
A36: KÖH: Teljesítés 2025.12.31. | B36: =B44 -> 52814 | C36: =C44 -> 0 | D36: =D44 -> 52814 | E36: =E44 -> 0 | F36: =F44 -> 0 | G36: =G44 -> 0 | H36: =H44 -> 0 | I36: =D36+H36 -> 52814 | J36: =J44 -> 2047 | K36: =K44 -> 0 | L36: =L44 -> 240067 | M36: =I36+L36+J36+K36 -> 294928
A37: KÖH (eredeti előirányzat 2026. év) | B37: =SUM(B45) -> 59810 | C37: =SUM(C47) -> 0 | D37: =SUM(D45) -> 59810 | H37: 0 | I37: =D37+H37 -> 59810 | J37: =SUM(J45) -> 8100 | K37: =SUM(K45) -> 0 | L37: =SUM(L45) -> 303813 | M37: =D37+H37+J37+K37+L37 -> 371723
A38: KÖH (módosított előirányzat 2026.10. havi) | B38: =SUM(B46) -> 58263 | C38: =SUM(C48) -> 0 | D38: =SUM(D46) -> 58263 | H38: 0 | I38: =D38+H38 -> 58263 | J38: =SUM(J46) -> 8100 | K38: =SUM(K46) -> 0 | L38: =SUM(L46) -> 303813 | M38: =D38+H38+J38+K38+L38 -> 370176
A39: KÖH (módosított előirányzat 2025.09. havi) | B39: =SUM(B47) -> #REF! | C39: =SUM(C50) -> 0 | D39: =SUM(D47) -> #REF! | J39: =SUM(J47) -> 0 | K39: =SUM(K47) -> 0 | L39: =SUM(L47) -> 0 | M39: =SUM(D39) -> #REF!
A40: KÖH (módosított előirányzat 2025.12. havi) | B40: =SUM(B48) -> 3550 | C40: =SUM(C51) -> 0 | D40: =SUM(D48) -> 3550 | J40: =SUM(J48) -> 0 | K40: =SUM(K48) -> 0 | L40: =SUM(L48) -> 0 | M40: =SUM(D40) -> 3550
A41: KÖH (módosított előirányzat 2025.12.31) | B41: =SUM(B49) -> 3550 | C41: =SUM(C52) -> 0 | D41: =SUM(D49) -> 3550 | J41: =SUM(J49) -> 0 | K41: =SUM(K49) -> 0 | L41: =SUM(L49) -> 0 | M41: =SUM(D41) -> 3550
B42: =SUM(B50) -> #REF! | C42: =SUM(C52) -> 0 | D42: =SUM(D50) -> #REF! | J42: =SUM(J50) -> 0 | K42: =SUM(K50) -> 0 | L42: =SUM(L50) -> 0 | M42: =SUM(D42) -> #REF!
A43: KÖH: Teljesítés 2025.12.31. | B43: =SUM(B51) -> 52814 | C43: =SUM(C53) -> 0 | D43: =SUM(D51) -> 52814 | J43: =SUM(J51) -> 0 | K43: =SUM(K51) -> 0 | L43: =SUM(L51) -> 0 | M43: =SUM(D43) -> 52814
A44: =A18 -> Kötelező teljesítés 2025.12.31. | B44: 52814 | D44: =SUM(B44:C44) -> 52814 | H44: 0 | I44: =D44+H44 -> 52814 | J44: 2047 | K44: 0 | L44: =166555+73512 -> 240067 | M44: =D44+H44+J44+K44+L44 -> 294928
A45: =A19 -> Kötelező (eredeti előirányzat 2026. év) | B45: =SUM('7.finanszírozás.'!D10) -> 59810 | D45: =SUM(B45:C45) -> 59810 | H45: 0 | I45: =D45+H45 -> 59810 | J45: =SUM('7.finanszírozás.'!D37) -> 8100 | K45: 0 | L45: =SUM('7.finanszírozás.'!D60)+'7.finanszírozás.'!D51 -> 303813 | M45: =SUM(D45)+J45+K45+L45+H45 -> 371723
A46: =A20 -> Kötelező (módosított előirányzat 2026.10. havi) | B46: =SUM('7.finanszírozás.'!D11) -> 58263 | D46: =SUM(B46:C46) -> 58263 | H46: 0 | I46: =D46+H46 -> 58263 | J46: =SUM('7.finanszírozás.'!D38) -> 8100 | K46: 0 | L46: =SUM('7.finanszírozás.'!D61)+'7.finanszírozás.'!D52 -> 303813 | M46: =SUM(D46) -> 58263
A47: =A21 -> Kötelező (módosított előirányzat 2025.09.havi) | B47: =SUM('7.finanszírozás.'!D12) -> #REF! | D47: =SUM(B47:C47) -> #REF! | H47: 0 | I47: =D47+H47 -> #REF! | M47: =SUM(D47) -> #REF!
A48: =A22 -> Kötelező (módosított előirányzat 2025.12.havi) | B48: =SUM('7.finanszírozás.'!D13) -> 3550 | D48: =SUM(B48:C48) -> 3550 | H48: 0 | I48: =D48+H48 -> 3550 | M48: =SUM(D48) -> 3550
A49: =A23 -> Kötelező (módosított előirányzat 2025.12.31) | B49: =SUM('7.finanszírozás.'!D14) -> 3550 | D49: =SUM(B49:C49) -> 3550 | H49: 0 | I49: =D49+H49 -> 3550 | M49: =SUM(D49) -> 3550
B50: =SUM('7.finanszírozás.'!D15) -> #REF! | D50: =SUM(B50:C50) -> #REF! | I50: =D50+H50 -> #REF! | M50: =SUM(D50) -> #REF!
A51: =A25 -> Teljesítés 2025.12.31. | B51: =SUM('7.finanszírozás.'!D16) -> 52814 | D51: =SUM(B51:C51) -> 52814 | I51: =D51+H51 -> 52814 | M51: =SUM(D51) -> 52814
A52: =A28 -> Önként vállalt (eredeti előirányzat 2026. év) | D52: =SUM(B52:C52) -> 0 | H52: 0 | I52: =D52+H52 -> 0 | M52: =SUM(D52) -> 0
A53: Államigazgatási feladatok (eredeti előirányzat 2026. év) | D53: =SUM(B53:C53) -> 0 | H53: 0 | I53: 0 | M53: =SUM(D53) -> 0
A54: Önk.mindösszesen (Teljesítés 2025.12.31.) | B54: =B10+B36 -> 1559929 | C54: =C10+C36 -> 29805 | D54: =D10+D36 -> 1589734 | E54: =E10+E36 -> 394384 | F54: =F10+F36 -> 11501 | G54: =G10+G36 -> 0 | H54: =H10+H36 -> 405885 | I54: =D54+H54 -> 1995619 | J54: =J10+J36 -> 360653 | K54: =K10+K36 -> 0 | L54: =L10+L36 -> 267643 | M54: =M10+M36 -> 2229531
A55: Önk.mindösszesen (eredeti előirányzat 2026. év) | B55: =SUM(B11+B37) -> 1987268 | C55: =SUM(C11+C37) -> 30000 | D55: =SUM(D11+D37) -> 2017268 | E55: =SUM(E11+E37) -> 526642 | F55: =SUM(F11+F37) -> 40295 | G55: =SUM(G11+G37) -> 0 | H55: =SUM(H11+H37) -> 566937 | I55: =D55+H55 -> 2584205 | J55: =SUM(J11+J37) -> 495613 | K55: =SUM(K11+K37) -> 0 | L55: =SUM(L11+L37) -> 303813 | M55: =D55+H55+J55+K55+L55 -> 3383631
A56: Önk.mindösszesen (módosított ei. 2026.10. havi) | B56: =SUM(B12+B38) -> 1854968 | C56: =SUM(C12+C38) -> 30000 | D56: =SUM(D12+D38) -> 1884968 | E56: =SUM(E12+E38) -> 548867 | F56: =SUM(F12+F38) -> 69776 | G56: =SUM(G12+G38) -> 0 | H56: =SUM(H12+H38) -> 618643 | I56: =D56+H56 -> 2503611 | J56: =SUM(J12+J38) -> 495613 | K56: =SUM(K12+K38) -> 7455 | L56: =SUM(L12+L38) -> 303813 | M56: =D56+H56+J56+K56+L56 -> 3310492
A57: Önk.mindösszesen (módosított ei. 2025.09. havi) | B57: =SUM(B13+B39) -> #REF! | C57: =SUM(C13+C39) -> 0 | D57: =SUM(D13+D39) -> #REF! | E57: =SUM(E13+E39) -> 0 | F57: =SUM(F13+F39) -> 0 | G57: =SUM(G13+G39) -> 0 | H57: =SUM(H13+H39) -> 0 | M57: =SUM(H57,D57) -> #REF!
A58: Önk.mindösszesen (módosított ei. 2025.12. havi) | B58: =SUM(B14+B40) -> 0 | C58: =SUM(C14+C40) -> 0 | D58: =SUM(D14+D40) -> 0 | E58: =SUM(E14+E40) -> 0 | F58: =SUM(F14+F40) -> 0 | G58: =SUM(G14+G40) -> 0 | H58: =SUM(H14+H40) -> 0 | M58: =SUM(H58,D58) -> 0
A59: Önk.mindösszesen (módosított ei. 2025.12.31) | B59: =SUM(B15+B41) -> 0 | C59: =SUM(C15+C41) -> 0 | D59: =SUM(D15+D41) -> 0 | E59: =SUM(E15+E41) -> 0 | F59: =SUM(F15+F41) -> 0 | G59: =SUM(G15+G41) -> 0 | H59: =SUM(H15+H41) -> 0 | M59: =SUM(H59,D59) -> 0
B60: =SUM(B16+B42) -> #REF! | C60: =SUM(C16+C42) -> 0 | D60: =SUM(D16+D42) -> #REF! | E60: =SUM(E16+E42) -> 0 | F60: =SUM(F16+F42) -> 10295 | G60: =SUM(G16+G42) -> 0 | H60: =SUM(H16+H42) -> 10295 | M60: =SUM(H60,D60) -> #REF!
A61: Önk.mindösszesen (Teljesítés 2025.12.31.) | B61: =SUM(B17+B43) -> 0 | C61: =SUM(C17+C43) -> 0 | D61: =SUM(D17+D43) -> 0 | E61: =SUM(E17+E43) -> 0 | F61: =SUM(F17+F43) -> 0 | G61: =SUM(G17+G43) -> 0 | H61: =SUM(H17+H43) -> 0 | M61: =SUM(H61,D61) -> 0
A62: intézményfinanszírozás | M62: =SUM('7.finanszírozás.'!F86) -> -303813
A63: önkormányzati bevételek nettósítva | M63: =SUM(M56+M62) -> 3006679

Sheet 5.Bev.össz_
A1: 5. melléklet
M2: ='1.Bev-kiad.'!F2 -> a 12/2026.(X.2.) önkormányzati rendelethez
M3: 5. melléklet az 5/2026.(II.23.) önkormányzati rendelethez
A5: Balatonföldvár Város Önkormányzatának 2026. évi bevételei kiemelt előirányzatonként, feladatonként
M6: ezer Ft-ban
B7: Működési célú bevételek | H7: Felhalmozási célú bevételek | M7: Bevételek mindösszesen
B8: Működési célú bevételek/közhatalmi bevételek | C8: Működési célú átvett pénzeszközök | E8: Finanszírozási bevétel (intézményi) | F8: Működési célú maradvány | G8: Működési célú bevételek összesen | H8: Felh. célú támogatások áht-n belülről | I8: Felhalmozási bevételek, átvett pénzeszközök | J8: Felhalmozási célú maradvány | K8: Felhalmozási célú hitel | L8: Felhalmozási célú bevételek összesen
C9: Feladat finanszírozás (intézményi) | D9: Egyéb átvett pénzeszköz
A10: Önkormányzat: Teljesítés 2025.12.31. | B10: =B18+B27 -> 1507115 | C10: =C18+C27 -> 0 | D10: =D18+D27 -> 29805 | E10: =E18+E27 -> 27576 | F10: =F18+F27 -> 319717 | G10: =G18+G27 -> 1884213 | H10: =H18+H27 -> 394384 | I10: =I18+I27 -> 11501 | ... M10: =M18+M27 -> 2328987
A11: Önkormányzat (eredeti előirányzat 2026. év) | B11: =B19+B28 -> 1927458 | C11: =C19+C28 -> 0 | D11: =D19+D28 -> 30000 | E11: =E19+E28 -> 0 | F11: =F19+F28 -> 189090 | G11: =G19+G28 -> 2146548 | H11: =H19+H28 -> 526642 | I11: =I19+I28 -> 40295 | ... L11: =L19+L28 -> 865360 | M11: =SUM(L11,G11) -> 3011908
A12: Önkormányzat (módosított előirányzat 2025.06.havi) | B12: =B20+B29 -> 1796705 | C12: =C20+C29 -> 0 | D12: =D20+D29 -> 30000 | E12: =E20+E29 -> 0 | F12: =F20+F29 -> 189090 | G12: =G20+G29 -> 2015795 | H12: =H20+H29 -> 548867 | I12: =I20+I29 -> 10295 | ... L12: =L20+L29 -> 857585 | M12: =SUM(L12,G12) -> 2873380
A13: Önkormányzat (módosított előirányzat 2025.09.havi) | B13: =B21+B30 -> #REF! | C13: =C21+C30 -> 0 | D13: =D21+D30 -> 0 | E13: =E21+E30 -> 0 | F13: =F21+F30 -> -2047 | G13: =G21+G30 -> #REF! | H13: =H21+H30 -> 0 | I13: =I21+I30 -> 0 | ... L13: =L21+L30 -> 0 | M13: =SUM(L13,G13) -> #REF!
A14: Önkormányzat (módosított előirányzat 2025.12.havi) | B14: =B22+B31 -> -3550 | C14: =C22+C31 -> 0 | D14: =D22+D31 -> 0 | E14: =E22+E31 -> 0 | F14: =F22+F31 -> -2047 | G14: =G22+G31 -> -5597 | H14: =H22+H31 -> 0 | I14: =I22+I31 -> 0 | ... L14: =L22+L31 -> 0 | M14: =SUM(L14,G14) -> -5597
A15: Önkormányzat (módosított előirányzat 2025.12.31) | B15: =B23+B32 -> -3550 | C15: =C23+C32 -> 0 | D15: =D23+D32 -> 0 | E15: =E23+E32 -> 0 | F15: =F23+F32 -> -2047 | G15: =G23+G32 -> -5597 | H15: =H23+H32 -> 0 | I15: =I23+I32 -> 0 | ... L15: =L23+L32 -> 0 | M15: =SUM(L15,G15) -> -5597
B16: =B24+B33 -> 0 | C16: =C24+C33 -> 0 | D16: =D24+D33 -> 0 | E16: =E24+E33 -> 0 | F16: =F24+F33 -> 0 | G16: =G24+G33 -> 0 | H16: =H24+H33 -> 0 | I16: =I24+I33 -> 10295 | ... L16: =L24+L33 -> 10295 | M16: =SUM(L16,G16) -> 10295
A17: Önkormányzat: Teljesítés 2025.12.31. | B17: =B25+B34 -> -52814 | C17: =C25+C34 -> 0 | D17: =D25+D34 -> 0 | E17: =E25+E34 -> 0 | F17: =F25+F34 -> -2047 | G17: =G25+G34 -> -54861 | H17: =H25+H34 -> 0 | I17: =I25+I34 -> 0 | ... L17: =L25+L34 -> 0 | M17: =SUM(L17,G17) -> -54861
A18: Kötelező teljesítés 2025.12.31. | B18: 1507115 | D18: 29805 | E18: 27576 | F18: 319717 | G18: =SUM(B18:F18) -> 1884213 | H18: 394384 | I18: 11101 | J18: 38889 | K18: 0 | L18: =SUM(H18:K18) -> 444374 | M18: =G18+L18 -> 2328587
A19: Kötelező (eredeti előirányzat 2026. év) | B19: =SUM('7.finanszírozás.'!C10)-'2.működés'!D105 -> 1927458 | D19: ='2.működés'!D105 -> 30000 | F19: =SUM('2.működés'!D114)-F45 -> 189090 | G19: =SUM(B19:F19) -> 2146548 | H19: ='3.felh'!D13 -> 526642 | I19: ='3.felh'!D34+'3.felh'!D28 -> 40295 | J19: =SUM('3.felh'!D40) -> 298423 | L19: =SUM(H19:K19) -> 865360 | M19: =SUM(L19,G19) -> 3011908
A20: Kötelező (módosított előirányzat 2025.06. havi) | B20: =SUM('7.finanszírozás.'!C11-'2.működés'!F105) -> 1796705 | D20: =SUM('2.működés'!F105) -> 30000 | F20: =SUM('2.működés'!F114-'7.finanszírozás.'!D38) -> 189090 | G20: =SUM(B20:F20) -> 2015795 | H20: ='3.felh'!F13 -> 548867 | I20: ='3.felh'!F34 -> 10295 | J20: ='1.Bev-kiad.'!F59 -> 298423 | L20: =SUM(H20:K20) -> 857585 | M20: =SUM(L20,G20) -> 2873380
A21: Kötelező (módosított előirányzat 2025.09.havi) | B21: =SUM('7.finanszírozás.'!C12-'2.működés'!H105) -> #REF! | D21: =SUM('2.működés'!H105) -> 0 | F21: =SUM('2.működés'!H114-'7.finanszírozás.'!D39) -> -2047 | G21: =SUM(B21:F21) -> #REF! | H21: ='3.felh'!H13 -> 0 | I21: ='3.felh'!H34 -> 0 | J21: ='1.Bev-kiad.'!H59 -> 0 | L21: =SUM(H21:K21) -> 0 | M21: =SUM(L21,G21) -> #REF!
A22: Kötelező (módosított előirányzat 2025.12.havi) | B22: =SUM('7.finanszírozás.'!C13-'2.működés'!J105) -> -3550 | D22: =SUM('2.működés'!J105) -> 0 | E22: ='2.működés'!J119 -> 0 | F22: =SUM('2.működés'!J114-'7.finanszírozás.'!D40) -> -2047 | G22: =SUM(B22:F22) -> -5597 | H22: ='3.felh'!J13 -> 0 | I22: ='3.felh'!J34 -> 0 | J22: ='1.Bev-kiad.'!J59 -> 0 | L22: =SUM(H22:K22) -> 0 | M22: =SUM(L22,G22) -> -5597
A23: Kötelező (módosított előirányzat 2025.12.31) | B23: =SUM('7.finanszírozás.'!C14-'2.működés'!L105) -> -3550 | D23: =SUM('2.működés'!L105) -> 0 | E23: ='2.működés'!L119 -> 0 | F23: =SUM('2.működés'!L114-'7.finanszírozás.'!D41) -> -2047 | G23: =SUM(B23:F23) -> -5597 | H23: ='3.felh'!L13 -> 0 | I23: ='3.felh'!L34 -> 0 | J23: ='1.Bev-kiad.'!L59 -> 0 | L23: =SUM(H23:K23) -> 0 | M23: =SUM(L23,G23) -> -5597
G24: =SUM(B24:F24) -> 0 | L24: =SUM(H24:K24) -> 0 | M24: =SUM(L24,G24) -> 0
A25: Teljesítés 2025.12.31. | B25: =SUM('7.finanszírozás.'!C16-'2.működés'!M109) -> -52814 | D25: =SUM('2.működés'!M109) -> 0 | E25: ='2.működés'!M119 -> 0 | F25: =SUM('2.működés'!M114-'7.finanszírozás.'!D43) -> -2047 | G25: =SUM(B25:F25) -> -54861 | J25: ='1.Bev-kiad.'!M59 -> 0 | L25: =SUM(H25:K25) -> 0 | M25: =SUM(L25,G25) -> -54861
G26: =SUM(B26:F26) -> 0 | L26: =SUM(H26:K26) -> 0 | M26: =SUM(L26,G26) -> 0
A27: Önként vállalt teljesítés 2025.12.31. | G27: 0 | I27: 400 | L27: =SUM(H27:K27) -> 400 | M27: =G27+L27 -> 400
A28: Önként vállalt (eredeti előirányzat 2026. év) | G28: =SUM(B28:F28) -> 0 | L28: =SUM(H28:K28) -> 0 | M28: =SUM(L28,G28) -> 0
A29: Önként vállalt (módosított előirányzat 2025.06. havi) | G29: =SUM(B29:F29) -> 0 | I29: ='3.felh'!F31 -> 0 | L29: =SUM(H29:K29) -> 0 | M29: =SUM(L29,G29) -> 0
A30: Önként vállalt (módosított előirányzat 2025.09.havi) | G30: =SUM(B30:F30) -> 0 | I30: ='3.felh'!H31 -> 0 | L30: =SUM(H30:K30) -> 0 | M30: =SUM(L30,G30) -> 0
A31: Önként vállalt (módosított előirányzat 2025.12.havi) | G31: =SUM(B31:F31) -> 0 | I31: ='3.felh'!J31 -> 0 | L31: =SUM(H31:K31) -> 0 | M31: =SUM(L31,G31) -> 0
A32: Önként vállalt (módosított előirányzat 2025.12.31) | G32: =SUM(B32:F32) -> 0 | I32: ='3.felh'!L31 -> 0 | L32: =SUM(H32:K32) -> 0 | M32: =SUM(L32,G32) -> 0
G33: =SUM(B33:F33) -> 0 | I33: ='3.felh'!F34 -> 10295 | L33: =SUM(H33:K33) -> 10295 | M33: =SUM(L33,G33) -> 10295
A34: =A25 -> Teljesítés 2025.12.31. | G34: =SUM(B34:F34) -> 0 | H34: ='3.felh'!M13 -> 0 | I34: ='3.felh'!F35 -> 0 | K34: =SUM('3.felh'!M43) -> 0 | L34: =SUM(H34:K34) -> 0 | M34: =SUM(L34,G33) -> 0
A35: =A53 -> Államigazgatási feladatok (eredeti előirányzat 2026. év) | G35: =SUM(B35:F35) -> 0 | L35: =SUM(H35:K35) -> 0 | M35: =SUM(L35,G35) -> 0
A36: KÖH: Teljesítés 2025.12.31. | B36: =B44 -> 52814 | C36: =C44 -> 166555 | D36: =D44 -> 0 | E36: =E44 -> 73512 | F36: =F44 -> 2047 | G36: =G44 -> 294928 | H36: =H44 -> 0 | I36: =I44 -> 0 | ... M36: =M44 -> 294928
A37: KÖH (eredeti előirányzat 2026. év) | B37: =SUM(B45) -> 59810 | C37: =SUM(C45) -> 223855 | D37: =SUM(D47) -> 0 | E37: =SUM(E45) -> 79958 | F37: =SUM(F45) -> 8100 | G37: =SUM(G45) -> 371723 | L37: 0 | M37: =SUM(G37) -> 371723
A38: KÖH (módosított előirányzat 2025.06. havi) | B38: =SUM(B46) -> 58263 | C38: =SUM(C46) -> 223855 | D38: =SUM(D48) -> 0 | E38: =SUM(E46) -> 79958 | F38: =SUM(F46) -> 8100 | G38: =SUM(G46) -> 370176 | L38: 0 | M38: =SUM(G38) -> 370176
A39: KÖH (módosított előirányzat 2025.09. havi) | B39: =SUM(B47) -> #REF! | C39: =SUM(C47) -> 166555 | D39: =SUM(D50) -> 0 | E39: =SUM(E47) -> 79958 | F39: =SUM(F47) -> 2047 | G39: =SUM(G47) -> #REF! | M39: =SUM(G39) -> #REF!
A40: KÖH (módosított előirányzat 2025.12. havi) | B40: =SUM(B48) -> 3550 | C40: =SUM(C48) -> 166555 | D40: =SUM(D51) -> 0 | E40: =SUM(E48) -> -172152 | F40: =SUM(F48) -> 2047 | G40: =SUM(G48) -> 0 | M40: =SUM(G40) -> 0
A41: KÖH (módosított előirányzat 2025.12.31) | B41: =SUM(B49) -> 3550 | C41: =SUM(C49) -> 166555 | D41: =SUM(D52) -> 0 | E41: =SUM(E49) -> -172152 | F41: =SUM(F49) -> 2047 | G41: =SUM(G49) -> 0 | M41: =SUM(G41) -> 0
B42: =SUM(B50) -> #REF! | C42: =SUM(C50) -> 0 | D42: =SUM(D52) -> 0 | E42: =SUM(E50) -> 0 | F42: =SUM(F50) -> 0 | G42: =SUM(G50) -> #REF! | M42: =SUM(G42) -> #REF!
A43: KÖH: Teljesítés 2025.12.31. | B43: =SUM(B51) -> 52814 | C43: =SUM(C51) -> 173276 | D43: =SUM(D53) -> 0 | E43: =SUM(E51) -> 73512 | F43: =SUM(F51) -> 2047 | G43: =SUM(G51) -> 301649 | M43: =SUM(G43) -> 301649
A44: =A18 -> Kötelező teljesítés 2025.12.31. | B44: 52814 | C44: 166555 | E44: 73512 | F44: 2047 | G44: =SUM(B44:F44) -> 294928 | L44: 0 | M44: =G44+L44 -> 294928
A45: =A19 -> Kötelező (eredeti előirányzat 2026. év) | B45: =SUM('7.finanszírozás.'!D10) -> 59810 | C45: =SUM('7.finanszírozás.'!D51) -> 223855 | E45: =SUM('7.finanszírozás.'!D60) -> 79958 | F45: =SUM('7.finanszírozás.'!D37) -> 8100 | G45: =SUM(B45:F45) -> 371723 | L45: 0 | M45: =SUM(G45) -> 371723
A46: =A20 -> Kötelező (módosított előirányzat 2025.06. havi) | B46: =SUM('7.finanszírozás.'!D11) -> 58263 | C46: =SUM('7.finanszírozás.'!D52) -> 223855 | E46: =SUM('7.finanszírozás.'!D61) -> 79958 | F46: =SUM('7.finanszírozás.'!D38) -> 8100 | G46: =SUM(B46:F46) -> 370176 | L46: 0 | M46: =SUM(G46) -> 370176
A47: =A21 -> Kötelező (módosított előirányzat 2025.09.havi) | B47: =SUM('7.finanszírozás.'!D12) -> #REF! | C47: =SUM('7.finanszírozás.'!D53) -> 166555 | E47: =SUM('7.finanszírozás.'!E61) -> 79958 | F47: =SUM('7.finanszírozás.'!D39) -> 2047 | G47: =SUM(B47:F47) -> #REF! | L47: 0 | M47: =SUM(G47) -> #REF!
A48: =A22 -> Kötelező (módosított előirányzat 2025.12.havi) | B48: =SUM('7.finanszírozás.'!D13) -> 3550 | C48: =SUM('7.finanszírozás.'!D54) -> 166555 | E48: =SUM('7.finanszírozás.'!D63) -> -172152 | F48: =SUM('7.finanszírozás.'!D40) -> 2047 | G48: =SUM(B48:F48) -> 0 | L48: 0 | M48: =SUM(G48) -> 0
A49: =A23 -> Kötelező (módosított előirányzat 2025.12.31) | B49: =SUM('7.finanszírozás.'!D14) -> 3550 | C49: =SUM('7.finanszírozás.'!D55) -> 166555 | E49: =SUM('7.finanszírozás.'!D64) -> -172152 | F49: =SUM('7.finanszírozás.'!D41) -> 2047 | G49: =SUM(B49:F49) -> 0 | L49: 0 | M49: =SUM(G49) -> 0
B50: =SUM('7.finanszírozás.'!D15) -> #REF! | C50: =SUM('7.finanszírozás.'!D56) -> 0 | E50: =SUM('7.finanszírozás.'!D65) -> 0 | F50: =SUM('7.finanszírozás.'!D42) -> 0 | G50: =SUM(B50:F50) -> #REF! | M50: =SUM(G50) -> #REF!
A51: =A25 -> Teljesítés 2025.12.31. | B51: =SUM('7.finanszírozás.'!D16) -> 52814 | C51: =SUM('7.finanszírozás.'!D57) -> 173276 | E51: =SUM('7.finanszírozás.'!D66) -> 73512 | F51: =SUM('7.finanszírozás.'!D43) -> 2047 | G51: =SUM(B51:F51) -> 301649 | M51: =SUM(G51) -> 301649
A52: =A28 -> Önként vállalt (eredeti előirányzat 2026. év) | G52: =SUM(B52:F52) -> 0 | L52: 0 | M52: =SUM(G52) -> 0
A53: Államigazgatási feladatok (eredeti előirányzat 2026. év) | G53: =SUM(B53:F53) -> 0 | L53: 0 | M53: =SUM(G53) -> 0
A54: Önk.mindösszesen (Teljesítés 2025.12.31.) | B54: =B10+B36 -> 1559929 | C54: =C10+C36 -> 166555 | D54: =D10+D36 -> 29805 | E54: =E10+E36 -> 101088 | F54: =F10+F36 -> 321764 | G54: =G10+G36 -> 2179141 | H54: =H10+H36 -> 394384 | I54: =I10+I36 -> 11501 | ... M54: =M10+M36 -> 2623915 | O54: 240067
A55: Önk.mindösszesen (eredeti előirányzat 2026. év) | B55: =SUM(B11+B37) -> 1987268 | C55: =SUM(C11+C37) -> 223855 | D55: =SUM(D11+D37) -> 30000 | E55: =SUM(E11+E37) -> 79958 | F55: =SUM(F11+F37) -> 197190 | G55: =SUM(G11+G37) -> 2518271 | H55: =SUM(H11+H37) -> 526642 | I55: =SUM(I11+I37) -> 40295 | ... L55: =SUM(L11+L37) -> 865360 | M55: =SUM(L55,G55) -> 3383631 | O55: =M54-O54 -> 2383848
A56: Önk.mindösszesen (módosított ei. 2025.06. havi) | B56: =SUM(B12+B38) -> 1854968 | C56: =SUM(C12+C38) -> 223855 | D56: =SUM(D12+D38) -> 30000 | E56: =SUM(E12+E38) -> 79958 | F56: =SUM(F12+F38) -> 197190 | G56: =SUM(G12+G38) -> 2385971 | H56: =SUM(H12+H38) -> 548867 | I56: =SUM(I12+I38) -> 10295 | ... L56: =SUM(L12+L38) -> 857585 | M56: =SUM(L56,G56) -> 3243556
A57: Önk.mindösszesen (módosított ei. 2025.09. havi) | B57: =SUM(B13+B39) -> #REF! | C57: =SUM(C13+C39) -> 166555 | D57: =SUM(D13+D39) -> 0 | E57: =SUM(E13+E39) -> 79958 | F57: =SUM(F13+F39) -> 0 | G57: =SUM(G13+G39) -> #REF! | H57: =SUM(H13+H39) -> 0 | I57: =SUM(I13+I39) -> 0 | ... L57: =SUM(L13+L39) -> 0 | M57: =SUM(L57,G57) -> #REF!
A58: Önk.mindösszesen (módosított ei. 2025.12. havi) | B58: =SUM(B14+B40) -> 0 | C58: =SUM(C14+C40) -> 166555 | D58: =SUM(D14+D40) -> 0 | E58: =SUM(E14+E40) -> -172152 | F58: =SUM(F14+F40) -> 0 | G58: =SUM(G14+G40) -> -5597 | H58: =SUM(H14+H40) -> 0 | I58: =SUM(I14+I40) -> 0 | ... L58: =SUM(L14+L40) -> 0 | M58: =SUM(L58,G58) -> -5597
A59: Önk.mindösszesen (módosított ei. 2025.12.31) | B59: =SUM(B15+B41) -> 0 | C59: =SUM(C15+C41) -> 166555 | D59: =SUM(D15+D41) -> 0 | E59: =SUM(E15+E41) -> -172152 | F59: =SUM(F15+F41) -> 0 | G59: =SUM(G15+G41) -> -5597 | H59: =SUM(H15+H41) -> 0 | I59: =SUM(I15+I41) -> 0 | ... L59: =SUM(L15+L41) -> 0 | M59: =SUM(L59,G59) -> -5597
B60: =SUM(B16+B42) -> #REF! | C60: =SUM(C16+C42) -> 0 | D60: =SUM(D16+D42) -> 0 | E60: =SUM(E16+E42) -> 0 | F60: =SUM(F16+F42) -> 0 | G60: =SUM(G16+G42) -> #REF! | H60: =SUM(H16+H42) -> 0 | I60: =SUM(I16+I42) -> 10295 | ... L60: =SUM(L16+L42) -> 10295 | M60: =SUM(L60,G60) -> #REF!
A61: Önk.mindösszesen (Teljesítés 2025.12.31.) | B61: =SUM(B17+B43) -> 0 | C61: =SUM(C17+C43) -> 173276 | D61: =SUM(D17+D43) -> 0 | E61: =SUM(E17+E43) -> 73512 | F61: =SUM(F17+F43) -> 0 | G61: =SUM(G17+G43) -> 246788 | H61: =SUM(H17+H43) -> 0 | I61: =SUM(I17+I43) -> 0 | ... L61: =SUM(L17+L43) -> 0 | M61: =SUM(L61,G61) -> 246788
A62: intézményfinanszírozás | M62: =SUM('7.finanszírozás.'!F85) -> -303813 | O62: ='1.Bev-kiad.'!C65 -> 2383848
A63: önkormányzati bevételek nettósítva | M63: =SUM(M55+M62) -> 3079818

Sheet 6.Kiad.össz.
P1: 6. melléklet
P2: ='1.Bev-kiad.'!F2 -> a 12/2026.(X.2.) önkormányzati rendelethez
P3: 6. melléklet az 5/2026.(II.23.) önkormányzati rendelethez
A4: Balatonföldvár Város Önkormányzatának 2026. évi kiadásai intézményenként, kiemelt előirányzatonként, feladatonkénti bontásban, valamint az önkormányzat és költségvetési szervei engedélyezett létszáma
P5: ezerFt
B6: Működési célú kiadások | H6: Működési célú kiadások mind összesen | I6: Felhalmozási célú kiadások | L6: Felhalmozási célú kiadások összesen | M6: Költségvetési kiadások összesen | N6: Finanszírozási kiadások | P6: Kiadások összesen | Q6: Létszám | R6: polgármester (főállású) | S6: alpolgármester (társadalmi megbízatású) | T6: választott képviselők | U6: közalkalmazott | V6: Munka Törvénykönyve hatálya alá tartozó | W6: közfoglalkoztatott | X6: köztisztviselő | Y6: ügykezelő
B7: Személyi juttatás | C7: Munkaadót terhelő járulékok és szociális hozzájárulási adó | D7: Dologi kiadások | E7: Ellátottak pénzbeli juttatásai | F7: Egyéb működési célú kiadások | G7: Működési célú tartalék | I7: Beruházás | J7: Felújítás | K7: Egyéb felhalmozási célú kiadás
N8: Intézmény finanszírozás | O8: Belföldi finanszírozás kiadásai (hiteltörlesztések, ÁHB megelőlegezés)
A9: Önkormányzat: Teljesítés 2025.12.31. | B9: =B17+B25 -> 77514 | C9: =C17+C25 -> 8688 | D9: =D17+D25 -> 324888 | E9: =E17+E25 -> 6186 | F9: =F17+F25 -> 707464 | G9: =G17+G25 -> 0 | H9: =H17+H25 -> 1124740 | I9: =I17+I25 -> 188134 | ... K9: =K17+K25 -> 0 | L9: =I9+J9+K9 -> 360793 | M9: =H9+L9 -> 1485533 | N9: =N17+N25 -> 240067 | O9: =O17+O25 -> 115874 | P9: =M9+N9+O9 -> 1841474 | Q9: =Q17 -> 12 | R9: =R17 -> 1 | S9: =S17 -> 2 | T9: =T17 -> 4 | U9: =U17 -> 3 | V9: =V17 -> 2 | W9: =W17 -> 0 | X9: =X17 -> 0 | Y9: =Y17 -> 0
A10: ='5.Bev.össz_'!A11 -> Önkormányzat (eredeti előirányzat 2026. év) | B10: =B18+B26 -> 74011 | C10: =C18+C26 -> 8811 | D10: =D18+D26 -> 591960 | E10: =E18+E26 -> 20000 | F10: =F18+F26 -> 741989 | G10: =G18+G26 -> 76000 | H10: =B10+C10+D10+E10+F10+G10 -> 1512771 | I10: =I18+I26 -> 743862 | J10: =J18+J26 -> 329676 | K10: =K18+K26 -> 0 | L10: =I10+J10+K10 -> 1073538 | M10: =H10+L10 -> 2586309 | N10: =N18+N26 -> 303813 | O10: =O18+O26 -> 121786 | P10: =H10+L10+N10+O10 -> 3011908 | Q10: =Q18 -> 12 | R10: =R18 -> 1 | S10: =S18 -> 2 | T10: =T18 -> 4 | U10: =U18 -> 3 | V10: =V18 -> 2 | W10: =W18 -> 0 | X10: =X18 -> 0 | Y10: =Y18 -> 0
A11: ='5.Bev.össz'!A12 -> Önkormányzat (módosított előirányzat 2026.10.havi) | B11: =B19+B27 -> 74385 | C11: =C19+C27 -> 8881 | D11: =D19+D27 -> 444667 | E11: =E19+E27 -> 20000 | F11: =F19+F27 -> 754719 | G11: =G19+G27 -> 161402 | H11: =B11+C11+D11+E11+F11+N11+O11+G11 -> 1897108 | I11: =I19+I27 -> 744640 | J11: =J19+J27 -> 276343 | K11: =K19+K27 -> 22225 | L11: =I11+J11+K11 -> 1043208 | M11: =E11+I11 -> 764640 | N11: =N19+N27 -> 303813 | O11: =O19+O27 -> 129241 | P11: =H11+L11 -> 2940316 | Q11: =Q19 -> 11 | R11: =R19 -> 1 | S11: =S19 -> 2 | T11: =T19 -> 4 | U11: =U19 -> 2 | V11: =V19 -> 2 | W11: =W19 -> 0 | X11: =X19 -> 0 | Y11: =Y19 -> 0
A12: ='5.Bev.össz_'!A13 -> Önkormányzat (módosított előirányzat 2025.09.havi) | B12: =B20+B28 -> 0 | C12: =C20+C28 -> 0 | D12: =D20+D28 -> 0 | E12: =E20+E28 -> 0 | F12: =F20+F28 -> 0 | G12: =G20+G28 -> 0 | H12: =B12+C12+D12+E12+F12+N12+O12+G12 -> -5597 | I12: =I20+I28 -> 0 | J12: =J20+J28 -> 0 | K12: =K20+K28 -> 0 | L12: =I12+J12+K12 -> 0 | M12: =E12+I12 -> 0 | N12: =N20+N28 -> -5597 | O12: =O20+O28 -> 0 | P12: =H12+L12 -> -5597 | Q12: =Q20 -> 12 | R12: =R20 -> 1 | S12: =S20 -> 2 | T12: =T20 -> 4 | U12: =U20 -> 3 | V12: =V20 -> 2 | W12: =W20 -> 0 | X12: =X20 -> 0 | Y12: =Y20 -> 0
A13: ='5.Bev.össz_'!A14 -> Önkormányzat (módosított előirányzat 2025.12.havi) | B13: =B21+B29 -> 0 | C13: =C21+C29 -> 0 | D13: =D21+D29 -> 0 | E13: =E21+E29 -> 0 | F13: =F21+F29 -> 0 | G13: =G21+G29 -> 0 | H13: =B13+C13+D13+E13+F13+N13+O13+G13 -> -5597 | I13: =I21+I29 -> 0 | J13: =J21+J29 -> 0 | K13: =K21+K29 -> 0 | L13: =I13+J13+K13 -> 0 | M13: =E13+I13 -> 0 | N13: =N21+N29 -> -5597 | O13: =O21+O29 -> 0 | P13: =H13+L13 -> -5597 | Q13: =Q21 -> 12 | R13: =R21 -> 1 | S13: =S21 -> 2 | T13: =T21 -> 4 | U13: =U21 -> 3 | V13: =V21 -> 2 | W13: =W21 -> 0 | X13: =X21 -> 0 | Y13: =Y21 -> 0
A14: ='5.Bev.össz_'!A15 -> Önkormányzat (módosított előirányzat 2025.12.31) | B14: =B22+B30 -> 0 | C14: =C22+C30 -> 0 | D14: =D22+D30 -> 0 | E14: =E22+E30 -> 0 | F14: =F22+F30 -> 0 | G14: =G22+G30 -> 0 | H14: =B14+C14+D14+E14+F14+N14+O14+G14 -> -5597 | I14: =I22+I30 -> 0 | J14: =J22+J30 -> 0 | K14: =K22+K30 -> 0 | L14: =I14+J14+K14 -> 0 | M14: =E14+I14 -> 0 | N14: =N22+N30 -> -5597 | O14: =O22+O30 -> 0 | P14: =H14+L14 -> -5597 | Q14: =Q22 -> 12 | R14: =R22 -> 1 | S14: =S22 -> 2 | T14: =T22 -> 4 | U14: =U22 -> 3 | V14: =V22 -> 2 | W14: =W22 -> 0 | X14: =X22 -> 0 | Y14: =Y22 -> 0
A15: ='5.Bev.össz_'!A16 -> 0 | B15: =B23+B31 -> 0 | C15: =C23+C31 -> 0 | D15: =D23+D31 -> 0 | E15: =E23+E31 -> 0 | F15: =F23+F31 -> 0 | G15: =G23+G31 -> 0 | H15: =B15+C15+D15+E15+F15+N15+O15+G15 -> 0 | I15: =I23+I31 -> 0 | J15: =J23+J31 -> 0 | K15: =K23+K31 -> 0 | L15: =I15+J15+K15 -> 0 | M15: =E15+I15 -> 0 | N15: =N23+N31 -> 0 | O15: =O23+O31 -> 0 | P15: =H15+L15 -> 0 | Q15: =Q23 -> 0
A16: ='5.Bev.össz_'!A17 -> Önkormányzat: Teljesítés 2025.12.31. | B16: =B24+B32 -> 0 | C16: =C24+C32 -> 0 | D16: =D24+D32 -> 0 | E16: =E24+E32 -> 0 | F16: =F24+F32 -> 0 | G16: =G24+G32 -> 0 | H16: =B16+C16+D16+E16+F16+N16+O16+G16 -> 246788 | I16: =I24+I32 -> 0 | J16: =J24+J32 -> 0 | K16: =K24+K32 -> 0 | L16: =I16+J16+K16 -> 0 | M16: =E16+I16 -> 0 | N16: =N24+N32 -> 246788 | O16: =O24+O32 -> 0 | P16: =H16+L16 -> 246788 | Q16: =Q24 -> 0
A17: Kötelező teljesítés 2025.12.31. | B17: ='2.működés'!C126 -> 77514 | C17: ='2.működés'!C129 -> 8688 | D17: ='2.működés'!C132 -> 324888 | E17: ='2.működés'!C134 -> 6186 | F17: ='4. Átadott p.eszk.'!B9+'4. Átadott p.eszk.'!B37+'4. Átadott p.eszk.'!B58+'4. Átadott p.eszk.'!B61+'2.működés'!C138+'2.működés'!C139+'2.működés'!C140 -> 700299 | G17: 0 | H17: =SUM(B17:G17) -> 1117575 | I17: 188134 | J17: 172659 | L17: =SUM(I17:K17) -> 360793 | M17: =H17+L17 -> 1478368 | N17: 240067 | O17: 115874 | P17: =H17+L17+N17+O17 -> 1834309 | Q17: =SUM(R17:Y17) -> 12 | R17: 1 | S17: 2 | T17: 4 | U17: 3 | V17: 2 | W17: 0 | X17: 0 | Y17: 0
A18: ='5.Bev.össz_'!A19 -> Kötelező (eredeti előirányzat 2026. év) | B18: =SUM('7.finanszírozás.'!C110) -> 74011 | C18: =SUM('7.finanszírozás.'!C118) -> 8811 | D18: =SUM('7.finanszírozás.'!C126) -> 591960 | E18: ='2.működés'!D134 -> 20000 | F18: =SUM('4. Átadott p.eszk.'!C68-'4. Átadott p.eszk.'!C62-'4. Átadott p.eszk.'!C63)+'2.működés'!D138+'2.működés'!D139+'2.működés'!D140 -> 732739 | G18: =SUM('2.működés'!D137) -> 76000 | H18: =SUM(B18:G18) -> 1503521 | I18: =SUM('3.felh'!D48) -> 743862 | J18: =SUM('3.felh'!D74) -> 329676 | K18: =SUM('3.felh'!D96) -> 0 | L18: =SUM(I18:K18) -> 1073538 | M18: =SUM(H18+L18) -> 2577059 | N18: =SUM('7.finanszírozás.'!F60+'7.finanszírozás.'!F51) -> 303813 | O18: =SUM('1.Bev-kiad.'!D84) -> 121786 | P18: =SUM(H18+L18)+N18+O18 -> 3002658 | Q18: =SUM(R18:Y18) -> 12 | R18: 1 | S18: 2 | T18: 4 | U18: 3 | V18: 2 | W18: 0 | X18: 0 | Y18: 0
A19: ='5.Bev.össz'!A20 -> Kötelező (módosított előirányzat 2026.10. havi) | B19: =SUM('7.finanszírozás.'!C111) -> 74385 | C19: =SUM('7.finanszírozás.'!C119) -> 8881 | D19: =SUM('7.finanszírozás.'!C127) -> 444667 | E19: =SUM('7.finanszírozás.'!C143) -> 20000 | F19: =SUM('4. Átadott p.eszk.'!E68-'4. Átadott p.eszk.'!E62-'4. Átadott p.eszk.'!E63)+'2.működés'!F138+'2.működés'!F139+'2.működés'!F140 -> 745469 | G19: =SUM('2.működés'!F137) -> 161402 | H19: =SUM(B19:G19) -> 1454804 | I19: =SUM('3.felh'!F48) -> 744640 | J19: =SUM('3.felh'!F74) -> 276343 | K19: ='3.felh'!F96 -> 22225 | L19: =SUM(I19:K19) -> 1043208 | M19: =SUM(E19+I19) -> 764640 | N19: =SUM('7.finanszírozás.'!E52+'7.finanszírozás.'!E61) -> 303813 | O19: =SUM('1.Bev-kiad.'!F84) -> 129241 | P19: =SUM(H19+L19) -> 2498012 | Q19: =SUM(R19:Y19) -> 11 | R19: 1 | S19: 2 | T19: 4 | U19: 2 | V19: 2 | W19: 0 | X19: 0 | Y19: 0
A20: ='5.Bev.össz_'!A21 -> Kötelező (módosított előirányzat 2025.09.havi) | B20: =SUM('7.finanszírozás.'!C112) -> 0 | C20: =SUM('7.finanszírozás.'!C120) -> 0 | D20: =SUM('7.finanszírozás.'!C128) -> 0 | E20: =SUM('7.finanszírozás.'!C144) -> 0 | F20: =SUM('4. Átadott p.eszk.'!G68-'4. Átadott p.eszk.'!G62-'4. Átadott p.eszk.'!G63)+'2.működés'!H138+'2.működés'!H139+'2.működés'!H140 -> 0 | G20: =SUM('2.működés'!H137) -> 0 | H20: =SUM(B20:G20) -> 0 | I20: =SUM('3.felh'!H48) -> 0 | J20: =SUM('3.felh'!H74) -> 0 | K20: ='3.felh'!H96 -> 0 | L20: =SUM(I20:K20) -> 0 | M20: =SUM(E20+I20) -> 0 | N20: =SUM('7.finanszírozás.'!E53+'7.finanszírozás.'!E62) -> -5597 | O20: =SUM('1.Bev-kiad.'!H84) -> 0 | P20: =SUM(H20+L20) -> 0 | Q20: =SUM(R20:Y20) -> 12 | R20: 1 | S20: 2 | T20: 4 | U20: 3 | V20: 2 | W20: 0 | X20: 0 | Y20: 0
A21: ='5.Bev.össz_'!A22 -> Kötelező (módosított előirányzat 2025.12.havi) | B21: =SUM('7.finanszírozás.'!C113) -> 0 | C21: =SUM('7.finanszírozás.'!C121) -> 0 | D21: =SUM('7.finanszírozás.'!C129) -> 0 | E21: =SUM('7.finanszírozás.'!C145) -> 0 | F21: =SUM('4. Átadott p.eszk.'!I68-'4. Átadott p.eszk.'!I62-'4. Átadott p.eszk.'!I63)+'2.működés'!J138+'2.működés'!J139+'2.működés'!J140 -> 0 | G21: =SUM('2.működés'!J137) -> 0 | H21: =SUM(B21:G21) -> 0 | I21: =SUM('3.felh'!J48) -> 0 | J21: =SUM('3.felh'!J74) -> 0 | K21: ='3.felh'!J96 -> 0 | L21: =SUM(I21:K21) -> 0 | M21: =SUM(E21+I21) -> 0 | N21: =SUM('7.finanszírozás.'!E54+'7.finanszírozás.'!E63) -> -5597 | O21: =SUM('1.Bev-kiad.'!J84) -> 0 | P21: =SUM(H21+L21) -> 0 | Q21: =SUM(R21:Y21) -> 12 | R21: 1 | S21: 2 | T21: 4 | U21: 3 | V21: 2 | W21: 0 | X21: 0 | Y21: 0
A22: ='5.Bev.össz_'!A23 -> Kötelező (módosított előirányzat 2025.12.31) | B22: =SUM('7.finanszírozás.'!C114) -> 0 | C22: =SUM('7.finanszírozás.'!C122) -> 0 | D22: =SUM('7.finanszírozás.'!C130) -> 0 | E22: =SUM('7.finanszírozás.'!C146) -> 0 | F22: =SUM('4. Átadott p.eszk.'!K68-'4. Átadott p.eszk.'!K62-'4. Átadott p.eszk.'!K63)+'2.működés'!L138+'2.működés'!L139+'2.működés'!L140 -> 0 | G22: =SUM('2.működés'!L137) -> 0 | H22: =SUM(B22:G22) -> 0 | I22: =SUM('3.felh'!L48) -> 0 | J22: =SUM('3.felh'!L74) -> 0 | K22: ='3.felh'!J97 -> 0 | L22: =SUM(I22:K22) -> 0 | M22: =SUM(E22+I22) -> 0 | N22: =SUM('7.finanszírozás.'!E55+'7.finanszírozás.'!E64) -> -5597 | O22: =SUM('1.Bev-kiad.'!L84) -> 0 | P22: =SUM(H22+L22) -> 0 | Q22: =SUM(R22:Y22) -> 12 | R22: 1 | S22: 2 | T22: 4 | U22: 3 | V22: 2 | W22: 0 | X22: 0 | Y22: 0
A23: ='5.Bev.össz_'!A24 -> 0 | F23: =SUM('4. Átadott p.eszk.'!K69-'4. Átadott p.eszk.'!K63-'4. Átadott p.eszk.'!K64)+'2.működés'!L139+'2.működés'!L140+'2.működés'!L141 -> 0 | H23: =SUM(B23:G23) -> 0 | I23: =SUM('3.felh'!L49) -> 0 | J23: =SUM('3.felh'!L75) -> 0 | K23: ='3.felh'!J98 -> 0 | L23: =SUM(I23:K23) -> 0 | M23: =SUM(E23+I23) -> 0 | P23: =SUM(H23+L23) -> 0 | Q23: =SUM(R23:Y23) -> 0
A24: ='5.Bev.össz_'!A25 -> Teljesítés 2025.12.31. | B24: =SUM('7.finanszírozás.'!C116) -> 0 | C24: =SUM('7.finanszírozás.'!C124) -> 0 | D24: =SUM('7.finanszírozás.'!C132) -> 0 | E24: =SUM('7.finanszírozás.'!C148) -> 0 | F24: =SUM('4. Átadott p.eszk.'!L68-'4. Átadott p.eszk.'!L62-'4. Átadott p.eszk.'!L63)+'2.működés'!M138+'2.működés'!M139+'2.működés'!M140 -> 0 | G24: =SUM('2.működés'!M137) -> 0 | H24: =SUM(B24:G24) -> 0 | I24: =SUM('3.felh'!M48) -> 0 | J24: =SUM('3.felh'!M74) -> 0 | K24: ='3.felh'!J99 -> 0 | L24: =SUM(I24:K24) -> 0 | M24: =SUM(E24+I24) -> 0 | N24: =SUM('7.finanszírozás.'!E57+'7.finanszírozás.'!E66) -> 246788 | O24: =SUM('1.Bev-kiad.'!M84) -> 0 | P24: =SUM(H24+L24) -> 0 | Q24: =SUM(R24:Y24) -> 0
A25: Önként vállalt teljesítés 2025.12.31. | F25: ='4. Átadott p.eszk.'!B62+'4. Átadott p.eszk.'!B63 -> 7165 | H25: =F25 -> 7165 | I25: 0 | J25: 0 | K25: 0 | L25: 0 | M25: =H25+L25 -> 7165 | P25: =H25+L25 -> 7165 | Q25: =SUM(R25:W25) -> 0 | R25: 0 | S25: 0 | T25: 0 | U25: 0 | V25: 0 | W25: 0 | X25: 0 | Y25: 0
A26: ='5.Bev.össz_'!A28 -> Önként vállalt (eredeti előirányzat 2026. év) | F26: =SUM('4. Átadott p.eszk.'!C62+'4. Átadott p.eszk.'!C63) -> 9250 | H26: =SUM(B26:G26) -> 9250 | L26: =SUM(I26:K26) -> 0 | M26: =SUM(H26+L26) -> 9250 | P26: =SUM(H26+L26) -> 9250 | Q26: =SUM(R26:Y26) -> 0 | R26: 0 | S26: 0 | T26: 0 | U26: 0 | V26: 0 | W26: 0 | X26: 0 | Y26: 0
A27: ='5.Bev.össz'!A29 -> Önként vállalt (módosított előirányzat 2026.10. havi) | F27: ='4. Átadott p.eszk.'!E62+'4. Átadott p.eszk.'!E63 -> 9250 | H27: =SUM(B27:G27) -> 9250 | L27: 0 | M27: =SUM(H27+L27) -> 9250 | P27: =SUM(H27+L27) -> 9250 | Q27: =SUM(R27:Y27) -> 0 | R27: 0 | S27: 0 | T27: 0 | U27: 0 | V27: 0 | W27: 0 | X27: 0 | Y27: 0
A28: ='5.Bev.össz_'!A30 -> Önként vállalt (módosított előirányzat 2025.09.havi) | F28: ='4. Átadott p.eszk.'!G62+'4. Átadott p.eszk.'!G63 -> 0 | H28: =SUM(B28:G28) -> 0 | L28: 0 | M28: =SUM(E28+I28) -> 0 | P28: =SUM(H28+L28) -> 0 | Q28: =SUM(R28:Y28) -> 0 | R28: 0 | S28: 0 | T28: 0 | U28: 0 | V28: 0 | W28: 0 | X28: 0 | Y28: 0
A29: ='5.Bev.össz_'!A31 -> Önként vállalt (módosított előirányzat 2025.12.havi) | F29: ='4. Átadott p.eszk.'!I62+'4. Átadott p.eszk.'!I63 -> 0 | H29: =SUM(B29:G29) -> 0 | L29: =SUM(I29:K29) -> 0 | M29: =SUM(E29+I29) -> 0 | P29: =SUM(H29+L29) -> 0 | Q29: =SUM(R29:Y29) -> 0 | R29: 0 | S29: 0 | T29: 0 | U29: 0 | V29: 0 | W29: 0 | X29: 0 | Y29: 0
A30: ='5.Bev.össz_'!A32 -> Önként vállalt (módosított előirányzat 2025.12.31) | F30: ='4. Átadott p.eszk.'!K62+'4. Átadott p.eszk.'!K63 -> 0 | H30: =SUM(B30:G30) -> 0 | L30: =SUM(I30:K30) -> 0 | M30: =SUM(E30+I30) -> 0 | P30: =SUM(H30+L30) -> 0 | Q30: =SUM(R30:Y30) -> 0 | R30: 0 | S30: 0 | T30: 0 | U30: 0 | V30: 0 | W30: 0 | X30: 0 | Y30: 0
A31: ='5.Bev.össz_'!A33 -> 0 | F31: ='4. Átadott p.eszk.'!K63+'4. Átadott p.eszk.'!K64 -> 0 | H31: =SUM(B31:G31) -> 0 | L31: =SUM(I31:K31) -> 0 | M31: =SUM(E31+I31) -> 0 | P31: =SUM(H31+L31) -> 0
A32: ='5.Bev.össz_'!A34 -> Teljesítés 2025.12.31. | F32: ='4. Átadott p.eszk.'!L62+'4. Átadott p.eszk.'!L63 -> 0 | H32: =SUM(B32:G32) -> 0 | L32: =SUM(I32:K32) -> 0 | M32: =SUM(E32+I32) -> 0 | P32: =SUM(H32+L32) -> 0
A33: ='5.Bev.össz_'!A35 -> Államigazgatási feladatok (eredeti előirányzat 2026. év)
A34: KÖH: Teljesítés 2025.12.31. | B34: =B42 -> 231133 | C34: =C42 -> 29666 | D34: =D42 -> 25680 | E34: =E42 -> 0 | F34: =F42 -> 0 | G34: =G42 -> 0 | H34: =H42 -> 286479 | I34: =I42 -> 349 | ... L34: =L42 -> 349 | M34: =P42 -> 286828 | N34: =N42 -> 0 | O34: =O42 -> 0 | P34: =P42 -> 286828 | Q34: =Q42 -> 30 | R34: =R42 -> 0 | S34: =S42 -> 0 | T34: =T42 -> 0 | U34: =U42 -> 0 | ... Y34: =Y42 -> 1
A35: ='5.Bev.össz_'!A37 -> KÖH (eredeti előirányzat 2026. év) | B35: =SUM(B43) -> 299331 | C35: =SUM(C43) -> 40800 | D35: =SUM(D43) -> 30892 | E35: =SUM(E43) -> 0 | F35: =SUM(F43) -> 0 | G35: =SUM(G43) -> 0 | H35: =SUM(H43) -> 371023 | I35: =I43 -> 700 | J35: =J43 -> 0 | K35: =K43 -> 0 | L35: =I35+J35+K35 -> 700 | M35: =(H35+L35) -> 371723 | N35: =SUM(N43) -> 0 | O35: =SUM(O43) -> 0 | P35: =(L35+H35) -> 371723 | Q35: =Q43 -> 29 | R35: =R43 -> 0 | S35: =S43 -> 0 | T35: =T43 -> 0 | U35: =U43 -> 0 | V35: =V43 -> 3 | W35: =W43 -> 0 | X35: =X43 -> 25 | Y35: =Y43 -> 1
A36: ='5.Bev.össz'!A38 -> KÖH (módosított előirányzat 2026.10. havi) | B36: =SUM(B44) -> 297759 | C36: =SUM(C44) -> 40800 | D36: =SUM(D44) -> 30917 | E36: =SUM(E44) -> 0 | F36: =SUM(F44) -> 0 | G36: =SUM(G44) -> 0 | H36: =SUM(H44) -> 369476 | I36: =I44 -> 700 | J36: =J44 -> 0 | K36: =K44 -> 0 | L36: =I36+J36+K36 -> 700 | M36: =(I36+E36) -> 700 | N36: =SUM(N44) -> 0 | O36: =SUM(O44) -> 0 | P36: =(L36+H36) -> 370176 | Q36: =Q44 -> 29 | R36: =R44 -> 0 | S36: =S44 -> 0 | T36: =T44 -> 0 | U36: =U44 -> 0 | V36: =V44 -> 3 | W36: =W44 -> 0 | X36: =X44 -> 25 | Y36: =Y44 -> 1
A37: ='5.Bev.össz_'!A39 -> KÖH (módosított előirányzat 2025.09. havi) | B37: =SUM(B45) -> 0 | C37: =SUM(C45) -> 0 | D37: =SUM(D45) -> 0 | E37: =SUM(E45) -> 0 | F37: =SUM(F45) -> 0 | G37: =SUM(G45) -> 0 | H37: =SUM(H45) -> 0 | I37: =I45 -> 0 | J37: =J45 -> 0 | K37: =K45 -> 0 | L37: =I37+J37+K37 -> 0 | M37: =(I37+E37) -> 0 | N37: =SUM(N45) -> 0 | O37: =SUM(O45) -> 0 | P37: =(L37+H37) -> 0 | Q37: =Q45 -> 31 | R37: =R45 -> 0 | S37: =S45 -> 0 | T37: =T45 -> 0 | U37: =U45 -> 0 | V37: =V45 -> 3 | W37: =W45 -> 0 | X37: =X45 -> 27 | Y37: =Y45 -> 1
A38: ='5.Bev.össz_'!A40 -> KÖH (módosított előirányzat 2025.12. havi) | B38: =SUM(B46) -> 0 | C38: =SUM(C46) -> 0 | D38: =SUM(D46) -> 0 | E38: =SUM(E46) -> 0 | F38: =SUM(F46) -> 0 | G38: =SUM(G46) -> 0 | H38: =SUM(H46) -> 0 | I38: =I46 -> 0 | J38: =J46 -> 0 | K38: =K46 -> 0 | L38: =I38+J38+K38 -> 0 | M38: =(I38+E38) -> 0 | N38: =SUM(N46) -> 0 | O38: =SUM(O46) -> 0 | P38: =(L38+H38) -> 0 | Q38: =Q46 -> 30 | R38: =R46 -> 0 | S38: =S46 -> 0 | T38: =T46 -> 0 | U38: =U46 -> 0 | V38: =V46 -> 4 | W38: =W46 -> 0 | X38: =X46 -> 25 | Y38: =Y46 -> 1
A39: ='5.Bev.össz_'!A41 -> KÖH (módosított előirányzat 2025.12.31) | B39: =SUM(B47) -> 0 | C39: =SUM(C47) -> 0 | D39: =SUM(D47) -> 0 | E39: =SUM(E47) -> 0 | F39: =SUM(F47) -> 0 | G39: =SUM(G47) -> 0 | H39: =SUM(H47) -> 0 | I39: =I47 -> 0 | J39: =J47 -> 0 | K39: =K47 -> 0 | L39: =I39+J39+K39 -> 0 | M39: =(I39+E39) -> 0 | N39: =SUM(N47) -> 0 | O39: =SUM(O47) -> 0 | P39: =(L39+H39) -> 0 | Q39: =Q47 -> 30 | R39: =R47 -> 0 | S39: =S47 -> 0 | T39: =T47 -> 0 | U39: =U47 -> 0 | V39: =V47 -> 4 | W39: =W47 -> 0 | X39: =X47 -> 25 | Y39: =Y47 -> 1
A40: ='5.Bev.össz_'!A42 -> 0 | B40: =SUM(B48) -> 0 | C40: =SUM(C48) -> 0 | D40: =SUM(D48) -> 0 | E40: =SUM(E48) -> 0 | F40: =SUM(F48) -> 0 | G40: =SUM(G48) -> 0 | H40: =SUM(H48) -> 0 | I40: =I48 -> 0 | J40: =J48 -> 0 | K40: =K48 -> 0 | L40: =I40+J40+K40 -> 0 | M40: =(I40+E40) -> 0 | N40: =SUM(N48) -> 0 | O40: =SUM(O48) -> 0 | P40: =(L40+H40) -> 0 | Q40: =Q48 -> 0
A41: ='5.Bev.össz_'!A43 -> KÖH: Teljesítés 2025.12.31. | B41: =SUM(B49) -> 0 | C41: =SUM(C49) -> 0 | D41: =SUM(D49) -> 0 | E41: =SUM(E49) -> 0 | F41: =SUM(F49) -> 0 | G41: =SUM(G49) -> 0 | H41: =SUM(H49) -> 0 | I41: =I49 -> 0 | J41: =J49 -> 0 | K41: =K49 -> 0 | L41: =I41+J41+K41 -> 0 | M41: =(I41+E41) -> 0 | N41: =SUM(N49) -> 0 | O41: =SUM(O49) -> 0 | P41: =(L41+H41) -> 0 | Q41: =Q49 -> 0
A42: =A17 -> Kötelező teljesítés 2025.12.31. | B42: ='2.működés'!C127 -> 231133 | C42: ='2.működés'!C130 -> 29666 | D42: ='2.működés'!C133 -> 25680 | H42: =SUM(B42:G42) -> 286479 | I42: ='3.felh'!C72 -> 349 | L42: =SUM(I42:K42) -> 349 | M42: =H42+L42 -> 286828 | P42: =H42+L42 -> 286828 | Q42: =SUM(R42:Y42) -> 30 | R42: 0 | S42: 0 | T42: 0 | U42: 0 | V42: 3 | W42: 0 | X42: 26 | Y42: 1
A43: =A18 -> Kötelező (eredeti előirányzat 2026. év) | B43: =SUM('7.finanszírozás.'!D110) -> 299331 | C43: =SUM('7.finanszírozás.'!D118) -> 40800 | D43: =SUM('7.finanszírozás.'!D126) -> 30892 | H43: =SUM(B43:G43) -> 371023 | I43: ='7.finanszírozás.'!D134 -> 700 | L43: =SUM(I43:K43) -> 700 | M43: =SUM(H43+L43) -> 371723 | P43: =SUM(H43+L43) -> 371723 | Q43: =SUM(R43:Y43) -> 29 | R43: 0 | S43: 0 | T43: 0 | U43: 0 | V43: 3 | W43: 0 | X43: 25 | Y43: 1
A44: ='5.Bev.össz'!A46 -> Kötelező (módosított előirányzat 2026.10. havi) | B44: =SUM('7.finanszírozás.'!D111) -> 297759 | C44: =SUM('7.finanszírozás.'!D119) -> 40800 | D44: =SUM('7.finanszírozás.'!D127) -> 30917 | H44: =SUM(B44:G44) -> 369476 | I44: ='7.finanszírozás.'!D135 -> 700 | L44: =SUM(I44:K44) -> 700 | M44: =SUM(E44+I44) -> 700 | P44: =SUM(H44+L44) -> 370176 | Q44: =SUM(R44:Y44) -> 29 | R44: 0 | S44: 0 | T44: 0 | U44: 0 | V44: 3 | W44: 0 | X44: 25 | Y44: 1
A45: ='5.Bev.össz_'!A47 -> Kötelező (módosított előirányzat 2025.09.havi) | B45: =SUM('7.finanszírozás.'!D112) -> 0 | C45: =SUM('7.finanszírozás.'!D120) -> 0 | D45: =SUM('7.finanszírozás.'!D128) -> 0 | H45: =SUM(B45:G45) -> 0 | I45: ='7.finanszírozás.'!D136 -> 0 | L45: =SUM(I45:K45) -> 0 | M45: =SUM(E45+I45) -> 0 | P45: =SUM(H45+L45) -> 0 | Q45: =SUM(R45:Y45) -> 31 | R45: 0 | S45: 0 | T45: 0 | U45: 0 | V45: 3 | W45: 0 | X45: 27 | Y45: 1
A46: ='5.Bev.össz_'!A48 -> Kötelező (módosított előirányzat 2025.12.havi) | B46: =SUM('7.finanszírozás.'!D113) -> 0 | C46: =SUM('7.finanszírozás.'!D121) -> 0 | D46: =SUM('7.finanszírozás.'!D129) -> 0 | H46: =SUM(B46:G46) -> 0 | I46: ='7.finanszírozás.'!D137 -> 0 | L46: =SUM(I46:K46) -> 0 | M46: =SUM(E46+I46) -> 0 | P46: =SUM(H46+L46) -> 0 | Q46: =SUM(R46:Y46) -> 30 | R46: 0 | S46: 0 | T46: 0 | U46: 0 | V46: 4 | W46: 0 | X46: 25 | Y46: 1
A47: ='5.Bev.össz_'!A49 -> Kötelező (módosított előirányzat 2025.12.31) | B47: =SUM('7.finanszírozás.'!D114) -> 0 | C47: =SUM('7.finanszírozás.'!D122) -> 0 | D47: =SUM('7.finanszírozás.'!D130) -> 0 | H47: =SUM(B47:G47) -> 0 | I47: ='7.finanszírozás.'!D138 -> 0 | L47: =SUM(I47:K47) -> 0 | M47: =SUM(E47+I47) -> 0 | P47: =SUM(H47+L47) -> 0 | Q47: =SUM(R47:Y47) -> 30 | R47: 0 | S47: 0 | T47: 0 | U47: 0 | V47: 4 | W47: 0 | X47: 25 | Y47: 1
A48: ='5.Bev.össz_'!A50 -> 0 | B48: =SUM('7.finanszírozás.'!D115) -> 0 | C48: =SUM('7.finanszírozás.'!D123) -> 0 | D48: =SUM('7.finanszírozás.'!D131) -> 0 | F48: ='7.finanszírozás.'!D155 -> 0 | H48: =SUM(B48:G48) -> 0 | I48: ='7.finanszírozás.'!D139 -> 0 | L48: =SUM(I48:K48) -> 0 | M48: =SUM(E48+I48) -> 0 | P48: =SUM(H48+L48) -> 0 | Q48: =SUM(R48:W48) -> 0
A49: ='5.Bev.össz_'!A51 -> Teljesítés 2025.12.31. | B49: =SUM('7.finanszírozás.'!D116) -> 0 | C49: =SUM('7.finanszírozás.'!D124) -> 0 | D49: =SUM('7.finanszírozás.'!D132) -> 0 | H49: =SUM(B49:G49) -> 0 | I49: ='7.finanszírozás.'!D140 -> 0 | L49: =SUM(I49:K49) -> 0 | M49: =SUM(E49+I49) -> 0 | P49: =SUM(H49+L49) -> 0 | Q49: =SUM(R49:W49) -> 0
A50: ='5.Bev.össz_'!A52 -> Önként vállalt (eredeti előirányzat 2026. év)
A51: ='5.Bev.össz_'!A53 -> Államigazgatási feladatok (eredeti előirányzat 2026. év)
A52: Önk.mindösszesen (Teljesítés 2025.12.31.) | B52: =B9+B34 -> 308647 | C52: =C9+C34 -> 38354 | D52: =D9+D34 -> 350568 | E52: =E9+E34 -> 6186 | F52: =F9+F34 -> 707464 | G52: =G9+G34 -> 0 | H52: =H9+H34 -> 1411219 | I52: =I9+I34 -> 188483 | ... L52: =L9+L34 -> 361142 | M52: =P9+P34 -> 2128302 | N52: =N9+N34 -> 240067 | O52: =O9+O34 -> 115874 | P52: =P9+P34 -> 2128302 | Q52: =Q9+Q34 -> 42 | R52: =R9+R34 -> 1 | S52: =S9+S34 -> 2 | T52: =T9+T34 -> 4 | U52: =U9+U34 -> 3 | ... Y52: =Y9+Y34 -> 1 | AA52: 240067
A53: ='5.Bev.össz_'!A55 -> Önk.mindösszesen (eredeti előirányzat 2026. év) | B53: =SUM(B10+B35) -> 373342 | C53: =SUM(C10+C35) -> 49611 | D53: =SUM(D10+D35) -> 622852 | E53: =SUM(E10+E35) -> 20000 | F53: =SUM(F10+F35) -> 741989 | G53: =SUM(G10+G35) -> 76000 | H53: =SUM(H10+H35) -> 1883794 | I53: =SUM(I10+I35) -> 744562 | ... L53: =SUM(L10+L35) -> 1074238 | M53: =SUM(P10+P35) -> 3383631 | N53: =SUM(N10+N35) -> 303813 | O53: =SUM(O10+O35) -> 121786 | P53: =SUM(P10+P35) -> 3383631 | Q53: =Q10+Q35 -> 41 | R53: =R10+R35 -> 1 | S53: =S10+S35 -> 2 | T53: =T10+T35 -> 4 | U53: =U10+U35 -> 3 | V53: =V10+V35 -> 5 | W53: =W10+W35 -> 0 | X53: =X10+X35 -> 25 | Y53: =Y10+Y35 -> 1 | AA53: =P52-AA52 -> 1888235
A54: ='5.Bev.össz'!A56 -> Önk.mindösszesen (módosított ei. 2026.10. havi) | B54: =SUM(B11+B36) -> 372144 | C54: =SUM(C11+C36) -> 49681 | D54: =SUM(D11+D36) -> 475584 | E54: =SUM(E11+E36) -> 20000 | F54: =SUM(F11+F36) -> 754719 | G54: =SUM(G11+G36) -> 161402 | H54: =SUM(H11+H36) -> 2266584 | I54: =SUM(I11+I36) -> 745340 | ... L54: =SUM(L11+L36) -> 1043908 | M54: =SUM(P11+P36) -> 3310492 | N54: =SUM(N11+N36) -> 303813 | O54: =SUM(O11+O36) -> 129241 | P54: =SUM(P11+P36) -> 3310492 | Q54: =Q11+Q36 -> 40 | R54: =R11+R36 -> 1 | S54: =S11+S36 -> 2 | T54: =T11+T36 -> 4 | U54: =U11+U36 -> 2 | V54: =V11+V36 -> 5 | W54: =W11+W36 -> 0 | X54: =X11+X36 -> 25 | Y54: =Y11+Y36 -> 1
A55: ='5.Bev.össz_'!A57 -> Önk.mindösszesen (módosított ei. 2025.09. havi) | B55: =SUM(B12+B37) -> 0 | C55: =SUM(C12+C37) -> 0 | D55: =SUM(D12+D37) -> 0 | E55: =SUM(E12+E37) -> 0 | F55: =SUM(F12+F37) -> 0 | G55: =SUM(G12+G37) -> 0 | H55: =SUM(H12+H37) -> -5597 | I55: =SUM(I12+I37) -> 0 | ... L55: =SUM(L12+L37) -> 0 | P55: =SUM(P12+P37) -> -5597 | Q55: =Q12+Q37 -> 43 | R55: =R12+R37 -> 1 | S55: =S12+S37 -> 2 | T55: =T12+T37 -> 4 | U55: =U12+U37 -> 3 | V55: =V12+V37 -> 5 | W55: =W12+W37 -> 0 | X55: =X12+X37 -> 27 | Y55: =Y12+Y37 -> 1
A56: ='5.Bev.össz_'!A58 -> Önk.mindösszesen (módosított ei. 2025.12. havi) | B56: =SUM(B13+B38) -> 0 | C56: =SUM(C13+C38) -> 0 | D56: =SUM(D13+D38) -> 0 | E56: =SUM(E13+E38) -> 0 | F56: =SUM(F13+F38) -> 0 | G56: =SUM(G13+G38) -> 0 | H56: =SUM(H13+H38) -> -5597 | I56: =SUM(I13+I38) -> 0 | ... L56: =SUM(L13+L38) -> 0 | P56: =SUM(P13+P38) -> -5597 | Q56: =Q13+Q38 -> 42 | R56: =R13+R38 -> 1 | S56: =S13+S38 -> 2 | T56: =T13+T38 -> 4 | U56: =U13+U38 -> 3 | V56: =V13+V38 -> 6 | W56: =W13+W38 -> 0 | X56: =X13+X38 -> 25 | Y56: =Y13+Y38 -> 1
A57: ='5.Bev.össz_'!A59 -> Önk.mindösszesen (módosított ei. 2025.12.31) | B57: =SUM(B14+B39) -> 0 | C57: =SUM(C14+C39) -> 0 | D57: =SUM(D14+D39) -> 0 | E57: =SUM(E14+E39) -> 0 | F57: =SUM(F14+F39) -> 0 | G57: =SUM(G14+G39) -> 0 | H57: =SUM(H14+H39) -> -5597 | I57: =SUM(I14+I39) -> 0 | ... L57: =SUM(L14+L39) -> 0 | P57: =SUM(P14+P39) -> -5597 | Q57: =Q14+Q39 -> 42 | R57: =R14+R39 -> 1 | S57: =S14+S39 -> 2 | T57: =T14+T39 -> 4 | U57: =U14+U39 -> 3 | V57: =V14+V39 -> 6 | W57: =W14+W39 -> 0 | X57: =X14+X39 -> 25 | Y57: =Y14+Y39 -> 1
A58: ='5.Bev.össz_'!A60 -> 0 | B58: =SUM(B15+B40) -> 0 | C58: =SUM(C15+C40) -> 0 | D58: =SUM(D15+D40) -> 0 | E58: =SUM(E15+E40) -> 0 | F58: =SUM(F15+F40) -> 0 | G58: =SUM(G15+G40) -> 0 | H58: =SUM(H15+H40) -> 0 | I58: =SUM(I15+I40) -> 0 | ... L58: =SUM(L15+L40) -> 0 | P58: =SUM(P15+P40) -> 0 | Q58: =Q15+Q40 -> 0 | R58: =R15+R40 -> 0 | S58: =S15+S40 -> 0 | T58: =T15+T40 -> 0 | U58: =U15+U40 -> 0 | V58: =V15+V40 -> 0 | W58: =W15+W40 -> 0 | X58: =X15+X40 -> 0 | Y58: =Y15+Y40 -> 0
A59: ='5.Bev.össz_'!A61 -> Önk.mindösszesen (Teljesítés 2025.12.31.) | B59: =SUM(B16+B41) -> 0 | C59: =SUM(C16+C41) -> 0 | D59: =SUM(D16+D41) -> 0 | E59: =SUM(E16+E41) -> 0 | F59: =SUM(F16+F41) -> 0 | G59: =SUM(G16+G41) -> 0 | H59: =SUM(H16+H41) -> 246788 | I59: =SUM(I16+I41) -> 0 | ... L59: =SUM(L16+L41) -> 0 | P59: =SUM(P16+P41) -> 246788 | Q59: =Q16+Q41 -> 0 | R59: =R16+R41 -> 0 | S59: =S16+S41 -> 0 | T59: =T16+T41 -> 0 | U59: =U16+U41 -> 0 | V59: =V16+V41 -> 0 | W59: =W16+W41 -> 0 | X59: =X16+X41 -> 0 | Y59: =Y16+Y41 -> 0
A60: intézményfinanszírozás | P60: =SUM('7.finanszírozás.'!F102) -> -303813 | AA60: ='1.Bev-kiad.'!C91 -> 1888235
A61: önkormányzati kiadások nettósítva | P61: =SUM(P54+P60) -> 3006679
P63: =P61-'5.Bev.össz_'!M63 -> -73139

Sheet 6.Kiad.össz._
O1: 6. melléklet
O2: ='1.Bev-kiad.'!F2 -> a 12/2026.(X.2.) önkormányzati rendelethez
O3: 6. melléklet az 5/2026.(II.23.) önkormányzati rendelethez
A4: Balatonföldvár Város Önkormányzatának 2026. évi kiadásai intézményenként, kiemelt előirányzatonként, feladatonkénti bontásban, valamint az önkormányzat és költségvetési szervei engedélyezett létszáma
O5: ezerFt
B6: Működési célú kiadások | J6: Működési célú kiadások mind összesen | K6: Felhalmozási célú kiadások | O6: Költségvetési kiadások összesen | P6: Létszám | Q6: polgármester (főállású) | R6: alpolgármester (társadalmi megbízatású) | S6: választott képviselők | T6: közalkalmazott | U6: Munka Törvénykönyve hatálya alá tartozó | V6: közfoglalkoztatott | W6: köztisztviselő | X6: ügykezelő
B7: Személyi juttatás | C7: Munkaadót terhelő járulékok és szociális hozzájárulási adó | D7: Dologi kiadások | E7: Ellátottak pénzbeli juttatásai | F7: Egyéb működési célú kiadások | G7: Finanszírozási kiadások | I7: Működési célú tartalék | K7: Beruházás | L7: Felújítás | M7: Egyéb felhalmozási célú kiadás | N7: Felhalmozási célú kiadások összesen
G8: Intézmény finanszírozás | H8: Belföldi finanszírozás kiadásai
A9: Önkormányzat: Teljesítés 2025.12.31. | B9: =B17+B25 -> 77514 | C9: =C17+C25 -> 8688 | D9: =D17+D25 -> 324888 | E9: =E17+E25 -> 6186 | F9: =F17+F25 -> 707464 | G9: =G17+G25 -> 240067 | H9: =H17+H25 -> 115874 | I9: =I17+I25 -> 0 | ... O9: =O17+O25 -> 1841474 | P9: =P17 -> 12 | Q9: =Q17 -> 1 | R9: =R17 -> 2 | S9: =S17 -> 4 | T9: =T17 -> 3 | U9: =U17 -> 2 | V9: =V17 -> 0 | W9: =W17 -> 0 | X9: =X17 -> 0
A10: ='5.Bev.össz_'!A11 -> Önkormányzat (eredeti előirányzat 2026. év) | B10: =B18+B26 -> 74011 | C10: =C18+C26 -> 8811 | D10: =D18+D26 -> 591960 | E10: =E18+E26 -> 20000 | F10: =F18+F26 -> 741989 | G10: =G18+G26 -> 303813 | H10: =H18+H26 -> 121786 | I10: =I18+I26 -> 76000 | J10: =B10+C10+D10+E10+F10+G10+H10+I10 -> 1938370 | K10: =K18+K26 -> 743862 | L10: =L18+L26 -> 329676 | M10: =M18+M26 -> 0 | N10: =K10+L10+M10 -> 1073538 | O10: =J10+N10 -> 3011908 | P10: =P18 -> 12 | Q10: =Q18 -> 1 | R10: =R18 -> 2 | S10: =S18 -> 4 | T10: =T18 -> 3 | U10: =U18 -> 2 | V10: =V18 -> 0 | W10: =W18 -> 0 | X10: =X18 -> 0
A11: ='5.Bev.össz_'!A12 -> Önkormányzat (módosított előirányzat 2025.06.havi) | B11: =B19+B27 -> 74385 | C11: =C19+C27 -> 8881 | D11: =D19+D27 -> 444667 | E11: =E19+E27 -> 20000 | F11: =F19+F27 -> 754719 | G11: =G19+G27 -> 303813 | H11: =H19+H27 -> 129241 | I11: =I19+I27 -> 161402 | J11: =B11+C11+D11+E11+F11+G11+H11+I11 -> 1897108 | K11: =K19+K27 -> 744640 | L11: =L19+L27 -> 276343 | M11: =M19+M27 -> 22225 | N11: =K11+L11+M11 -> 1043208 | O11: =J11+N11 -> 2940316 | P11: =P19 -> 12 | Q11: =Q19 -> 1 | R11: =R19 -> 2 | S11: =S19 -> 4 | T11: =T19 -> 3 | U11: =U19 -> 2 | V11: =V19 -> 0 | W11: =W19 -> 0 | X11: =X19 -> 0
A12: ='5.Bev.össz_'!A13 -> Önkormányzat (módosított előirányzat 2025.09.havi) | B12: =B20+B28 -> 0 | C12: =C20+C28 -> 0 | D12: =D20+D28 -> 0 | E12: =E20+E28 -> 0 | F12: =F20+F28 -> 0 | G12: =G20+G28 -> -5597 | H12: =H20+H28 -> 0 | I12: =I20+I28 -> 0 | J12: =B12+C12+D12+E12+F12+G12+H12+I12 -> -5597 | K12: =K20+K28 -> 0 | L12: =L20+L28 -> 0 | M12: =M20+M28 -> 0 | N12: =K12+L12+M12 -> 0 | O12: =J12+N12 -> -5597 | P12: =P20 -> 12 | Q12: =Q20 -> 1 | R12: =R20 -> 2 | S12: =S20 -> 4 | T12: =T20 -> 3 | U12: =U20 -> 2 | V12: =V20 -> 0 | W12: =W20 -> 0 | X12: =X20 -> 0
A13: ='5.Bev.össz_'!A14 -> Önkormányzat (módosított előirányzat 2025.12.havi) | B13: =B21+B29 -> 0 | C13: =C21+C29 -> 0 | D13: =D21+D29 -> 0 | E13: =E21+E29 -> 0 | F13: =F21+F29 -> 0 | G13: =G21+G29 -> -5597 | H13: =H21+H29 -> 0 | I13: =I21+I29 -> 0 | J13: =B13+C13+D13+E13+F13+G13+H13+I13 -> -5597 | K13: =K21+K29 -> 0 | L13: =L21+L29 -> 0 | M13: =M21+M29 -> 0 | N13: =K13+L13+M13 -> 0 | O13: =J13+N13 -> -5597 | P13: =P21 -> 12 | Q13: =Q21 -> 1 | R13: =R21 -> 2 | S13: =S21 -> 4 | T13: =T21 -> 3 | U13: =U21 -> 2 | V13: =V21 -> 0 | W13: =W21 -> 0 | X13: =X21 -> 0
A14: ='5.Bev.össz_'!A15 -> Önkormányzat (módosított előirányzat 2025.12.31) | B14: =B22+B30 -> 0 | C14: =C22+C30 -> 0 | D14: =D22+D30 -> 0 | E14: =E22+E30 -> 0 | F14: =F22+F30 -> 0 | G14: =G22+G30 -> -5597 | H14: =H22+H30 -> 0 | I14: =I22+I30 -> 0 | J14: =B14+C14+D14+E14+F14+G14+H14+I14 -> -5597 | K14: =K22+K30 -> 0 | L14: =L22+L30 -> 0 | M14: =M22+M30 -> 0 | N14: =K14+L14+M14 -> 0 | O14: =J14+N14 -> -5597 | P14: =P22 -> 12 | Q14: =Q22 -> 1 | R14: =R22 -> 2 | S14: =S22 -> 4 | T14: =T22 -> 3 | U14: =U22 -> 2 | V14: =V22 -> 0 | W14: =W22 -> 0 | X14: =X22 -> 0
A15: ='5.Bev.össz_'!A16 -> 0 | B15: =B23+B31 -> 0 | C15: =C23+C31 -> 0 | D15: =D23+D31 -> 0 | E15: =E23+E31 -> 0 | F15: =F23+F31 -> 0 | G15: =G23+G31 -> 0 | H15: =H23+H31 -> 0 | I15: =I23+I31 -> 0 | J15: =B15+C15+D15+E15+F15+G15+H15+I15 -> 0 | K15: =K23+K31 -> 0 | L15: =L23+L31 -> 0 | M15: =M23+M31 -> 0 | N15: =K15+L15+M15 -> 0 | O15: =J15+N15 -> 0 | P15: =P23 -> 0
A16: ='5.Bev.össz_'!A17 -> Önkormányzat: Teljesítés 2025.12.31. | B16: =B24+B32 -> 0 | C16: =C24+C32 -> 0 | D16: =D24+D32 -> 0 | E16: =E24+E32 -> 0 | F16: =F24+F32 -> 0 | G16: =G24+G32 -> 246788 | H16: =H24+H32 -> 0 | I16: =I24+I32 -> 0 | J16: =B16+C16+D16+E16+F16+G16+H16+I16 -> 246788 | K16: =K24+K32 -> 0 | L16: =L24+L32 -> 0 | M16: =M24+M32 -> 0 | N16: =K16+L16+M16 -> 0 | O16: =J16+N16 -> 246788 | P16: =P24 -> 0
A17: Kötelező teljesítés 2025.12.31. | B17: ='2.működés'!C126 -> 77514 | C17: ='2.működés'!C129 -> 8688 | D17: ='2.működés'!C132 -> 324888 | E17: ='2.működés'!C134 -> 6186 | F17: ='4. Átadott p.eszk.'!B9+'4. Átadott p.eszk.'!B37+'4. Átadott p.eszk.'!B58+'4. Átadott p.eszk.'!B61+'2.működés'!C138+'2.működés'!C139+'2.működés'!C140 -> 700299 | G17: 240067 | H17: 115874 | I17: 0 | J17: =SUM(B17:I17) -> 1473516 | K17: 188134 | L17: 172659 | N17: =SUM(K17:M17) -> 360793 | O17: =J17+N17 -> 1834309 | P17: =SUM(Q17:X17) -> 12 | Q17: 1 | R17: 2 | S17: 4 | T17: 3 | U17: 2 | V17: 0 | W17: 0 | X17: 0
A18: ='5.Bev.össz_'!A19 -> Kötelező (eredeti előirányzat 2026. év) | B18: =SUM('7.finanszírozás.'!C110) -> 74011 | C18: =SUM('7.finanszírozás.'!C118) -> 8811 | D18: =SUM('7.finanszírozás.'!C126) -> 591960 | E18: ='2.működés'!D134 -> 20000 | F18: =SUM('4. Átadott p.eszk.'!C68-'4. Átadott p.eszk.'!C62-'4. Átadott p.eszk.'!C63)+'2.működés'!D138+'2.működés'!D139+'2.működés'!D140 -> 732739 | G18: =SUM('7.finanszírozás.'!F60+'7.finanszírozás.'!F51) -> 303813 | H18: =SUM('1.Bev-kiad.'!D84) -> 121786 | I18: =SUM('2.működés'!D137) -> 76000 | J18: =SUM(B18:I18) -> 1929120 | K18: =SUM('3.felh'!D48) -> 743862 | L18: =SUM('3.felh'!D74) -> 329676 | M18: =SUM('3.felh'!D96) -> 0 | N18: =SUM(K18:M18) -> 1073538 | O18: =SUM(J18+N18) -> 3002658 | P18: =SUM(Q18:X18) -> 12 | Q18: 1 | R18: 2 | S18: 4 | T18: 3 | U18: 2 | V18: 0 | W18: 0 | X18: 0
A19: ='5.Bev.össz_'!A20 -> Kötelező (módosított előirányzat 2025.06. havi) | B19: =SUM('7.finanszírozás.'!C111) -> 74385 | C19: =SUM('7.finanszírozás.'!C119) -> 8881 | D19: =SUM('7.finanszírozás.'!C127) -> 444667 | E19: =SUM('7.finanszírozás.'!C143) -> 20000 | F19: =SUM('4. Átadott p.eszk.'!E68-'4. Átadott p.eszk.'!E62-'4. Átadott p.eszk.'!E63)+'2.működés'!F138+'2.működés'!F139+'2.működés'!F140 -> 745469 | G19: =SUM('7.finanszírozás.'!E52+'7.finanszírozás.'!E61) -> 303813 | H19: =SUM('1.Bev-kiad.'!F84) -> 129241 | I19: =SUM('2.működés'!F137) -> 161402 | J19: =SUM(B19:I19) -> 1887858 | K19: =SUM('3.felh'!F48) -> 744640 | L19: =SUM('3.felh'!F74) -> 276343 | M19: ='3.felh'!F96 -> 22225 | N19: =SUM(K19:M19) -> 1043208 | O19: =SUM(J19+N19) -> 2931066 | P19: =SUM(Q19:X19) -> 12 | Q19: 1 | R19: 2 | S19: 4 | T19: 3 | U19: 2 | V19: 0 | W19: 0 | X19: 0
A20: ='5.Bev.össz_'!A21 -> Kötelező (módosított előirányzat 2025.09.havi) | B20: =SUM('7.finanszírozás.'!C112) -> 0 | C20: =SUM('7.finanszírozás.'!C120) -> 0 | D20: =SUM('7.finanszírozás.'!C128) -> 0 | E20: =SUM('7.finanszírozás.'!C144) -> 0 | F20: =SUM('4. Átadott p.eszk.'!G68-'4. Átadott p.eszk.'!G62-'4. Átadott p.eszk.'!G63)+'2.működés'!H138+'2.működés'!H139+'2.működés'!H140 -> 0 | G20: =SUM('7.finanszírozás.'!E53+'7.finanszírozás.'!E62) -> -5597 | H20: =SUM('1.Bev-kiad.'!H84) -> 0 | I20: =SUM('2.működés'!H137) -> 0 | J20: =SUM(B20:I20) -> -5597 | K20: =SUM('3.felh'!H48) -> 0 | L20: =SUM('3.felh'!H74) -> 0 | M20: ='3.felh'!H96 -> 0 | N20: =SUM(K20:M20) -> 0 | O20: =SUM(J20+N20) -> -5597 | P20: =SUM(Q20:X20) -> 12 | Q20: 1 | R20: 2 | S20: 4 | T20: 3 | U20: 2 | V20: 0 | W20: 0 | X20: 0
A21: ='5.Bev.össz_'!A22 -> Kötelező (módosított előirányzat 2025.12.havi) | B21: =SUM('7.finanszírozás.'!C113) -> 0 | C21: =SUM('7.finanszírozás.'!C121) -> 0 | D21: =SUM('7.finanszírozás.'!C129) -> 0 | E21: =SUM('7.finanszírozás.'!C145) -> 0 | F21: =SUM('4. Átadott p.eszk.'!I68-'4. Átadott p.eszk.'!I62-'4. Átadott p.eszk.'!I63)+'2.működés'!J138+'2.működés'!J139+'2.működés'!J140 -> 0 | G21: =SUM('7.finanszírozás.'!E54+'7.finanszírozás.'!E63) -> -5597 | H21: =SUM('1.Bev-kiad.'!J84) -> 0 | I21: =SUM('2.működés'!J137) -> 0 | J21: =SUM(B21:I21) -> -5597 | K21: =SUM('3.felh'!J48) -> 0 | L21: =SUM('3.felh'!J74) -> 0 | M21: ='3.felh'!J96 -> 0 | N21: =SUM(K21:M21) -> 0 | O21: =SUM(J21+N21) -> -5597 | P21: =SUM(Q21:X21) -> 12 | Q21: 1 | R21: 2 | S21: 4 | T21: 3 | U21: 2 | V21: 0 | W21: 0 | X21: 0
A22: ='5.Bev.össz_'!A23 -> Kötelező (módosított előirányzat 2025.12.31) | B22: =SUM('7.finanszírozás.'!C114) -> 0 | C22: =SUM('7.finanszírozás.'!C122) -> 0 | D22: =SUM('7.finanszírozás.'!C130) -> 0 | E22: =SUM('7.finanszírozás.'!C146) -> 0 | F22: =SUM('4. Átadott p.eszk.'!K68-'4. Átadott p.eszk.'!K62-'4. Átadott p.eszk.'!K63)+'2.működés'!L138+'2.működés'!L139+'2.működés'!L140 -> 0 | G22: =SUM('7.finanszírozás.'!E55+'7.finanszírozás.'!E64) -> -5597 | H22: =SUM('1.Bev-kiad.'!L84) -> 0 | I22: =SUM('2.működés'!L137) -> 0 | J22: =SUM(B22:I22) -> -5597 | K22: =SUM('3.felh'!L48) -> 0 | L22: =SUM('3.felh'!L74) -> 0 | M22: ='3.felh'!J97 -> 0 | N22: =SUM(K22:M22) -> 0 | O22: =SUM(J22+N22) -> -5597 | P22: =SUM(Q22:X22) -> 12 | Q22: 1 | R22: 2 | S22: 4 | T22: 3 | U22: 2 | V22: 0 | W22: 0 | X22: 0
A23: ='5.Bev.össz_'!A24 -> 0 | F23: =SUM('4. Átadott p.eszk.'!K69-'4. Átadott p.eszk.'!K63-'4. Átadott p.eszk.'!K64)+'2.működés'!L139+'2.működés'!L140+'2.működés'!L141 -> 0 | J23: =SUM(B23:I23) -> 0 | K23: =SUM('3.felh'!L49) -> 0 | L23: =SUM('3.felh'!L75) -> 0 | M23: ='3.felh'!J98 -> 0 | N23: =SUM(K23:M23) -> 0 | O23: =SUM(J23+N23) -> 0 | P23: =SUM(Q23:X23) -> 0
A24: ='5.Bev.össz_'!A25 -> Teljesítés 2025.12.31. | B24: =SUM('7.finanszírozás.'!C116) -> 0 | C24: =SUM('7.finanszírozás.'!C124) -> 0 | D24: =SUM('7.finanszírozás.'!C132) -> 0 | E24: =SUM('7.finanszírozás.'!C148) -> 0 | F24: =SUM('4. Átadott p.eszk.'!L68-'4. Átadott p.eszk.'!L62-'4. Átadott p.eszk.'!L63)+'2.működés'!M138+'2.működés'!M139+'2.működés'!M140 -> 0 | G24: =SUM('7.finanszírozás.'!E57+'7.finanszírozás.'!E66) -> 246788 | H24: =SUM('1.Bev-kiad.'!M84) -> 0 | I24: =SUM('2.működés'!M137) -> 0 | J24: =SUM(B24:I24) -> 246788 | K24: =SUM('3.felh'!M48) -> 0 | L24: =SUM('3.felh'!M74) -> 0 | M24: ='3.felh'!J99 -> 0 | N24: =SUM(K24:M24) -> 0 | O24: =SUM(J24+N24) -> 246788 | P24: =SUM(Q24:X24) -> 0
A25: Önként vállalt teljesítés 2025.12.31. | F25: ='4. Átadott p.eszk.'!B62+'4. Átadott p.eszk.'!B63 -> 7165 | J25: =F25 -> 7165 | K25: 0 | L25: 0 | M25: 0 | N25: 0 | O25: =J25+N25 -> 7165 | P25: =SUM(Q25:V25) -> 0 | Q25: 0 | R25: 0 | S25: 0 | T25: 0 | U25: 0 | V25: 0 | W25: 0 | X25: 0
A26: ='5.Bev.össz_'!A28 -> Önként vállalt (eredeti előirányzat 2026. év) | F26: =SUM('4. Átadott p.eszk.'!C62+'4. Átadott p.eszk.'!C63) -> 9250 | J26: =SUM(B26:I26) -> 9250 | N26: =SUM(K26:M26) -> 0 | O26: =SUM(J26+N26) -> 9250 | P26: =SUM(Q26:X26) -> 0 | Q26: 0 | R26: 0 | S26: 0 | T26: 0 | U26: 0 | V26: 0 | W26: 0 | X26: 0
A27: ='5.Bev.össz_'!A29 -> Önként vállalt (módosított előirányzat 2025.06. havi) | F27: ='4. Átadott p.eszk.'!E62+'4. Átadott p.eszk.'!E63 -> 9250 | J27: =SUM(B27:I27) -> 9250 | N27: 0 | O27: =SUM(J27+N27) -> 9250 | P27: =SUM(Q27:X27) -> 0 | Q27: 0 | R27: 0 | S27: 0 | T27: 0 | U27: 0 | V27: 0 | W27: 0 | X27: 0
A28: ='5.Bev.össz_'!A30 -> Önként vállalt (módosított előirányzat 2025.09.havi) | F28: ='4. Átadott p.eszk.'!G62+'4. Átadott p.eszk.'!G63 -> 0 | J28: =SUM(B28:I28) -> 0 | N28: 0 | O28: =SUM(J28+N28) -> 0 | P28: =SUM(Q28:X28) -> 0 | Q28: 0 | R28: 0 | S28: 0 | T28: 0 | U28: 0 | V28: 0 | W28: 0 | X28: 0
A29: ='5.Bev.össz_'!A31 -> Önként vállalt (módosított előirányzat 2025.12.havi) | F29: ='4. Átadott p.eszk.'!I62+'4. Átadott p.eszk.'!I63 -> 0 | J29: =SUM(B29:I29) -> 0 | N29: =SUM(K29:M29) -> 0 | O29: =SUM(J29+N29) -> 0 | P29: =SUM(Q29:X29) -> 0 | Q29: 0 | R29: 0 | S29: 0 | T29: 0 | U29: 0 | V29: 0 | W29: 0 | X29: 0
A30: ='5.Bev.össz_'!A32 -> Önként vállalt (módosított előirányzat 2025.12.31) | F30: ='4. Átadott p.eszk.'!K62+'4. Átadott p.eszk.'!K63 -> 0 | J30: =SUM(B30:I30) -> 0 | N30: =SUM(K30:M30) -> 0 | O30: =SUM(J30+N30) -> 0 | P30: =SUM(Q30:X30) -> 0 | Q30: 0 | R30: 0 | S30: 0 | T30: 0 | U30: 0 | V30: 0 | W30: 0 | X30: 0
A31: ='5.Bev.össz_'!A33 -> 0 | F31: ='4. Átadott p.eszk.'!K63+'4. Átadott p.eszk.'!K64 -> 0 | J31: =SUM(B31:I31) -> 0 | N31: =SUM(K31:M31) -> 0 | O31: =SUM(J31+N31) -> 0
A32: ='5.Bev.össz_'!A34 -> Teljesítés 2025.12.31. | F32: ='4. Átadott p.eszk.'!L62+'4. Átadott p.eszk.'!L63 -> 0 | J32: =SUM(B32:I32) -> 0 | N32: =SUM(K32:M32) -> 0 | O32: =SUM(J32+N32) -> 0
A33: ='5.Bev.össz_'!A35 -> Államigazgatási feladatok (eredeti előirányzat 2026. év)
A34: KÖH: Teljesítés 2025.12.31. | B34: =B42 -> 231133 | C34: =C42 -> 29666 | D34: =D42 -> 25680 | E34: =E42 -> 0 | F34: =F42 -> 0 | G34: =G42 -> 0 | H34: =H42 -> 0 | I34: =I42 -> 0 | ... X34: =X42 -> 1
A35: ='5.Bev.össz_'!A37 -> KÖH (eredeti előirányzat 2026. év) | B35: =SUM(B43) -> 299331 | C35: =SUM(C43) -> 40800 | D35: =SUM(D43) -> 30892 | E35: =SUM(E43) -> 0 | F35: =SUM(F43) -> 0 | G35: =SUM(G43) -> 0 | H35: =SUM(H43) -> 0 | I35: =SUM(I43) -> 0 | J35: =SUM(J43) -> 371023 | K35: =K43 -> 700 | L35: =L43 -> 0 | M35: =M43 -> 0 | N35: =K35+L35+M35 -> 700 | O35: =(N35+J35) -> 371723 | P35: =P43 -> 29 | Q35: =Q43 -> 0 | R35: =R43 -> 0 | S35: =S43 -> 0 | T35: =T43 -> 0 | U35: =U43 -> 3 | V35: =V43 -> 0 | W35: =W43 -> 25 | X35: =X43 -> 1
A36: ='5.Bev.össz_'!A38 -> KÖH (módosított előirányzat 2025.06. havi) | B36: =SUM(B44) -> 297759 | C36: =SUM(C44) -> 40800 | D36: =SUM(D44) -> 30917 | E36: =SUM(E44) -> 0 | F36: =SUM(F44) -> 0 | G36: =SUM(G44) -> 0 | H36: =SUM(H44) -> 0 | I36: =SUM(I44) -> 0 | J36: =SUM(J44) -> 369476 | K36: =K44 -> 700 | L36: =L44 -> 0 | M36: =M44 -> 0 | N36: =K36+L36+M36 -> 700 | O36: =(N36+J36) -> 370176 | P36: =P44 -> 31 | Q36: =Q44 -> 0 | R36: =R44 -> 0 | S36: =S44 -> 0 | T36: =T44 -> 0 | U36: =U44 -> 3 | V36: =V44 -> 0 | W36: =W44 -> 27 | X36: =X44 -> 1
A37: ='5.Bev.össz_'!A39 -> KÖH (módosított előirányzat 2025.09. havi) | B37: =SUM(B45) -> 0 | C37: =SUM(C45) -> 0 | D37: =SUM(D45) -> 0 | E37: =SUM(E45) -> 0 | F37: =SUM(F45) -> 0 | G37: =SUM(G45) -> 0 | H37: =SUM(H45) -> 0 | I37: =SUM(I45) -> 0 | J37: =SUM(J45) -> 0 | K37: =K45 -> 0 | L37: =L45 -> 0 | M37: =M45 -> 0 | N37: =K37+L37+M37 -> 0 | O37: =(N37+J37) -> 0 | P37: =P45 -> 31 | Q37: =Q45 -> 0 | R37: =R45 -> 0 | S37: =S45 -> 0 | T37: =T45 -> 0 | U37: =U45 -> 3 | V37: =V45 -> 0 | W37: =W45 -> 27 | X37: =X45 -> 1
A38: ='5.Bev.össz_'!A40 -> KÖH (módosított előirányzat 2025.12. havi) | B38: =SUM(B46) -> 0 | C38: =SUM(C46) -> 0 | D38: =SUM(D46) -> 0 | E38: =SUM(E46) -> 0 | F38: =SUM(F46) -> 0 | G38: =SUM(G46) -> 0 | H38: =SUM(H46) -> 0 | I38: =SUM(I46) -> 0 | J38: =SUM(J46) -> 0 | K38: =K46 -> 0 | L38: =L46 -> 0 | M38: =M46 -> 0 | N38: =K38+L38+M38 -> 0 | O38: =(N38+J38) -> 0 | P38: =P46 -> 30 | Q38: =Q46 -> 0 | R38: =R46 -> 0 | S38: =S46 -> 0 | T38: =T46 -> 0 | U38: =U46 -> 4 | V38: =V46 -> 0 | W38: =W46 -> 25 | X38: =X46 -> 1
A39: ='5.Bev.össz_'!A41 -> KÖH (módosított előirányzat 2025.12.31) | B39: =SUM(B47) -> 0 | C39: =SUM(C47) -> 0 | D39: =SUM(D47) -> 0 | E39: =SUM(E47) -> 0 | F39: =SUM(F47) -> 0 | G39: =SUM(G47) -> 0 | H39: =SUM(H47) -> 0 | I39: =SUM(I47) -> 0 | J39: =SUM(J47) -> 0 | K39: =K47 -> 0 | L39: =L47 -> 0 | M39: =M47 -> 0 | N39: =K39+L39+M39 -> 0 | O39: =(N39+J39) -> 0 | P39: =P47 -> 30 | Q39: =Q47 -> 0 | R39: =R47 -> 0 | S39: =S47 -> 0 | T39: =T47 -> 0 | U39: =U47 -> 4 | V39: =V47 -> 0 | W39: =W47 -> 25 | X39: =X47 -> 1
A40: ='5.Bev.össz_'!A42 -> 0 | B40: =SUM(B48) -> 0 | C40: =SUM(C48) -> 0 | D40: =SUM(D48) -> 0 | E40: =SUM(E48) -> 0 | F40: =SUM(F48) -> 0 | G40: =SUM(G48) -> 0 | H40: =SUM(H48) -> 0 | I40: =SUM(I48) -> 0 | J40: =SUM(J48) -> 0 | K40: =K48 -> 0 | L40: =L48 -> 0 | M40: =M48 -> 0 | N40: =K40+L40+M40 -> 0 | O40: =(N40+J40) -> 0 | P40: =P48 -> 0
A41: ='5.Bev.össz_'!A43 -> KÖH: Teljesítés 2025.12.31. | B41: =SUM(B49) -> 0 | C41: =SUM(C49) -> 0 | D41: =SUM(D49) -> 0 | E41: =SUM(E49) -> 0 | F41: =SUM(F49) -> 0 | G41: =SUM(G49) -> 0 | H41: =SUM(H49) -> 0 | I41: =SUM(I49) -> 0 | J41: =SUM(J49) -> 0 | K41: =K49 -> 0 | L41: =L49 -> 0 | M41: =M49 -> 0 | N41: =K41+L41+M41 -> 0 | O41: =(N41+J41) -> 0 | P41: =P49 -> 0
A42: =A17 -> Kötelező teljesítés 2025.12.31. | B42: ='2.működés'!C127 -> 231133 | C42: ='2.működés'!C130 -> 29666 | D42: ='2.működés'!C133 -> 25680 | J42: =SUM(B42:I42) -> 286479 | K42: ='3.felh'!C72 -> 349 | N42: =SUM(K42:M42) -> 349 | O42: =J42+N42 -> 286828 | P42: =SUM(Q42:X42) -> 30 | Q42: 0 | R42: 0 | S42: 0 | T42: 0 | U42: 3 | V42: 0 | W42: 26 | X42: 1
A43: =A18 -> Kötelező (eredeti előirányzat 2026. év) | B43: =SUM('7.finanszírozás.'!D110) -> 299331 | C43: =SUM('7.finanszírozás.'!D118) -> 40800 | D43: =SUM('7.finanszírozás.'!D126) -> 30892 | J43: =SUM(B43:I43) -> 371023 | K43: ='7.finanszírozás.'!D134 -> 700 | N43: =SUM(K43:M43) -> 700 | O43: =SUM(J43+N43) -> 371723 | P43: =SUM(Q43:X43) -> 29 | Q43: 0 | R43: 0 | S43: 0 | T43: 0 | U43: 3 | V43: 0 | W43: 25 | X43: 1
A44: ='5.Bev.össz_'!A46 -> Kötelező (módosított előirányzat 2025.06. havi) | B44: =SUM('7.finanszírozás.'!D111) -> 297759 | C44: =SUM('7.finanszírozás.'!D119) -> 40800 | D44: =SUM('7.finanszírozás.'!D127) -> 30917 | J44: =SUM(B44:I44) -> 369476 | K44: ='7.finanszírozás.'!D135 -> 700 | N44: =SUM(K44:M44) -> 700 | O44: =SUM(J44+N44) -> 370176 | P44: =SUM(Q44:X44) -> 31 | Q44: 0 | R44: 0 | S44: 0 | T44: 0 | U44: 3 | V44: 0 | W44: 27 | X44: 1
A45: ='5.Bev.össz_'!A47 -> Kötelező (módosított előirányzat 2025.09.havi) | B45: =SUM('7.finanszírozás.'!D112) -> 0 | C45: =SUM('7.finanszírozás.'!D120) -> 0 | D45: =SUM('7.finanszírozás.'!D128) -> 0 | J45: =SUM(B45:I45) -> 0 | K45: ='7.finanszírozás.'!D136 -> 0 | N45: =SUM(K45:M45) -> 0 | O45: =SUM(J45+N45) -> 0 | P45: =SUM(Q45:X45) -> 31 | Q45: 0 | R45: 0 | S45: 0 | T45: 0 | U45: 3 | V45: 0 | W45: 27 | X45: 1
A46: ='5.Bev.össz_'!A48 -> Kötelező (módosított előirányzat 2025.12.havi) | B46: =SUM('7.finanszírozás.'!D113) -> 0 | C46: =SUM('7.finanszírozás.'!D121) -> 0 | D46: =SUM('7.finanszírozás.'!D129) -> 0 | J46: =SUM(B46:I46) -> 0 | K46: ='7.finanszírozás.'!D137 -> 0 | N46: =SUM(K46:M46) -> 0 | O46: =SUM(J46+N46) -> 0 | P46: =SUM(Q46:X46) -> 30 | Q46: 0 | R46: 0 | S46: 0 | T46: 0 | U46: 4 | V46: 0 | W46: 25 | X46: 1
A47: ='5.Bev.össz_'!A49 -> Kötelező (módosított előirányzat 2025.12.31) | B47: =SUM('7.finanszírozás.'!D114) -> 0 | C47: =SUM('7.finanszírozás.'!D122) -> 0 | D47: =SUM('7.finanszírozás.'!D130) -> 0 | J47: =SUM(B47:I47) -> 0 | K47: ='7.finanszírozás.'!D138 -> 0 | N47: =SUM(K47:M47) -> 0 | O47: =SUM(J47+N47) -> 0 | P47: =SUM(Q47:X47) -> 30 | Q47: 0 | R47: 0 | S47: 0 | T47: 0 | U47: 4 | V47: 0 | W47: 25 | X47: 1
A48: ='5.Bev.össz_'!A50 -> 0 | B48: =SUM('7.finanszírozás.'!D115) -> 0 | C48: =SUM('7.finanszírozás.'!D123) -> 0 | D48: =SUM('7.finanszírozás.'!D131) -> 0 | F48: ='7.finanszírozás.'!D155 -> 0 | J48: =SUM(B48:I48) -> 0 | K48: ='7.finanszírozás.'!D139 -> 0 | N48: =SUM(K48:M48) -> 0 | O48: =SUM(J48+N48) -> 0 | P48: =SUM(Q48:V48) -> 0
A49: ='5.Bev.össz_'!A51 -> Teljesítés 2025.12.31. | B49: =SUM('7.finanszírozás.'!D116) -> 0 | C49: =SUM('7.finanszírozás.'!D124) -> 0 | D49: =SUM('7.finanszírozás.'!D132) -> 0 | J49: =SUM(B49:I49) -> 0 | K49: ='7.finanszírozás.'!D140 -> 0 | N49: =SUM(K49:M49) -> 0 | O49: =SUM(J49+N49) -> 0 | P49: =SUM(Q49:V49) -> 0
A50: ='5.Bev.össz_'!A52 -> Önként vállalt (eredeti előirányzat 2026. év)
A51: ='5.Bev.össz_'!A53 -> Államigazgatási feladatok (eredeti előirányzat 2026. év)
A52: Önk.mindösszesen (Teljesítés 2025.12.31.) | B52: =B9+B34 -> 308647 | C52: =C9+C34 -> 38354 | D52: =D9+D34 -> 350568 | E52: =E9+E34 -> 6186 | F52: =F9+F34 -> 707464 | G52: =G9+G34 -> 240067 | H52: =H9+H34 -> 115874 | I52: =I9+I34 -> 0 | ... X52: =X9+X34 -> 1 | Z52: 240067
A53: ='5.Bev.össz_'!A55 -> Önk.mindösszesen (eredeti előirányzat 2026. év) | B53: =SUM(B10+B35) -> 373342 | C53: =SUM(C10+C35) -> 49611 | D53: =SUM(D10+D35) -> 622852 | E53: =SUM(E10+E35) -> 20000 | F53: =SUM(F10+F35) -> 741989 | G53: =SUM(G10+G35) -> 303813 | H53: =SUM(H10+H35) -> 121786 | I53: =SUM(I10+I35) -> 76000 | ... O53: =SUM(O10+O35) -> 3383631 | P53: =P10+P35 -> 41 | Q53: =Q10+Q35 -> 1 | R53: =R10+R35 -> 2 | S53: =S10+S35 -> 4 | T53: =T10+T35 -> 3 | U53: =U10+U35 -> 5 | V53: =V10+V35 -> 0 | W53: =W10+W35 -> 25 | X53: =X10+X35 -> 1 | Z53: =O52-Z52 -> 1888235
A54: ='5.Bev.össz_'!A56 -> Önk.mindösszesen (módosított ei. 2025.06. havi) | B54: =SUM(B11+B36) -> 372144 | C54: =SUM(C11+C36) -> 49681 | D54: =SUM(D11+D36) -> 475584 | E54: =SUM(E11+E36) -> 20000 | F54: =SUM(F11+F36) -> 754719 | G54: =SUM(G11+G36) -> 303813 | H54: =SUM(H11+H36) -> 129241 | I54: =SUM(I11+I36) -> 161402 | ... O54: =SUM(O11+O36) -> 3310492 | P54: =P11+P36 -> 43 | Q54: =Q11+Q36 -> 1 | R54: =R11+R36 -> 2 | S54: =S11+S36 -> 4 | T54: =T11+T36 -> 3 | U54: =U11+U36 -> 5 | V54: =V11+V36 -> 0 | W54: =W11+W36 -> 27 | X54: =X11+X36 -> 1
A55: ='5.Bev.össz_'!A57 -> Önk.mindösszesen (módosított ei. 2025.09. havi) | B55: =SUM(B12+B37) -> 0 | C55: =SUM(C12+C37) -> 0 | D55: =SUM(D12+D37) -> 0 | E55: =SUM(E12+E37) -> 0 | F55: =SUM(F12+F37) -> 0 | G55: =SUM(G12+G37) -> -5597 | H55: =SUM(H12+H37) -> 0 | I55: =SUM(I12+I37) -> 0 | ... O55: =SUM(O12+O37) -> -5597 | P55: =P12+P37 -> 43 | Q55: =Q12+Q37 -> 1 | R55: =R12+R37 -> 2 | S55: =S12+S37 -> 4 | T55: =T12+T37 -> 3 | U55: =U12+U37 -> 5 | V55: =V12+V37 -> 0 | W55: =W12+W37 -> 27 | X55: =X12+X37 -> 1
A56: ='5.Bev.össz_'!A58 -> Önk.mindösszesen (módosított ei. 2025.12. havi) | B56: =SUM(B13+B38) -> 0 | C56: =SUM(C13+C38) -> 0 | D56: =SUM(D13+D38) -> 0 | E56: =SUM(E13+E38) -> 0 | F56: =SUM(F13+F38) -> 0 | G56: =SUM(G13+G38) -> -5597 | H56: =SUM(H13+H38) -> 0 | I56: =SUM(I13+I38) -> 0 | ... O56: =SUM(O13+O38) -> -5597 | P56: =P13+P38 -> 42 | Q56: =Q13+Q38 -> 1 | R56: =R13+R38 -> 2 | S56: =S13+S38 -> 4 | T56: =T13+T38 -> 3 | U56: =U13+U38 -> 6 | V56: =V13+V38 -> 0 | W56: =W13+W38 -> 25 | X56: =X13+X38 -> 1
A57: ='5.Bev.össz_'!A59 -> Önk.mindösszesen (módosított ei. 2025.12.31) | B57: =SUM(B14+B39) -> 0 | C57: =SUM(C14+C39) -> 0 | D57: =SUM(D14+D39) -> 0 | E57: =SUM(E14+E39) -> 0 | F57: =SUM(F14+F39) -> 0 | G57: =SUM(G14+G39) -> -5597 | H57: =SUM(H14+H39) -> 0 | I57: =SUM(I14+I39) -> 0 | ... O57: =SUM(O14+O39) -> -5597 | P57: =P14+P39 -> 42 | Q57: =Q14+Q39 -> 1 | R57: =R14+R39 -> 2 | S57: =S14+S39 -> 4 | T57: =T14+T39 -> 3 | U57: =U14+U39 -> 6 | V57: =V14+V39 -> 0 | W57: =W14+W39 -> 25 | X57: =X14+X39 -> 1
A58: ='5.Bev.össz_'!A60 -> 0 | B58: =SUM(B15+B40) -> 0 | C58: =SUM(C15+C40) -> 0 | D58: =SUM(D15+D40) -> 0 | E58: =SUM(E15+E40) -> 0 | F58: =SUM(F15+F40) -> 0 | G58: =SUM(G15+G40) -> 0 | H58: =SUM(H15+H40) -> 0 | I58: =SUM(I15+I40) -> 0 | ... O58: =SUM(O15+O40) -> 0 | P58: =P15+P40 -> 0 | Q58: =Q15+Q40 -> 0 | R58: =R15+R40 -> 0 | S58: =S15+S40 -> 0 | T58: =T15+T40 -> 0 | U58: =U15+U40 -> 0 | V58: =V15+V40 -> 0 | W58: =W15+W40 -> 0 | X58: =X15+X40 -> 0
A59: ='5.Bev.össz_'!A61 -> Önk.mindösszesen (Teljesítés 2025.12.31.) | B59: =SUM(B16+B41) -> 0 | C59: =SUM(C16+C41) -> 0 | D59: =SUM(D16+D41) -> 0 | E59: =SUM(E16+E41) -> 0 | F59: =SUM(F16+F41) -> 0 | G59: =SUM(G16+G41) -> 246788 | H59: =SUM(H16+H41) -> 0 | I59: =SUM(I16+I41) -> 0 | ... O59: =SUM(O16+O41) -> 246788 | P59: =P16+P41 -> 0 | Q59: =Q16+Q41 -> 0 | R59: =R16+R41 -> 0 | S59: =S16+S41 -> 0 | T59: =T16+T41 -> 0 | U59: =U16+U41 -> 0 | V59: =V16+V41 -> 0 | W59: =W16+W41 -> 0 | X59: =X16+X41 -> 0
A60: intézményfinanszírozás | O60: =SUM('7.finanszírozás.'!F101) -> -303813 | Z60: ='1.Bev-kiad.'!C91 -> 1888235
A61: önkormányzati kiadások nettósítva | O61: =SUM(O53+O60) -> 3079818
O63: =O61-'5.Bev.össz_'!M63 -> 0

Sheet 7.finanszírozás.
F1: 7. melléklet
F2: ='1.Bev-kiad.'!F2 -> a 12/2026.(X.2.) önkormányzati rendelethez
F3: 7. melléklet az 5/2026.(II.23.) önkormányzati rendelethez
B5: Balatonföldvár Város Önkormányzatának 2026. évi intézményi szintű összes kiadásai, intézményfinanszírozása
F6: ezer Ft-ban
B7: Bevételek / kiadások | C7: Önkormányzat | D7: Intézmények | E7: Intézmények összesen | F7: Önkormányzat mindösszesen
D8: Önkormányzati hivatal
B9: Működési bevételek
B10: 2026. évi eredeti előirányzat | C10: =SUM('2.működés'!D8)-E10 -> 1957458 | D10: =SUM('9.Hivatal'!Y95+'9.Hivatal'!Y96+'9.Hivatal'!Y97+'9.Hivatal'!Y98) -> 59810 | E10: =SUM(D10:D10) -> 59810 | F10: =SUM(C10+E10) -> 2017268
B11: Módosított előirányzat 2026.10.hó | C11: =SUM('2.működés'!F8)-E11 -> 1826705 | D11: =SUM('9.Hivatal'!Z95+'9.Hivatal'!Z96+'9.Hivatal'!Z97+'9.Hivatal'!Z98) -> 58263 | E11: =SUM(D11:D11) -> 58263 | F11: =SUM(C11+E11) -> 1884968
B12: Módosított előirányzat 2025.09.hó | C12: =SUM('2.működés'!H8)-E12 -> #REF! | D12: =SUM('9.Hivatal'!AA95+'9.Hivatal'!AA96+'9.Hivatal'!AA97+'9.Hivatal'!AA98+'9.Hivatal'!#REF!) -> #REF! | E12: =SUM(D12:D12) -> #REF! | F12: =SUM(C12+E12) -> #REF!
B13: Módosított előirányzat 2025.12.hó | C13: =SUM('2.működés'!J8)-E13 -> -3550 | D13: =SUM('9.Hivatal'!AB95+'9.Hivatal'!AB96+'9.Hivatal'!AB97+'9.Hivatal'!AB98) -> 3550 | E13: =SUM(D13:D13) -> 3550 | F13: =SUM(C13+E13) -> 0
B14: Módosított előirányzat 2025.12.31 | C14: =SUM('2.működés'!L8)-E14 -> -3550 | D14: =SUM('9.Hivatal'!AC95+'9.Hivatal'!AC96+'9.Hivatal'!AC97+'9.Hivatal'!AC98) -> 3550 | E14: =SUM(D14:D14) -> 3550 | F14: =SUM(C14+E14) -> 0
B15: Beszámoló előtti ei.mód. | C15: =SUM('2.működés'!J10)-E15 -> #REF! | D15: =SUM('9.Hivatal'!AC96+'9.Hivatal'!AC97+'9.Hivatal'!#REF!+'9.Hivatal'!AC99+'9.Hivatal'!AC98) -> #REF! | E15: =SUM(D15:D15) -> #REF! | F15: =SUM(C15+E15) -> #REF!
B16: Teljesítés 2025.12.31. | C16: =SUM('2.működés'!M8)-E16 -> -52814 | D16: =SUM('9.Hivatal'!AD95+'9.Hivatal'!AD96+'9.Hivatal'!AD97+'9.Hivatal'!AD98) -> 52814 | E16: =SUM(D16:D16) -> 52814 | F16: =SUM(C16+E16) -> 0
B18: Felhalmozási célú bevételek
B19: =B10 -> 2026. évi eredeti előirányzat | C19: ='1.Bev-kiad.'!D17+'1.Bev-kiad.'!D41+'1.Bev-kiad.'!D51 -> 566937 | D19: 0 | E19: 0 | F19: =SUM(C19+E19) -> 566937
B20: =B11 -> Módosított előirányzat 2026.10.hó | C20: ='1.Bev-kiad.'!F17+'1.Bev-kiad.'!F41+'1.Bev-kiad.'!F51 -> 618643 | D20: 0 | E20: =SUM(D20:D20) -> 0 | F20: =SUM(C20+E20) -> 618643
B21: =B12 -> Módosított előirányzat 2025.09.hó | C21: ='1.Bev-kiad.'!H17+'1.Bev-kiad.'!H41+'1.Bev-kiad.'!H51 -> 0 | D21: 0 | E21: =SUM(D21:D21) -> 0 | F21: =SUM(C21+E21) -> 0
B22: =B13 -> Módosított előirányzat 2025.12.hó | C22: ='1.Bev-kiad.'!J17+'1.Bev-kiad.'!J41+'1.Bev-kiad.'!J51 -> 0 | D22: 0 | E22: =SUM(D22:D22) -> 0 | F22: =SUM(C22+E22) -> 0
B23: =B14 -> Módosított előirányzat 2025.12.31 | C23: ='1.Bev-kiad.'!L17+'1.Bev-kiad.'!L41+'1.Bev-kiad.'!L51 -> 0 | D23: 0 | E23: =SUM(D23:D23) -> 0 | F23: =SUM(C23+E23) -> 0
B24: =B15 -> Beszámoló előtti ei.mód. | D24: 0 | E24: =SUM(D24:D24) -> 0 | F24: =SUM(C24+E24) -> 0
B25: =B16 -> Teljesítés 2025.12.31. | C25: ='1.Bev-kiad.'!M17+'1.Bev-kiad.'!M41+'1.Bev-kiad.'!M51 -> 0 | D25: 0 | E25: =SUM(D25:D25) -> 0 | F25: =SUM(C25+E25) -> 0
B27: Finanszírozási bevételek
B28: =B19 -> 2026. évi eredeti előirányzat | C28: =SUM(C37+C69) -> 487513 | D28: =SUM(D51+D60+D37) -> 311913 | E28: =SUM(D28:D28) -> 311913 | F28: =SUM(C28+E28) -> 799426
B29: =B20 -> Módosított előirányzat 2026.10.hó | C29: =SUM(C38+C70) -> 494968 | D29: =SUM(D52+D61+D38) -> 311913 | E29: =SUM(D29:D29) -> 311913 | F29: =SUM(C29+E29) -> 806881
B30: =B21 -> Módosított előirányzat 2025.09.hó | C30: =SUM(C39+C71) -> -2047 | D30: =SUM(D53+D62+D39) -> -3550 | E30: =SUM(D30:D30) -> -3550 | F30: =SUM(C30+E30) -> -5597
B31: =B22 -> Módosított előirányzat 2025.12.hó | C31: =SUM(C40+C72)+C46 -> -2047 | D31: =SUM(D54+D63+D40) -> -3550 | E31: =SUM(D31:D31) -> -3550 | F31: =SUM(C31+E31) -> -5597
B32: =B23 -> Módosított előirányzat 2025.12.31 | C32: =SUM(C41+C73)+C47 -> -2047 | D32: =SUM(D55+D64+D41) -> -3550 | E32: =SUM(D32:D32) -> -3550 | F32: =SUM(C32+E32) -> -5597
B33: =B24 -> Beszámoló előtti ei.mód. | C33: =SUM(C42+C74)+C48 -> 0 | D33: =SUM(D56+D65+D42) -> 0 | E33: =SUM(D33:D33) -> 0 | F33: =SUM(C33+E33) -> 0
B34: =B25 -> Teljesítés 2025.12.31. | C34: =SUM(C43+C75)+C48 -> -2047 | D34: =SUM(D57+D66+D43) -> 248835 | E34: =SUM(D34:D34) -> 248835 | F34: =SUM(C34+E34) -> 246788
B36: Előző évi maradvány
B37: =B28 -> 2026. évi eredeti előirányzat | C37: =SUM('1.Bev-kiad.'!D57)-D37 -> 487513 | D37: =SUM('9.Hivatal'!Y92) -> 8100 | E37: =SUM(D37:D37) -> 8100 | F37: =SUM(C37+E37) -> 495613
B38: =B29 -> Módosított előirányzat 2026.10.hó | C38: =SUM('1.Bev-kiad.'!F57)-D38 -> 487513 | D38: =SUM('9.Hivatal'!Z92) -> 8100 | E38: =SUM(D38:D38) -> 8100 | F38: =SUM(C38+E38) -> 495613
B39: =B30 -> Módosított előirányzat 2025.09.hó | C39: =SUM('1.Bev-kiad.'!H57)-D39 -> -2047 | D39: =SUM('9.Hivatal'!AA92) -> 2047 | E39: =SUM(D39:D39) -> 2047 | F39: =SUM(C39+E39) -> 0
B40: =B31 -> Módosított előirányzat 2025.12.hó | C40: =SUM('1.Bev-kiad.'!J57)-D40 -> -2047 | D40: =SUM('9.Hivatal'!AB92) -> 2047 | E40: =SUM(D40:D40) -> 2047 | F40: =SUM(C40+E40) -> 0
B41: =B32 -> Módosított előirányzat 2025.12.31 | C41: =SUM('1.Bev-kiad.'!L57)-D41 -> -2047 | D41: =SUM('9.Hivatal'!AC92) -> 2047 | E41: =SUM(D41:D41) -> 2047 | F41: =SUM(C41+E41) -> 0
B42: =B33 -> Beszámoló előtti ei.mód. | E42: =SUM(D42:D42) -> 0 | F42: =SUM(C42+E42) -> 0
B43: =B34 -> Teljesítés 2025.12.31. | C43: =SUM('1.Bev-kiad.'!M57)-D43 -> -2047 | D43: =SUM('9.Hivatal'!AD92) -> 2047 | E43: =SUM(D43:D43) -> 2047 | F43: =SUM(C43+E43) -> 0
B45: ÁHB megelőlegezés
B46: =B13 -> Módosított előirányzat 2025.12.hó | C46: ='2.működés'!J119 -> 0 | D46: 0 | E46: =SUM(D46:D46) -> 0 | F46: =SUM(C46+E46) -> 0
B47: =B14 -> Módosított előirányzat 2025.12.31 | C47: ='2.működés'!L119 -> 0 | D47: 0 | E47: =SUM(D47:D47) -> 0 | F47: =SUM(C47+E47) -> 0
B48: =B43 -> Teljesítés 2025.12.31. | C48: ='2.működés'!M119 -> 0 | D48: 0 | E48: =SUM(D48:D48) -> 0 | F48: =SUM(C48+E48) -> 0
B50: Állami támogatás
B51: =B37 -> 2026. évi eredeti előirányzat | C51: 0 | D51: =SUM('9.Hivatal'!Y93)+'9.Hivatal'!Y94 -> 223855 | E51: =SUM(D51:D51) -> 223855 | F51: =SUM(C51+E51) -> 223855
B52: =B38 -> Módosított előirányzat 2026.10.hó | C52: 0 | D52: =SUM('9.Hivatal'!Z93)+'9.Hivatal'!Z94 -> 223855 | E52: =SUM(D52:D52) -> 223855 | F52: =SUM(C52+E52) -> 223855
B53: =B39 -> Módosított előirányzat 2025.09.hó | C53: 0 | D53: =SUM('9.Hivatal'!AA93) -> 166555 | E53: =SUM(D53:D53) -> 166555 | F53: =SUM(C53+E53) -> 166555
B54: =B40 -> Módosított előirányzat 2025.12.hó | C54: 0 | D54: =SUM('9.Hivatal'!AB93) -> 166555 | E54: =SUM(D54:D54) -> 166555 | F54: =SUM(C54+E54) -> 166555
B55: =B41 -> Módosított előirányzat 2025.12.31 | C55: 0 | D55: =SUM('9.Hivatal'!AC93) -> 166555 | E55: =SUM(D55:D55) -> 166555 | F55: =SUM(C55+E55) -> 166555
B56: =B42 -> Beszámoló előtti ei.mód. | D56: 0 | E56: =SUM(D56:D56) -> 0 | F56: =SUM(C56+E56) -> 0
B57: =B43 -> Teljesítés 2025.12.31. | C57: 0 | D57: =SUM('9.Hivatal'!AD93)+'9.Hivatal'!Y94 -> 173276 | E57: =SUM(D57:D57) -> 173276 | F57: =SUM(C57+E57) -> 173276
B59: Intézményfinanszírozás önkormányzati saját bevételből
B60: =B51 -> 2026. évi eredeti előirányzat | C60: 0 | D60: =SUM('9.Hivatal'!Y101) -> 79958 | E60: =SUM(D60:D60) -> 79958 | F60: =SUM(E60) -> 79958
B61: =B52 -> Módosított előirányzat 2026.10.hó | C61: 0 | D61: =SUM('9.Hivatal'!Z101) -> 79958 | E61: =SUM(D61:D61) -> 79958 | F61: =SUM(E61) -> 79958
B62: =B53 -> Módosított előirányzat 2025.09.hó | C62: 0 | D62: =SUM('9.Hivatal'!AA101) -> -172152 | E62: =SUM(D62:D62) -> -172152 | F62: =SUM(E62) -> -172152
B63: =B54 -> Módosított előirányzat 2025.12.hó | C63: 0 | D63: =SUM('9.Hivatal'!AB101) -> -172152 | E63: =SUM(D63:D63) -> -172152 | F63: =SUM(E63) -> -172152
B64: =B55 -> Módosított előirányzat 2025.12.31 | C64: 0 | D64: =SUM('9.Hivatal'!AC101) -> -172152 | E64: =SUM(D64:D64) -> -172152 | F64: =SUM(E64) -> -172152
B65: =B56 -> Beszámoló előtti ei.mód. | D65: 0 | E65: =SUM(D65:D65) -> 0 | F65: =SUM(E65) -> 0
B66: =B57 -> Teljesítés 2025.12.31. | C66: 0 | D66: =SUM('9.Hivatal'!AD101) -> 73512 | E66: =SUM(D66:D66) -> 73512 | F66: =SUM(E66) -> 73512
B68: Hitel felvétel/folyószámlahitel
B69: =B60 -> 2026. évi eredeti előirányzat | C69: =SUM('1.Bev-kiad.'!D61) -> 0 | D69: 0 | E69: =SUM(D69:D69) -> 0 | F69: =SUM(C69+E69) -> 0
B70: =B61 -> Módosított előirányzat 2026.10.hó | C70: ='1.Bev-kiad.'!F61 -> 7455 | D70: 0 | E70: =SUM(D70:D70) -> 0 | F70: =SUM(C70+E70) -> 7455
B71: =B62 -> Módosított előirányzat 2025.09.hó | C71: ='1.Bev-kiad.'!H62 -> 0 | D71: 0 | E71: =SUM(D71:D71) -> 0 | F71: =SUM(C71+E71) -> 0
B72: =B63 -> Módosított előirányzat 2025.12.hó | C72: ='1.Bev-kiad.'!H63 -> 0 | D72: 0 | E72: =SUM(D72:D72) -> 0 | F72: =SUM(C72+E72) -> 0
B73: =B64 -> Módosított előirányzat 2025.12.31 | C73: ='1.Bev-kiad.'!H64 -> 0 | D73: 0 | E73: =SUM(D73:D73) -> 0 | F73: =SUM(C73+E73) -> 0
B74: =B65 -> Beszámoló előtti ei.mód. | C74: ='1.Bev-kiad.'!M62 -> 0 | E74: =SUM(D74:D74) -> 0 | F74: =SUM(C74+E74) -> 0
B75: =B66 -> Teljesítés 2025.12.31. | C75: ='1.Bev-kiad.'!N62 -> 0 | D75: 0 | E75: =SUM(D75:D75) -> 0 | F75: =SUM(C75+E75) -> 0
B77: Bevételek összesen
B78: =B10 -> 2026. évi eredeti előirányzat | C78: =SUM(C10+C28+C19) -> 3011908 | D78: =SUM(D10+D28) -> 371723 | E78: =SUM(D78:D78) -> 371723 | F78: =SUM(C78+E78) -> 3383631
B79: =B11 -> Módosított előirányzat 2026.10.hó | C79: =SUM(C11+C29+C20) -> 2940316 | D79: =SUM(D11+D29) -> 370176 | E79: =SUM(D79:D79) -> 370176 | F79: =SUM(C79+E79) -> 3310492
B80: =B12 -> Módosított előirányzat 2025.09.hó | C80: =SUM(C12+C30+C21) -> #REF! | D80: =SUM(D12+D30) -> #REF! | E80: =SUM(D80:D80) -> #REF! | F80: =SUM(C80+E80) -> #REF!
B81: =B13 -> Módosított előirányzat 2025.12.hó | C81: =SUM(C13+C31+C22) -> -5597 | D81: =SUM(D13+D31) -> 0 | E81: =SUM(D81:D81) -> 0 | F81: =SUM(C81+E81) -> -5597
B82: =B14 -> Módosított előirányzat 2025.12.31 | C82: =SUM(C14+C32+C23) -> -5597 | D82: =SUM(D14+D32) -> 0 | E82: =SUM(D82:D82) -> 0 | F82: =SUM(C82+E82) -> -5597
B83: =B15 -> Beszámoló előtti ei.mód. | C83: =SUM(C15+C33+C24) -> #REF! | D83: =SUM(D15+D33) -> #REF! | E83: =SUM(D83:D83) -> #REF! | F83: =SUM(C83+E83) -> #REF!
B84: =B16 -> Teljesítés 2025.12.31. | C84: =SUM(C16+C34+C25) -> -54861 | D84: =SUM(D16+D34) -> 301649 | E84: =SUM(D84:D84) -> 301649 | F84: =SUM(C84+E84) -> 246788 | L84: =E84-E100 -> 301649
B85: Intézményfinanszírozás | F85: =-E51-E60 -> -303813
B86: =B79 -> Módosított előirányzat 2026.10.hó | F86: =-E52-E61 -> -303813
B87: =B80 -> Módosított előirányzat 2025.09.hó | F87: =-E53-E62 -> 5597
B88: =B81 -> Módosított előirányzat 2025.12.hó | F88: =-E54-E63 -> 5597
B89: =B82 -> Módosított előirányzat 2025.12.31 | F89: =-E55-E64 -> 5597
B90: =B83 -> Beszámoló előtti ei.mód. | F90: =-E56-E65 -> 0
B91: =B84 -> Teljesítés 2025.12.31. | F91: =-E57-E66 -> -246788
B92: Bevételek nettósítva összesen | F92: =SUM(F79+F86) -> 3006679
B93: Kiadások összesen
B94: =B78 -> 2026. évi eredeti előirányzat | C94: =SUM(C110+C118+C126+C134+C142+C150+C158+C166) -> 3011908 | D94: =SUM(D110+D118+D126+D134+D150) -> 371723 | E94: =SUM(D94:D94) -> 371723 | F94: =SUM(C94+E94) -> 3383631
B95: =B79 -> Módosított előirányzat 2026.10.hó | C95: =SUM(C111+C119+C127+C135+C143+C151+C159+C167) -> 2940316 | D95: =SUM(D111+D119+D127+D135+D151) -> 370176 | E95: =SUM(D95:D95) -> 370176 | F95: =SUM(C95+E95) -> 3310492
B96: =B80 -> Módosított előirányzat 2025.09.hó | C96: =SUM(C112+C120+C128+C136+C144+C152+C160+C168) -> -5597 | D96: =SUM(D112+D120+D128+D136+D152) -> 0 | E96: =SUM(D96:D96) -> 0 | F96: =SUM(C96+E96) -> -5597
B97: =B81 -> Módosított előirányzat 2025.12.hó | C97: =SUM(C113+C121+C129+C137+C145+C153+C161+C169) -> -5597 | D97: =SUM(D113+D121+D129+D137+D153) -> 0 | E97: =SUM(D97:D97) -> 0 | F97: =SUM(C97+E97) -> -5597
B98: =B82 -> Módosított előirányzat 2025.12.31 | C98: =SUM(C114+C122+C130+C138+C146+C154+C162+C170) -> -5597 | D98: =SUM(D114+D122+D130+D138+D154) -> 0 | E98: =SUM(D98:D98) -> 0 | F98: =SUM(C98+E98) -> -5597
B99: =B83 -> Beszámoló előtti ei.mód. | C99: =SUM(C115+C123+C131+C139+C147+C155+C163+C171) -> 0 | D99: =SUM(D115+D123+D131+D139+D155) -> 0 | E99: =SUM(D99:D99) -> 0 | F99: =SUM(C99+E99) -> 0
B100: =B84 -> Teljesítés 2025.12.31. | C100: =SUM(C116+C124+C132+C140+C148+C156+C164+C172) -> 246788 | D100: =SUM(D116+D124+D132+D140+D156) -> 0 | E100: =SUM(D100:D100) -> 0 | F100: =SUM(C100+E100) -> 246788
B101: =B85 -> Intézményfinanszírozás | F101: =F85 -> -303813
B102: =B86 -> Módosított előirányzat 2026.10.hó | F102: =F86 -> -303813
B103: =B87 -> Módosított előirányzat 2025.09.hó | F103: =F87 -> 5597
B104: =B88 -> Módosított előirányzat 2025.12.hó | F104: =F88 -> 5597
B105: =B89 -> Módosított előirányzat 2025.12.31 | F105: =F89 -> 5597
B106: =B90 -> Beszámoló előtti ei.mód. | F106: =F90 -> 0
B107: =B91 -> Teljesítés 2025.12.31. | F107: =F91 -> -246788
B108: Kiadások nettósítva összesen | F108: =SUM(F95+F102) -> 3006679
B109: Személyi jellegű kiadások
...

Sheet 8.Önk.
BV1: 8. melléklet
BV2: ='1.Bev-kiad.'!F2 -> a 12/2026.(X.2.) önkormányzati rendelethez
BV3: 8. melléklet az 5/2026.(II.23.) önkormányzati rendelethez
B5: Balatonföldvár Város Önkormányzata
B6: 2026. évi költségvetési kiadásainak részletezése kormányzati funkciók szerint
B7: (önkormányzat)
B8: 27790 | BV8: ezer Ft-ban
A9: Rovat | B9: Kiadások | C9: 011130 Önk. és önk.-i hivatalok jogalkotói és ált. igazgatási tev.-e | P9: 064010 Közvilágítás | W9: 062020 Településfejlesztési projektek és támogatásuk; 066020 Város-, községgazdálkodási egyéb szolgáltatások | AD9: 013350 Önk.-i vagyonnal való gazdálkodással kapcs. fel. 045160 Közutak, hidak, alagutak üzemeltetése, fenntartása | AK9: 107051 Szociális étkeztetés; 107060 Ellátottak pénzbeli juttatásai | BF9: 072111, 074011, 072112, 072420, 072450 Egészségügyi ellátások | BM9: 082044 Könyvtári szolgáltatások; 082092 Közművelődési feladatok; 046020 Vezetékes műsorelosztás, kábel TV | BT9: Működési kiadások összesen
C10: 2025. évi teljesítés | D10: 2026. évi eredeti ei. | E10: mód.ei. 2026.10.hó | J10: =C10 -> 2025. évi teljesítés | K10: =E10 -> mód.ei. 2026.10.hó | L10: =F10 -> 0 | M10: =G10 -> 0 | O10: =I10 -> 0 | P10: =C10 -> 2025. évi teljesítés | Q10: =D10 -> 2026. évi eredeti ei. | R10: =E10 -> mód.ei. 2026.10.hó | S10: =F10 -> 0 | T10: =G10 -> 0 | U10: =H10 -> 0 | V10: =I10 -> 0 | W10: =C10 -> 2025. évi teljesítés | X10: =D10 -> 2026. évi eredeti ei. | Y10: =E10 -> mód.ei. 2026.10.hó | Z10: =F10 -> 0 | AA10: =G10 -> 0 | AB10: =H10 -> 0 | AC10: =O10 -> 0 | AD10: =C10 -> 2025. évi teljesítés | AE10: =D10 -> 2026. évi eredeti ei. | AF10: =E10 -> mód.ei. 2026.10.hó | AG10: =F10 -> 0 | AH10: =G10 -> 0 | AI10: =H10 -> 0 | AJ10: =I10 -> 0 | AK10: =C10 -> 2025. évi teljesítés | AL10: =D10 -> 2026. évi eredeti ei. | AM10: =E10 -> mód.ei. 2026.10.hó | AN10: =F10 -> 0 | AO10: =G10 -> 0 | AP10: =H10 -> 0 | AQ10: =I10 -> 0 | AR10: =C10 -> 2025. évi teljesítés | AT10: =E10 -> mód.ei. 2026.10.hó | AU10: =F10 -> 0 | AV10: =G10 -> 0 | AX10: =I10 -> 0 | AY10: =C10 -> 2025. évi teljesítés | BA10: =E10 -> mód.ei. 2026.10.hó | BB10: =F10 -> 0 | BC10: =G10 -> 0 | BE10: =I10 -> 0 | BF10: =AK10 -> 2025. évi teljesítés | BG10: =AL10 -> 2026. évi eredeti ei. | BH10: =AM10 -> mód.ei. 2026.10.hó | BI10: =AN10 -> 0 | BJ10: =AO10 -> 0 | BK10: =AP10 -> 0 | BL10: =AQ10 -> 0 | BM10: =C10 -> 2025. évi teljesítés | BN10: =D10 -> 2026. évi eredeti ei. | BO10: =E10 -> mód.ei. 2026.10.hó | BP10: =F10 -> 0 | BQ10: =G10 -> 0 | BR10: =H10 -> 0 | BS10: =I10 -> 0 | BT10: =C10 -> 2025. évi teljesítés | BU10: =D10 -> 2026. évi eredeti ei. | BV10: =E10 -> mód.ei. 2026.10.hó | BW10: =F10 -> 0 | BX10: =G10 -> 0 | BY10: =H10 -> 0 | BZ10: =I10 -> 0
A11: K11 | B11: Foglalkoztatottak személyi juttatásai | C11: =SUM(C12:C19) -> 0 | D11: =SUM(D12:D19) -> 0 | E11: =SUM(E12:E19) -> 0 | F11: =SUM(F12:F19) -> 0 | G11: =SUM(G12:G19) -> 0 | H11: =SUM(H12:H19) -> 0 | I11: =SUM(I12:I19) -> 0 | J11: =SUM(J12:J19) -> 0 | ... M11: =SUM(M12:M19) -> 0 | O11: =SUM(O12:O19) -> 0 | P11: =SUM(P12:P19) -> 0 | Q11: =SUM(Q12:Q19) -> 0 | R11: =SUM(R12:R19) -> 0 | S11: =SUM(S12:S19) -> 0 | T11: =SUM(T12:T19) -> 0 | U11: =SUM(U12:U19) -> 0 | V11: =SUM(V12:V19) -> 0 | ... AR11: =SUM(AR12:AR19) -> 0 | AT11: =SUM(AT12:AT19) -> 0 | AU11: =SUM(AU12:AU19) -> 0 | AV11: =SUM(AV12:AV19) -> 0 | AX11: =SUM(AX12:AX19) -> 0 | AY11: =SUM(AY12:AY19) -> 0 | BA11: =SUM(BA12:BA19) -> 0 | BB11: =SUM(BB12:BB19) -> 0 | BC11: =SUM(BC12:BC19) -> 0 | BE11: =SUM(BE12:BE19) -> 0 | BF11: =SUM(BF12:BF19) -> 4259 | BG11: =SUM(BG12:BG19) -> 4750 | BH11: =SUM(BH12:BH19) -> 4723 | BI11: =SUM(BI12:BI19) -> 0 | BJ11: =SUM(BJ12:BJ19) -> 0 | BK11: =SUM(BK12:BK19) -> 0 | BL11: =SUM(BL12:BL19) -> 0 | ... BS11: =SUM(BS12:BS19) -> 0 | BT11: =C11+J11+P11+W11+AD11+AK11+AR11+AY11+BF11+BM11 -> 23661 | BU11: =D11+K11+Q11+X11+AE11+AL11+AS11+AZ11+BG11+BN11 -> 24169 | BV11: =E11+K11+R11+Y11+AF11+AM11+AT11+BA11+BH11+BO11 -> 24169 | BW11: =F11+L11+S11+Z11+AG11+AN11+AU11+BB11+BI11+BP11 -> 0 | BX11: =G11+M11+T11+AA11+AH11+AO11+AV11+BC11+BJ11+BQ11 -> 0 | BY11: =H11+N11+U11+AB11+AI11+AP11+AW11+BD11+BK11+BR11 -> 0 | BZ11: =I11+O11+V11+AC11+AJ11+AQ11+AX11+BE11+BL11+BS11 -> 0
A12: 1101 | B12: Törvény szerinti illetmények, munkabérek | AD12: 9990 | AE12: 9797 | AF12: =9797-680 -> 9117 | AG12: 0 | AH12: 0 | AI12: 0 | AJ12: 0 | AK12: 2599 | AL12: 2881 | AM12: =2881+680 -> 3561 | AN12: 0 | AO12: 0 | AP12: 0 | AQ12: 0 | BF12: 4163 | BG12: 4454 | BH12: 4454 | BI12: 0 | BJ12: 0 | BK12: 0 | BL12: 0 | BM12: 5146 | BN12: 5881 | BO12: 5881 | BP12: 0 | BQ12: 0 | BR12: 0 | BS12: 0 | BT12: =C12+J12+P12+W12+AD12+AK12+AR12+AY12+BF12+BM12 -> 21898 | BU12: =D12+K12+Q12+X12+AE12+AL12+AS12+AZ12+BG12+BN12 -> 23013 | BV12: =E12+K12+R12+Y12+AF12+AM12+AT12+BA12+BH12+BO12 -> 23013 | BW12: =F12+L12+S12+Z12+AG12+AN12+AU12+BB12+BI12+BP12 -> 0 | BX12: =G12+M12+T12+AA12+AH12+AO12+AV12+BC12+BJ12+BQ12 -> 0 | BY12: =H12+N12+U12+AB12+AI12+AP12+AW12+BD12+BK12+BR12 -> 0 | BZ12: =I12+O12+V12+AC12+AJ12+AQ12+AX12+BE12+BL12+BS12 -> 0
A13: 1104 | B13: Készenléti, ügyeleti, helyettesítési díj, túlóra | AG13: 0 | AH13: 0 | AI13: 0 | AJ13: 0 | BT13: =C13+J13+P13+W13+AD13+AK13+AR13+AY13+BF13+BM13 -> 0 | BU13: =D13+K13+Q13+X13+AE13+AL13+AS13+AZ13+BG13+BN13 -> 0 | BV13: =E13+K13+R13+Y13+AF13+AM13+AT13+BA13+BH13+BO13 -> 0 | BW13: =F13+L13+S13+Z13+AG13+AN13+AU13+BB13+BI13+BP13 -> 0 | BX13: =G13+M13+T13+AA13+AH13+AO13+AV13+BC13+BJ13+BQ13 -> 0 | BY13: =H13+N13+U13+AB13+AI13+AP13+AW13+BD13+BK13+BR13 -> 0 | BZ13: =I13+O13+V13+AC13+AJ13+AQ13+AX13+BE13+BL13+BS13 -> 0
A14: 1106 | B14: Jubileumi jutalom | BM14: 1046 | BN14: 0 | BO14: 0 | BT14: =C14+J14+P14+W14+AD14+AK14+AR14+AY14+BF14+BM14 -> 1046 | BU14: =D14+K14+Q14+X14+AE14+AL14+AS14+AZ14+BG14+BN14 -> 0 | BV14: =E14+K14+R14+Y14+AF14+AM14+AT14+BA14+BH14+BO14 -> 0 | BW14: =F14+L14+S14+Z14+AG14+AN14+AU14+BB14+BI14+BP14 -> 0 | BX14: =G14+M14+T14+AA14+AH14+AO14+AV14+BC14+BJ14+BQ14 -> 0 | BY14: =H14+N14+U14+AB14+AI14+AP14+AW14+BD14+BK14+BR14 -> 0 | BZ14: =I14+O14+V14+AC14+AJ14+AQ14+AX14+BE14+BL14+BS14 -> 0
A15: 1107 | B15: Cafeteria | AD15: 216 | AE15: 192 | AF15: 192 | AG15: 0 | AH15: 0 | AI15: 0 | AJ15: 0 | AK15: 72 | AL15: 72 | AM15: 72 | AN15: 0 | AO15: 0 | AP15: 0 | AQ15: 0 | BF15: 96 | BG15: 96 | BH15: 96 | BI15: 0 | BJ15: 0 | BK15: 0 | BL15: 0 | BM15: 96 | BN15: 96 | BO15: 96 | BP15: 0 | BQ15: 0 | BR15: 0 | BS15: 0 | BT15: =C15+J15+P15+W15+AD15+AK15+AR15+AY15+BF15+BM15 -> 480 | BU15: =D15+K15+Q15+X15+AE15+AL15+AS15+AZ15+BG15+BN15 -> 456 | BV15: =E15+K15+R15+Y15+AF15+AM15+AT15+BA15+BH15+BO15 -> 456 | BW15: =F15+L15+S15+Z15+AG15+AN15+AU15+BB15+BI15+BP15 -> 0 | BX15: =G15+M15+T15+AA15+AH15+AO15+AV15+BC15+BJ15+BQ15 -> 0 | BY15: =H15+N15+U15+AB15+AI15+AP15+AW15+BD15+BK15+BR15 -> 0 | BZ15: =I15+O15+V15+AC15+AJ15+AQ15+AX15+BE15+BL15+BS15 -> 0
A16: 1109 | B16: Közlekedési költségtérítés | BT16: =C16+J16+P16+W16+AD16+AK16+AR16+AY16+BF16+BM16 -> 0 | BU16: =D16+K16+Q16+X16+AE16+AL16+AS16+AZ16+BG16+BN16 -> 0 | BV16: =E16+K16+R16+Y16+AF16+AM16+AT16+BA16+BH16+BO16 -> 0 | BW16: =F16+L16+S16+Z16+AG16+AN16+AU16+BB16+BI16+BP16 -> 0 | BX16: =G16+M16+T16+AA16+AH16+AO16+AV16+BC16+BJ16+BQ16 -> 0 | BY16: =H16+N16+U16+AB16+AI16+AP16+AW16+BD16+BK16+BR16 -> 0 | BZ16: =I16+O16+V16+AC16+AJ16+AQ16+AX16+BE16+BL16+BS16 -> 0
A17: 1113 | B17: Egyéb személyi juttatás (betegszabadság, táppénz) | AD17: 237 | AE17: 200 | AF17: =200+47 -> 247 | AG17: 0 | AH17: 0 | AI17: 0 | AJ17: 0 | AK17: 0 | AL17: 150 | AM17: 150 | AN17: 0 | AO17: 0 | AP17: 0 | AQ17: 0 | BF17: 0 | BG17: 200 | BH17: =200-27 -> 173 | BI17: 0 | BJ17: 0 | BK17: 0 | BL17: 0 | BM17: 0 | BN17: 150 | BO17: =150-20 -> 130 | BP17: 0 | BQ17: 0 | BR17: 0 | BS17: 0 | BT17: =C17+J17+P17+W17+AD17+AK17+AR17+AY17+BF17+BM17 -> 237 | BU17: =D17+K17+Q17+X17+AE17+AL17+AS17+AZ17+BG17+BN17 -> 700 | BV17: =E17+K17+R17+Y17+AF17+AM17+AT17+BA17+BH17+BO17 -> 700 | BW17: =F17+L17+S17+Z17+AG17+AN17+AU17+BB17+BI17+BP17 -> 0 | BX17: =G17+M17+T17+AA17+AH17+AO17+AV17+BC17+BJ17+BQ17 -> 0 | BY17: =H17+N17+U17+AB17+AI17+AP17+AW17+BD17+BK17+BR17 -> 0 | BZ17: =I17+O17+V17+AC17+AJ17+AQ17+AX17+BE17+BL17+BS17 -> 0
M18: 0 | O18: 0 | BT18: =C18+J18+P18+W18+AD18+AK18+AR18+AY18+BF18+BM18 -> 0 | BU18: =D18+K18+Q18+X18+AE18+AL18+AS18+AZ18+BG18+BN18 -> 0 | BV18: =E18+K18+R18+Y18+AF18+AM18+AT18+BA18+BH18+BO18 -> 0 | BW18: =F18+L18+S18+Z18+AG18+AN18+AU18+BB18+BI18+BP18 -> 0 | BX18: =G18+M18+T18+AA18+AH18+AO18+AV18+BC18+BJ18+BQ18 -> 0 | BY18: =H18+N18+U18+AB18+AI18+AP18+AW18+BD18+BK18+BR18 -> 0 | BZ18: =I18+O18+V18+AC18+AJ18+AQ18+AX18+BE18+BL18+BS18 -> 0
BT19: =C19+J19+P19+W19+AD19+AK19+AR19+AY19+BF19+BM19 -> 0 | BU19: =D19+K19+Q19+X19+AE19+AL19+AS19+AZ19+BG19+BN19 -> 0 | BV19: =E19+K19+R19+Y19+AF19+AM19+AT19+BA19+BH19+BO19 -> 0 | BW19: =F19+L19+S19+Z19+AG19+AN19+AU19+BB19+BI19+BP19 -> 0 | BX19: =G19+M19+T19+AA19+AH19+AO19+AV19+BC19+BJ19+BQ19 -> 0 | BY19: =H19+N19+U19+AB19+AI19+AP19+AW19+BD19+BK19+BR19 -> 0 | BZ19: =I19+O19+V19+AC19+AJ19+AQ19+AX19+BE19+BL19+BS19 -> 0
A20: K12 | B20: Külső személyi juttatások | C20: =SUM(C21:C31) -> 49758 | D20: =SUM(D21:D31) -> 44580 | E20: =SUM(E21:E31) -> 44954 | F20: =SUM(F21:F31) -> 0 | G20: =SUM(G21:G31) -> 0 | H20: =SUM(H21:H31) -> 0 | I20: =SUM(I21:I31) -> 0 | J20: =SUM(J21:J31) -> 0 | ... M20: =SUM(M21:M31) -> 0 | O20: =SUM(O21:O31) -> 0 | P20: =SUM(P21:P31) -> 0 | Q20: =SUM(Q21:Q31) -> 0 | R20: =SUM(R21:R31) -> 0 | S20: =SUM(S21:S31) -> 0 | T20: =SUM(T21:T31) -> 0 | U20: =SUM(U21:U31) -> 0 | V20: =SUM(V21:V31) -> 0 | ... AR20: =SUM(AR21:AR31) -> 0 | AT20: =SUM(AT21:AT31) -> 0 | AU20: =SUM(AU21:AU31) -> 0 | AV20: =SUM(AV21:AV31) -> 0 | AX20: =SUM(AX21:AX31) -> 0 | AY20: =SUM(AY21:AY31) -> 0 | BA20: =SUM(BA21:BA31) -> 0 | BB20: =SUM(BB21:BB31) -> 0 | BC20: =SUM(BC21:BC31) -> 0 | BE20: =SUM(BE21:BE31) -> 0 | BF20: =SUM(BF21:BF31) -> 412 | BG20: =SUM(BG21:BG31) -> 1500 | BH20: =SUM(BH21:BH31) -> 1481 | BI20: =SUM(BI21:BI31) -> 0 | BJ20: =SUM(BJ21:BJ31) -> 0 | BK20: =SUM(BK21:BK31) -> 0 | BL20: =SUM(BL21:BL31) -> 0 | ... BS20: =SUM(BS21:BS31) -> 0 | BT20: =C20+J20+P20+W20+AD20+AK20+AR20+AY20+BF20+BM20 -> 53853 | BU20: =D20+K20+Q20+X20+AE20+AL20+AS20+AZ20+BG20+BN20 -> 49842 | BV20: =E20+K20+R20+Y20+AF20+AM20+AT20+BA20+BH20+BO20 -> 50216 | BW20: =F20+L20+S20+Z20+AG20+AN20+AU20+BB20+BI20+BP20 -> 0 | BX20: =G20+M20+T20+AA20+AH20+AO20+AV20+BC20+BJ20+BQ20 -> 0 | BY20: =H20+N20+U20+AB20+AI20+AP20+AW20+BD20+BK20+BR20 -> 0 | BZ20: =I20+O20+V20+AC20+AJ20+AQ20+AX20+BE20+BL20+BS20 -> 0
A21: 121 | B21: Polgármester illetménye, jutalma, szabadságmegváltás | C21: 21320 | D21: 18019 | E21: 18019 | F21: 0 | G21: 0 | H21: 0 | I21: 0 | BT21: =C21+J21+P21+W21+AD21+AK21+AR21+AY21+BF21+BM21 -> 21320 | BU21: =D21+K21+Q21+X21+AE21+AL21+AS21+AZ21+BG21+BN21 -> 18019 | BV21: =E21+K21+R21+Y21+AF21+AM21+AT21+BA21+BH21+BO21 -> 18019 | BW21: =F21+L21+S21+Z21+AG21+AN21+AU21+BB21+BI21+BP21 -> 0 | BX21: =G21+M21+T21+AA21+AH21+AO21+AV21+BC21+BJ21+BQ21 -> 0 | BY21: =H21+N21+U21+AB21+AI21+AP21+AW21+BD21+BK21+BR21 -> 0 | BZ21: =I21+O21+V21+AC21+AJ21+AQ21+AX21+BE21+BL21+BS21 -> 0
A22: 121 | B22: Költségtérítés (polgármester, alpolgármesterek) | C22: 4136 | D22: 4143 | E22: =4143-1726 -> 2417 | F22: 0 | G22: 0 | H22: 0 | I22: 0 | BT22: =C22+J22+P22+W22+AD22+AK22+AR22+AY22+BF22+BM22 -> 4136 | BU22: =D22+K22+Q22+X22+AE22+AL22+AS22+AZ22+BG22+BN22 -> 4143 | BV22: =E22+K22+R22+Y22+AF22+AM22+AT22+BA22+BH22+BO22 -> 2417 | BW22: =F22+L22+S22+Z22+AG22+AN22+AU22+BB22+BI22+BP22 -> 0 | BX22: =G22+M22+T22+AA22+AH22+AO22+AV22+BC22+BJ22+BQ22 -> 0 | BY22: =H22+N22+U22+AB22+AI22+AP22+AW22+BD22+BK22+BR22 -> 0 | BZ22: =I22+O22+V22+AC22+AJ22+AQ22+AX22+BE22+BL22+BS22 -> 0
A23: 121 | B23: Alpolgármesteri tiszteletdíjak | C23: 9693 | D23: 9600 | E23: 9600 | F23: 0 | G23: 0 | H23: 0 | I23: 0 | BT23: =C23+J23+P23+W23+AD23+AK23+AR23+AY23+BF23+BM23 -> 9693 | BU23: =D23+K23+Q23+X23+AE23+AL23+AS23+AZ23+BG23+BN23 -> 9600 | BV23: =E23+K23+R23+Y23+AF23+AM23+AT23+BA23+BH23+BO23 -> 9600 | BW23: =F23+L23+S23+Z23+AG23+AN23+AU23+BB23+BI23+BP23 -> 0 | BX23: =G23+M23+T23+AA23+AH23+AO23+AV23+BC23+BJ23+BQ23 -> 0 | BY23: =H23+N23+U23+AB23+AI23+AP23+AW23+BD23+BK23+BR23 -> 0 | BZ23: =I23+O23+V23+AC23+AJ23+AQ23+AX23+BE23+BL23+BS23 -> 0
A24: 121 | B24: Cafeteria | C24: 188 | D24: 188 | E24: 188 | F24: 0 | G24: 0 | H24: 0 | I24: 0 | BT24: =C24+J24+P24+W24+AD24+AK24+AR24+AY24+BF24+BM24 -> 188 | BU24: =D24+K24+Q24+X24+AE24+AL24+AS24+AZ24+BG24+BN24 -> 188 | BV24: =E24+K24+R24+Y24+AF24+AM24+AT24+BA24+BH24+BO24 -> 188 | BW24: =F24+L24+S24+Z24+AG24+AN24+AU24+BB24+BI24+BP24 -> 0 | BX24: =G24+M24+T24+AA24+AH24+AO24+AV24+BC24+BJ24+BQ24 -> 0 | BY24: =H24+N24+U24+AB24+AI24+AP24+AW24+BD24+BK24+BR24 -> 0 | BZ24: =I24+O24+V24+AC24+AJ24+AQ24+AX24+BE24+BL24+BS24 -> 0
A25: 121 | B25: Képviselői, bizottsági tagi tiszteletdíjak | C25: 7136 | D25: 6240 | E25: 6240 | F25: 0 | G25: 0 | H25: 0 | I25: 0 | BT25: =C25+J25+P25+W25+AD25+AK25+AR25+AY25+BF25+BM25 -> 7136 | BU25: =D25+K25+Q25+X25+AE25+AL25+AS25+AZ25+BG25+BN25 -> 6240 | BV25: =E25+K25+R25+Y25+AF25+AM25+AT25+BA25+BH25+BO25 -> 6240 | BW25: =F25+L25+S25+Z25+AG25+AN25+AU25+BB25+BI25+BP25 -> 0 | BX25: =G25+M25+T25+AA25+AH25+AO25+AV25+BC25+BJ25+BQ25 -> 0 | BY25: =H25+N25+U25+AB25+AI25+AP25+AW25+BD25+BK25+BR25 -> 0 | BZ25: =I25+O25+V25+AC25+AJ25+AQ25+AX25+BE25+BL25+BS25 -> 0
A26: 121 | B26: Otthonteremtési támogatás | C26: 0 | D26: 1000 | E26: 1000 | F26: 0 | G26: 0 | H26: 0 | I26: 0 | BT26: =C26+J26+P26+W26+AD26+AK26+AR26+AY26+BF26+BM26 -> 0 | BU26: =D26+K26+Q26+X26+AE26+AL26+AS26+AZ26+BG26+BN26 -> 1000 | BV26: =E26+K26+R26+Y26+AF26+AM26+AT26+BA26+BH26+BO26 -> 1000 | BW26: =F26+L26+S26+Z26+AG26+AN26+AU26+BB26+BI26+BP26 -> 0 | BX26: =G26+M26+T26+AA26+AH26+AO26+AV26+BC26+BJ26+BQ26 -> 0 | BY26: =H26+N26+U26+AB26+AI26+AP26+AW26+BD26+BK26+BR26 -> 0 | BZ26: =I26+O26+V26+AC26+AJ26+AQ26+AX26+BE26+BL26+BS26 -> 0
A27: 122 | B27: Megbízási díj (Boldog Békeidők pályázat) | C27: 5040 | D27: 2940 | E27: =2940+2100 -> 5040 | F27: 0 | G27: 0 | H27: 0 | I27: 0 | BT27: =C27+J27+P27+W27+AD27+AK27+AR27+AY27+BF27+BM27 -> 5040 | BU27: =D27+K27+Q27+X27+AE27+AL27+AS27+AZ27+BG27+BN27 -> 2940 | BV27: =E27+K27+R27+Y27+AF27+AM27+AT27+BA27+BH27+BO27 -> 5040 | BW27: =F27+L27+S27+Z27+AG27+AN27+AU27+BB27+BI27+BP27 -> 0 | BX27: =G27+M27+T27+AA27+AH27+AO27+AV27+BC27+BJ27+BQ27 -> 0 | BY27: =H27+N27+U27+AB27+AI27+AP27+AW27+BD27+BK27+BR27 -> 0 | BZ27: =I27+O27+V27+AC27+AJ27+AQ27+AX27+BE27+BL27+BS27 -> 0
A28: 122 | B28: Megbízási díj (városi zenekari feladatok, piacfelügyelet, helyettesítés) | C28: 600 | D28: 600 | E28: 600 | F28: 0 | G28: 0 | H28: 0 | I28: 0 | W28: 1398 | X28: 1537 | Y28: =1537+26 -> 1563 | Z28: 0 | AA28: 0 | AB28: 0 | AC28: 0 | AK28: 189 | AL28: 225 | AM28: =225-7 -> 218 | AN28: 0 | AO28: 0 | AP28: 0 | AQ28: 0 | BF28: 412 | BG28: =400+100 -> 500 | BH28: =400+100-19 -> 481 | BI28: 0 | BJ28: 0 | BK28: 0 | BL28: 0 | BT28: =C28+J28+P28+W28+AD28+AK28+AR28+AY28+BF28+BM28 -> 2599 | BU28: =D28+K28+Q28+X28+AE28+AL28+AS28+AZ28+BG28+BN28 -> 2862 | BV28: =E28+K28+R28+Y28+AF28+AM28+AT28+BA28+BH28+BO28 -> 2862 | BW28: =F28+L28+S28+Z28+AG28+AN28+AU28+BB28+BI28+BP28 -> 0 | BX28: =G28+M28+T28+AA28+AH28+AO28+AV28+BC28+BJ28+BQ28 -> 0 | BY28: =H28+N28+U28+AB28+AI28+AP28+AW28+BD28+BK28+BR28 -> 0 | BZ28: =I28+O28+V28+AC28+AJ28+AQ28+AX28+BE28+BL28+BS28 -> 0
A29: 122 | B29: Megbízási díj (élatfa) | C29: 501 | D29: 550 | E29: 550 | F29: 0 | G29: 0 | H29: 0 | I29: 0 | BT29: =C29+J29+P29+W29+AD29+AK29+AR29+AY29+BF29+BM29 -> 501 | BU29: =D29+K29+Q29+X29+AE29+AL29+AS29+AZ29+BG29+BN29 -> 550 | BV29: =E29+K29+R29+Y29+AF29+AM29+AT29+BA29+BH29+BO29 -> 550 | BW29: =F29+L29+S29+Z29+AG29+AN29+AU29+BB29+BI29+BP29 -> 0 | BX29: =G29+M29+T29+AA29+AH29+AO29+AV29+BC29+BJ29+BQ29 -> 0 | BY29: =H29+N29+U29+AB29+AI29+AP29+AW29+BD29+BK29+BR29 -> 0 | BZ29: =I29+O29+V29+AC29+AJ29+AQ29+AX29+BE29+BL29+BS29 -> 0
A30: 123 | B30: Reprezentációs kiadás | C30: 1144 | D30: 1300 | E30: 1300 | F30: 0 | G30: 0 | H30: 0 | I30: 0 | BM30: 2096 | BN30: 2000 | BO30: 2000 | BT30: =C30+J30+P30+W30+AD30+AK30+AR30+AY30+BF30+BM30 -> 3240 | BU30: =D30+K30+Q30+X30+AE30+AL30+AS30+AZ30+BG30+BN30 -> 3300 | BV30: =E30+K30+R30+Y30+AF30+AM30+AT30+BA30+BH30+BO30 -> 3300 | BW30: =F30+L30+S30+Z30+AG30+AN30+AU30+BB30+BI30+BP30 -> 0 | BX30: =G30+M30+T30+AA30+AH30+AO30+AV30+BC30+BJ30+BQ30 -> 0 | BY30: =H30+N30+U30+AB30+AI30+AP30+AW30+BD30+BK30+BR30 -> 0 | BZ30: =I30+O30+V30+AC30+AJ30+AQ30+AX30+BE30+BL30+BS30 -> 0
A31: 123 | B31: Otthonteremtési támogatás (nem saját foglalkoztatott) | BF31: 0 | BG31: 1000 | BH31: 1000 | BT31: =C31+J31+P31+W31+AD31+AK31+AR31+AY31+BF31+BM31 -> 0 | BU31: =D31+K31+Q31+X31+AE31+AL31+AS31+AZ31+BG31+BN31 -> 1000 | BV31: =E31+K31+R31+Y31+AF31+AM31+AT31+BA31+BH31+BO31 -> 1000 | BW31: =F31+L31+S31+Z31+AG31+AN31+AU31+BB31+BI31+BP31 -> 0 | BX31: =G31+M31+T31+AA31+AH31+AO31+AV31+BC31+BJ31+BQ31 -> 0 | BY31: =H31+N31+U31+AB31+AI31+AP31+AW31+BD31+BK31+BR31 -> 0 | BZ31: =I31+O31+V31+AC31+AJ31+AQ31+AX31+BE31+BL31+BS31 -> 0
A32: K1 | B32: Személyi juttatások összesen | C32: =SUM(C11+C20) -> 49758 | D32: =SUM(D11+D20) -> 44580 | E32: =SUM(E11+E20) -> 44954 | F32: =SUM(F11+F20) -> 0 | G32: =SUM(G11+G20) -> 0 | H32: =SUM(H11+H20) -> 0 | I32: =SUM(I11+I20) -> 0 | J32: =SUM(J11+J20) -> 0 | ... M32: =SUM(M11+M20) -> 0 | O32: =SUM(O11+O20) -> 0 | P32: =SUM(P11+P20) -> 0 | Q32: =SUM(Q11+Q20) -> 0 | R32: =SUM(R11+R20) -> 0 | S32: =SUM(S11+S20) -> 0 | T32: =SUM(T11+T20) -> 0 | U32: =SUM(U11+U20) -> 0 | V32: =SUM(V11+V20) -> 0 | ... AR32: =SUM(AR11+AR20) -> 0 | AT32: =SUM(AT11+AT20) -> 0 | AU32: =SUM(AU11+AU20) -> 0 | AV32: =SUM(AV11+AV20) -> 0 | AX32: =SUM(AX11+AX20) -> 0 | AY32: =SUM(AY11+AY20) -> 0 | BA32: =SUM(BA11+BA20) -> 0 | BB32: =SUM(BB11+BB20) -> 0 | BC32: =SUM(BC11+BC20) -> 0 | BE32: =SUM(BE11+BE20) -> 0 | BF32: =SUM(BF11+BF20) -> 4671 | BG32: =SUM(BG11+BG20) -> 6250 | BH32: =SUM(BH11+BH20) -> 6204 | BI32: =SUM(BI11+BI20) -> 0 | BJ32: =SUM(BJ11+BJ20) -> 0 | BK32: =SUM(BK11+BK20) -> 0 | BL32: =SUM(BL11+BL20) -> 0 | ... BS32: =SUM(BS11+BS20) -> 0 | BT32: =C32+J32+P32+W32+AD32+AK32+AR32+AY32+BF32+BM32 -> 77514 | BU32: =D32+K32+Q32+X32+AE32+AL32+AS32+AZ32+BG32+BN32 -> 74011 | BV32: =E32+K32+R32+Y32+AF32+AM32+AT32+BA32+BH32+BO32 -> 74385 | BW32: =F32+L32+S32+Z32+AG32+AN32+AU32+BB32+BI32+BP32 -> 0 | BX32: =G32+M32+T32+AA32+AH32+AO32+AV32+BC32+BJ32+BQ32 -> 0 | BY32: =H32+N32+U32+AB32+AI32+AP32+AW32+BD32+BK32+BR32 -> 0 | BZ32: =I32+O32+V32+AC32+AJ32+AQ32+AX32+BE32+BL32+BS32 -> 0
B33: Szociális hozzájárulási adó | C33: 5393 | D33: =4738+280 -> 5018 | E33: =4738+280-175+245 -> 5088 | F33: 0 | G33: 0 | H33: 0 | I33: 0 | W33: 164 | X33: 180 | Y33: =180+3 -> 183 | Z33: 0 | AA33: 0 | AB33: 0 | AC33: 0 | AD33: 796 | AE33: 746 | AF33: =746-3 -> 743 | AG33: 0 | AH33: 0 | AI33: 0 | AJ33: 0 | AK33: 347 | AL33: 431 | AM33: 431 | AN33: 0 | AO33: 0 | AP33: 0 | AQ33: 0 | BF33: 562 | BG33: =676+280 -> 956 | BH33: =676+280 -> 956 | BI33: 0 | BJ33: 0 | BK33: 0 | BL33: 0 | BM33: 819 | BN33: 797 | BO33: 797 | BP33: 0 | BQ33: 0 | BR33: 0 | BS33: 0 | BT33: =C33+J33+P33+W33+AD33+AK33+AR33+AY33+BF33+BM33 -> 8081 | BU33: =D33+K33+Q33+X33+AE33+AL33+AS33+AZ33+BG33+BN33 -> 8128 | BV33: =E33+K33+R33+Y33+AF33+AM33+AT33+BA33+BH33+BO33 -> 8198 | BW33: =F33+L33+S33+Z33+AG33+AN33+AU33+BB33+BI33+BP33 -> 0 | BX33: =G33+M33+T33+AA33+AH33+AO33+AV33+BC33+BJ33+BQ33 -> 0 | BY33: =H33+N33+U33+AB33+AI33+AP33+AW33+BD33+BK33+BR33 -> 0 | BZ33: =I33+O33+V33+AC33+AJ33+AQ33+AX33+BE33+BL33+BS33 -> 0
B34: Egészségügyi hozzájárulás | BT34: =C34+J34+P34+W34+AD34+AK34+AR34+AY34+BF34+BM34+#REF! -> #REF! | BU34: =D34+K34+Q34+X34+AE34+AL34+AS34+AZ34+BG34+BN34+#REF! -> #REF! | BV34: =E34+K34+R34+Y34+AF34+AM34+AT34+BA34+BH34+BO34+#REF! -> #REF! | BW34: =F34+L34+S34+Z34+AG34+AN34+AU34+BB34+BI34+BP34+#REF! -> #REF! | BX34: =G34+M34+T34+AA34+AH34+AO34+AV34+BC34+BJ34+BQ34+#REF! -> #REF! | BY34: =H34+N34+U34+AB34+AI34+AP34+AW34+BD34+BK34+BR34+#REF! -> #REF! | BZ34: =I34+O34+V34+AC34+AJ34+AQ34+AX34+BE34+BL34+BS34+#REF! -> #REF!
B35: Munkáltatót terhelő szja | C35: 528 | D35: 613 | E35: =613-156 -> 457 | F35: 0 | G35: 0 | H35: 0 | I35: 0 | AD35: 32 | AE35: 29 | AF35: =29-2 -> 27 | AG35: 0 | AH35: 0 | AI35: 0 | AJ35: 0 | AK35: 11 | AL35: 11 | AM35: 11 | AN35: 0 | AO35: 0 | AP35: 0 | AQ35: 0 | BF35: 19 | BG35: 15 | BH35: =15+156 -> 171 | BI35: 0 | BJ35: 0 | BK35: 0 | BL35: 0 | BM35: 17 | BN35: 15 | BO35: =15+2 -> 17 | BP35: 0 | BQ35: 0 | BR35: 0 | BS35: 0 | BT35: =C35+J35+P35+W35+AD35+AK35+AR35+AY35+BF35+BM35 -> 607 | BU35: =D35+K35+Q35+X35+AE35+AL35+AS35+AZ35+BG35+BN35 -> 683 | BV35: =E35+K35+R35+Y35+AF35+AM35+AT35+BA35+BH35+BO35 -> 683 | BW35: =F35+L35+S35+Z35+AG35+AN35+AU35+BB35+BI35+BP35 -> 0 | BX35: =G35+M35+T35+AA35+AH35+AO35+AV35+BC35+BJ35+BQ35 -> 0 | BY35: =H35+N35+U35+AB35+AI35+AP35+AW35+BD35+BK35+BR35 -> 0 | BZ35: =I35+O35+V35+AC35+AJ35+AQ35+AX35+BE35+BL35+BS35 -> 0
